BEGIN:VCALENDAR
VERSION:2.0
PRODID:-//Greater Elkhart Chamber of Commerce - ECPv6.15.7//NONSGML v1.0//EN
CALSCALE:GREGORIAN
METHOD:PUBLISH
X-ORIGINAL-URL:https://www.elkhart.org
X-WR-CALDESC:Events for Greater Elkhart Chamber of Commerce
REFRESH-INTERVAL;VALUE=DURATION:PT1H
X-Robots-Tag:noindex
X-PUBLISHED-TTL:PT1H
BEGIN:VTIMEZONE
TZID:America/Indiana/Indianapolis
BEGIN:DAYLIGHT
TZOFFSETFROM:-0500
TZOFFSETTO:-0400
TZNAME:EDT
DTSTART:20210314T070000
END:DAYLIGHT
BEGIN:STANDARD
TZOFFSETFROM:-0400
TZOFFSETTO:-0500
TZNAME:EST
DTSTART:20211107T060000
END:STANDARD
BEGIN:DAYLIGHT
TZOFFSETFROM:-0500
TZOFFSETTO:-0400
TZNAME:EDT
DTSTART:20220313T070000
END:DAYLIGHT
BEGIN:STANDARD
TZOFFSETFROM:-0400
TZOFFSETTO:-0500
TZNAME:EST
DTSTART:20221106T060000
END:STANDARD
BEGIN:DAYLIGHT
TZOFFSETFROM:-0500
TZOFFSETTO:-0400
TZNAME:EDT
DTSTART:20230312T070000
END:DAYLIGHT
BEGIN:STANDARD
TZOFFSETFROM:-0400
TZOFFSETTO:-0500
TZNAME:EST
DTSTART:20231105T060000
END:STANDARD
END:VTIMEZONE
BEGIN:VEVENT
DTSTART;TZID=America/Indiana/Indianapolis:20220525T180000
DTEND;TZID=America/Indiana/Indianapolis:20220525T190000
DTSTAMP:20260423T051820
CREATED:20220525T220000Z
LAST-MODIFIED:20220602T135040Z
UID:23755-1653501600-1653505200@www.elkhart.org
SUMMARY:Wellfield Botanic Gardens Yoga in the Gardens
DESCRIPTION:Yoga is a wonderful way to reduce stress\, improve physical health and get in tune with yourself. Experiencing Yoga in the Gardens has the added benefit of connecting you with nature. Classes are open to all levels\, beginner to experienced yogis welcome! Classes are $8 per session for members and $10 per session for non-members. Or\, save money with a 10-class punch card and get one class FREE! You can use your punch card for any 10 yoga\, yoga nidra or tai chi classes offered at Wellfield during the 2022 season.
URL:https://www.elkhart.org/event/wellfield-botanic-gardens-yoga-in-the-gardens/2022-05-25/
LOCATION:Wellfield Botanic Gardens\, 1011 North Main Street\, Elkhart\, IN\, 46514\, United States
CATEGORIES:Member
END:VEVENT
END:VCALENDAR