BEGIN:VCALENDAR
VERSION:2.0
PRODID:-//Greater Elkhart Chamber of Commerce - ECPv6.15.7//NONSGML v1.0//EN
CALSCALE:GREGORIAN
METHOD:PUBLISH
X-WR-CALNAME:Greater Elkhart Chamber of Commerce
X-ORIGINAL-URL:https://www.elkhart.org
X-WR-CALDESC:Events for Greater Elkhart Chamber of Commerce
REFRESH-INTERVAL;VALUE=DURATION:PT1H
X-Robots-Tag:noindex
X-PUBLISHED-TTL:PT1H
BEGIN:VTIMEZONE
TZID:America/Indiana/Indianapolis
BEGIN:DAYLIGHT
TZOFFSETFROM:-0500
TZOFFSETTO:-0400
TZNAME:EDT
DTSTART:20240310T070000
END:DAYLIGHT
BEGIN:STANDARD
TZOFFSETFROM:-0400
TZOFFSETTO:-0500
TZNAME:EST
DTSTART:20241103T060000
END:STANDARD
BEGIN:DAYLIGHT
TZOFFSETFROM:-0500
TZOFFSETTO:-0400
TZNAME:EDT
DTSTART:20250309T070000
END:DAYLIGHT
BEGIN:STANDARD
TZOFFSETFROM:-0400
TZOFFSETTO:-0500
TZNAME:EST
DTSTART:20251102T060000
END:STANDARD
BEGIN:DAYLIGHT
TZOFFSETFROM:-0500
TZOFFSETTO:-0400
TZNAME:EDT
DTSTART:20260308T070000
END:DAYLIGHT
BEGIN:STANDARD
TZOFFSETFROM:-0400
TZOFFSETTO:-0500
TZNAME:EST
DTSTART:20261101T060000
END:STANDARD
END:VTIMEZONE
BEGIN:VEVENT
DTSTART;TZID=America/Indiana/Indianapolis:20250827T170000
DTEND;TZID=America/Indiana/Indianapolis:20250827T180000
DTSTAMP:20260420T230138
CREATED:20250730T210000Z
LAST-MODIFIED:20250730T210000Z
UID:40682-1756314000-1756317600@www.elkhart.org
SUMMARY:Kids Yoga
DESCRIPTION:~Back to School Schedule~\nKIDS YOGA is moving to 5pm!\nEVERY WEDNESDAY!\nDrop-in rate for kids is $10\, we also have a package of 10 classes for $80 or our Kid/Teen Membership of unlimited access for $30 per month!
URL:https://www.elkhart.org/event/kids-yoga/2025-08-27/
LOCATION:The Yoga Realm
CATEGORIES:Member
END:VEVENT
BEGIN:VEVENT
DTSTART;TZID=America/Indiana/Indianapolis:20250820T170000
DTEND;TZID=America/Indiana/Indianapolis:20250820T180000
DTSTAMP:20260420T230138
CREATED:20250730T210000Z
LAST-MODIFIED:20250730T210000Z
UID:40681-1755709200-1755712800@www.elkhart.org
SUMMARY:Kids Yoga
DESCRIPTION:~Back to School Schedule~\nKIDS YOGA is moving to 5pm!\nEVERY WEDNESDAY!\nDrop-in rate for kids is $10\, we also have a package of 10 classes for $80 or our Kid/Teen Membership of unlimited access for $30 per month!
URL:https://www.elkhart.org/event/kids-yoga/2025-08-20/
LOCATION:The Yoga Realm
CATEGORIES:Member
END:VEVENT
BEGIN:VEVENT
DTSTART;TZID=America/Indiana/Indianapolis:20250813T170000
DTEND;TZID=America/Indiana/Indianapolis:20250813T180000
DTSTAMP:20260420T230138
CREATED:20250730T210000Z
LAST-MODIFIED:20250730T210000Z
UID:40680-1755104400-1755108000@www.elkhart.org
SUMMARY:Kids Yoga
DESCRIPTION:~Back to School Schedule~\nKIDS YOGA is moving to 5pm!\nEVERY WEDNESDAY!\nDrop-in rate for kids is $10\, we also have a package of 10 classes for $80 or our Kid/Teen Membership of unlimited access for $30 per month!
URL:https://www.elkhart.org/event/kids-yoga/2025-08-13/
LOCATION:The Yoga Realm
CATEGORIES:Member
END:VEVENT
BEGIN:VEVENT
DTSTART;TZID=America/Indiana/Indianapolis:20250806T170000
DTEND;TZID=America/Indiana/Indianapolis:20250806T180000
DTSTAMP:20260420T230138
CREATED:20250730T210000Z
LAST-MODIFIED:20250731T155134Z
UID:40619-1754499600-1754503200@www.elkhart.org
SUMMARY:Kids Yoga
DESCRIPTION:~Back to School Schedule~\nKIDS YOGA is moving to 5pm!\nEVERY WEDNESDAY!\nDrop-in rate for kids is $10\, we also have a package of 10 classes for $80 or our Kid/Teen Membership of unlimited access for $30 per month!
URL:https://www.elkhart.org/event/kids-yoga/2025-08-06/
LOCATION:The Yoga Realm
CATEGORIES:Member
END:VEVENT
END:VCALENDAR