BEGIN:VCALENDAR
VERSION:2.0
PRODID:-//Greater Elkhart Chamber of Commerce - ECPv6.15.7//NONSGML v1.0//EN
CALSCALE:GREGORIAN
METHOD:PUBLISH
X-WR-CALNAME:Greater Elkhart Chamber of Commerce
X-ORIGINAL-URL:https://www.elkhart.org
X-WR-CALDESC:Events for Greater Elkhart Chamber of Commerce
REFRESH-INTERVAL;VALUE=DURATION:PT1H
X-Robots-Tag:noindex
X-PUBLISHED-TTL:PT1H
BEGIN:VTIMEZONE
TZID:America/Indiana/Indianapolis
BEGIN:DAYLIGHT
TZOFFSETFROM:-0500
TZOFFSETTO:-0400
TZNAME:EDT
DTSTART:20250309T070000
END:DAYLIGHT
BEGIN:STANDARD
TZOFFSETFROM:-0400
TZOFFSETTO:-0500
TZNAME:EST
DTSTART:20251102T060000
END:STANDARD
BEGIN:DAYLIGHT
TZOFFSETFROM:-0500
TZOFFSETTO:-0400
TZNAME:EDT
DTSTART:20260308T070000
END:DAYLIGHT
BEGIN:STANDARD
TZOFFSETFROM:-0400
TZOFFSETTO:-0500
TZNAME:EST
DTSTART:20261101T060000
END:STANDARD
BEGIN:DAYLIGHT
TZOFFSETFROM:-0500
TZOFFSETTO:-0400
TZNAME:EDT
DTSTART:20270314T070000
END:DAYLIGHT
BEGIN:STANDARD
TZOFFSETFROM:-0400
TZOFFSETTO:-0500
TZNAME:EST
DTSTART:20271107T060000
END:STANDARD
END:VTIMEZONE
BEGIN:VEVENT
DTSTART;TZID=America/Indiana/Indianapolis:20260412T150000
DTEND;TZID=America/Indiana/Indianapolis:20260412T180000
DTSTAMP:20260424T172457
CREATED:20260326T190000Z
LAST-MODIFIED:20260330T132359Z
UID:44783-1776006000-1776016800@www.elkhart.org
SUMMARY:The Lerner Loves You: Grease – Rockin’ Rydell Edition
DESCRIPTION:The Lerner Theatre is proud to announce the return of The Lerner Loves You\, a free community movie series created as a heartfelt thank-you to the people of Elkhart and surrounding communities. Made possible by the Elkhart County CVB\, the series invites audiences to gather once again inside the iconic downtown venue for shared moments of cinema\, connection\, and joy. \nJoin us for the outrageously fun sing-along version of “Grease – Rockin’ Rydell Edition”. A goody two-shoes from Australia falls in love with a greaser over a summer. When her family moves to the boy’s hometown\, and she enrolls at the same high school\, they have a difficult time maintaining their relationship. \nRun Time: 110 minutes \nCast: John Travolta\, Stockard Channing\, Jeff Conaway\, Barry Pearl\, Didi Conn \nReleased: 1978 \nWe’re thrilled to partner with the Elkhart Community Chorus and Elkhart 311 for this special event! \nThe Elkhart Community Chorus\, originally formed to perform at The Lerner’s grand reopening in 2011\, will take the stage to lead our Grease Sing-Along\, bringing energy\, music\, and fun for the whole audience! We encourage everyone to dress in your best 50s attire and sing along to classics like “Summer Nights” and “You’re the One That I Want.” \nWe’re also pleased to have Elkhart 311 in the lobby. This is the City of Elkhart’s non-emergency service that helps residents report everyday concerns such as potholes\, graffiti\, and neighborhood maintenance issues. Accessible through the MyElkhart311 app or by dialing 311\, the service connects community members directly with city departments to help keep Elkhart running smoothly. \nBe sure to stop by the lobby to visit both of our community partners and learn more about local programs\, resources\, and upcoming opportunities — all before the movie begins! \nAbout The Lerner Loves You Series: \nThe historic Lerner Theatre\, a beloved centerpiece and cultural treasure of Downtown Elkhart\, is proud to announce the return of The Lerner Loves You\, a free community movie series created as a heartfelt thank-you to the people of Elkhart and surrounding communities. Made possible by the Elkhart County CVB \, the series invites audiences to gather once again inside the iconic downtown venue for shared moments of cinema\, connection\, and joy. \nBuilding on the success of its inaugural run\, The Lerner Loves You continues The Lerner Theatre’s long tradition as a gathering place for moviegoers—dating back to its early days as “The ELCO.” This special series features a thoughtfully curated selection of beloved films from across generations\, celebrating storytelling\, culture\, and the magic of seeing movies together on the big screen. \nThe series will take place monthly on select Sunday afternoons at 3:00 pm\, February until May and then continuing from October until December\, offering audiences the chance to enjoy films on the Lerner’s grand screen free of charge. Each film will be shown in the Lerner Theatre’s auditorium\, inviting guests to experience the magic of cinema in a setting like no other. Seating is first-come\, first-served. \nSPONSORED BY THE ELKHART COUNTY CVB
URL:https://www.elkhart.org/event/the-lerner-loves-you-grease-rockin-rydell-edition/
LOCATION:The Lerner Theatre
CATEGORIES:Member
END:VEVENT
BEGIN:VEVENT
DTSTART;TZID=America/Indiana/Indianapolis:20260414T100000
DTEND;TZID=America/Indiana/Indianapolis:20260414T113000
DTSTAMP:20260424T172457
CREATED:20260127T150000Z
LAST-MODIFIED:20260130T183641Z
UID:43515-1776160800-1776166200@www.elkhart.org
SUMMARY:Question\, Persuade\, Refer (QPR)
DESCRIPTION:The QPR Institute’s mission is to save lives and reduce suicidal behaviors by providing innovative\, practical\, and proven suicide prevention training. \nAs a certified QPR Gatekeeper\, you will learn to: \n1. Recognize the warning signs of suicide\n2. Increase awareness of stigma and understand suicide as a public health issue\n3. Know how to offer hope\n4. Know how to access local and national referral resources\n5. Know how to get help and save a life \nThis training is only $15. For registration\, please contact Amanda Noland at anoland@elkhartcounty.com
URL:https://www.elkhart.org/event/question-persuade-refer-qpr-2/
LOCATION:Ivy Tech Community College\, 22531 CR 18\, Goshen\, IN\, United States
CATEGORIES:Member
END:VEVENT
BEGIN:VEVENT
DTSTART;TZID=America/Indiana/Indianapolis:20260416T140000
DTEND;TZID=America/Indiana/Indianapolis:20260416T153000
DTSTAMP:20260424T172457
CREATED:20260124T190000Z
LAST-MODIFIED:20260130T183505Z
UID:43516-1776348000-1776353400@www.elkhart.org
SUMMARY:Question\, Persuade\, Refer (QPR)
DESCRIPTION:The QPR Institute’s mission is to save lives and reduce suicidal behaviors by providing innovative\, practical\, and proven suicide prevention training. \nAs a certified QPR Gatekeeper\, you will learn: \n1. Recognize the warning signs of suicide\n2. Increase awareness of stigma and understand suicide as a public health issue\n3. Know how to offer hope\n4. Know how to access local and national referral resources\n5. Know how to get help and save a life \nThis training is only $15. For registration\, please contact Amanda Noland at anoland@elkhartcounty.com
URL:https://www.elkhart.org/event/question-persuade-refer-qpr/
LOCATION:Ivy Tech Community College\, 22531 CR 18\, Goshen\, IN\, United States
CATEGORIES:Member
END:VEVENT
BEGIN:VEVENT
DTSTART;TZID=America/Indiana/Indianapolis:20260417T183000
DTEND;TZID=America/Indiana/Indianapolis:20260417T193000
DTSTAMP:20260424T172457
CREATED:20260331T223000Z
LAST-MODIFIED:20260331T171321Z
UID:44851-1776450600-1776454200@www.elkhart.org
SUMMARY:Elkhart Christian Academy Legacy Campaign Launch
DESCRIPTION:Strong communities are built through strong schools\, and Elkhart Christian Academy is committed to serving families with excellence and purpose. As we prepare to expand our campus and grow educational opportunities\, this next chapter represents a meaningful investment in the future of students and the broader community. We invite you to join us and hear how this vision will continue to serve Elkhart. \nJoin us on Friday\, April 17\, 2026 from 6:30–7:30pm at Elkhart Christian Academy for the Legacy Launch. \nThe evening will include:\n• Worship led by our high school students\n• A special message from our Superintendent\, Mr. Jean Milfort\n• A look back at the rich history of ECA—and a glimpse into its exciting future\n• A dessert reception with our elementary worship team \nAs Psalm 127:1 reminds us\, “Unless the Lord builds the house\, the builders labor in vain.” Our goal is to continue serving the community by forming students of character\, faith\, and leadership.\nThis is a vision event only—no financial commitments will be requested. Opportunities for financial engagement and support will follow in the weeks ahead.\nWe would be honored by your presence. \nRSVP here: Legacy Launch Friday\, April 17\, 2026 – Fill out form
URL:https://www.elkhart.org/event/elkhart-christian-academy-legacy-campaign-launch/
LOCATION:IN
CATEGORIES:Member
END:VEVENT
BEGIN:VEVENT
DTSTART;TZID=America/Indiana/Indianapolis:20260418T190000
DTEND;TZID=America/Indiana/Indianapolis:20260418T220000
DTSTAMP:20260424T172457
CREATED:20260328T230000Z
LAST-MODIFIED:20260331T175302Z
UID:44781-1776538800-1776549600@www.elkhart.org
SUMMARY:Dixon’s Violin
DESCRIPTION:Experience the extraordinary! Join us for a rare evening of breathtaking violin like you’ve never heard before\, as seen across North America and beyond. Be inspired by the electric violin\, re-imagined by acclaimed artist Dixon\, live in concert! Don’t just hear the music – feel it. Get tickets while they last! \n“Unlike anything I’ve ever witnessed. The music was simply incredible”\n“The sound of a dream”\n“The most beautiful thing my ears have ever heard”\n“The violinist that is changing the world”\n“Standing ovation”\n“Not your ordinary violinist”\n“Some of us cried at the end but we all smiled through those tears” \nAbout Dixon’s Violin:\nYou’ve never heard violin like this! The world’s premier visionary violinist\, Dixon’s life mission is to inspire people – and he has done so at over 1\,000 concerts across North America\, including giving five TED talks/performances\, over ten years at Burning Man and Electric Forest\, plus radio\, TV\, and film appearances. A former technology leader and symphony violinist\, Dixon walked away from a distinguished career to follow his dream full-time\, and invented a whole new music genre. Dixon now improvises on a 5-string electric violin with a looping system he developed to create an all-live one-man symphony\, guided by his remarkable personal story of life transformation.
URL:https://www.elkhart.org/event/dixons-violin/
LOCATION:Crystal Ballroom at the Lerner Theatre\, 410 S Main St\, Elkhart\, 46516\, United States
CATEGORIES:Member
END:VEVENT
BEGIN:VEVENT
DTSTART;TZID=America/Indiana/Indianapolis:20260418T193000
DTEND;TZID=America/Indiana/Indianapolis:20260418T223000
DTSTAMP:20260424T172457
CREATED:20260327T233000Z
LAST-MODIFIED:20260331T180014Z
UID:44782-1776540600-1776551400@www.elkhart.org
SUMMARY:Bat Out Of Hell – The Musical
DESCRIPTION:BAT OUT OF HELL THE MUSICAL\, the award-winning musical\, is a thrilling spectacle where the timeless music of Jim Steinman and Meat Loaf reigns supreme! \nGet ready for an electrifying experience that will ignite your passion for rock ‘n’ roll! \nBat Out Of Hell – The Musical promises to be a thrilling experience\, featuring a dynamic eight-piece rock band live on stage. \nSprawling multi-level platforms will transport you through the diverse worlds of Bat Out of Hell\, from Raven’s bedroom to the depths of the Lost’s underground\ndomains. \nAn epic cast will bring their powerhouse vocals to Meat Loaf’s anthems including I’d Do Anything For Love (But I Won’t Do That)\, Paradise By The Dashboard Light\, Two\nOut Of Three Ain’t Bad\, Dead Ringer For Love\, It’s All Coming Back to Me\, and of course Bat Out of Hell. \nGet ready to witness BAT OUT OF HELL: The Musical as it explodes onto the stage at THE LERNER THEATRE FOR ONE NIGHT ONLY ON APRIL 18\, 2026\, in a spectacle that promises to be nothing short of legendary.
URL:https://www.elkhart.org/event/bat-out-of-hell-the-musical/
LOCATION:The Lerner Theatre
CATEGORIES:Member
END:VEVENT
END:VCALENDAR