BEGIN:VCALENDAR
VERSION:2.0
PRODID:-//Greater Elkhart Chamber of Commerce - ECPv6.15.7//NONSGML v1.0//EN
CALSCALE:GREGORIAN
METHOD:PUBLISH
X-ORIGINAL-URL:https://www.elkhart.org
X-WR-CALDESC:Events for Greater Elkhart Chamber of Commerce
REFRESH-INTERVAL;VALUE=DURATION:PT1H
X-Robots-Tag:noindex
X-PUBLISHED-TTL:PT1H
BEGIN:VTIMEZONE
TZID:America/Indiana/Indianapolis
BEGIN:DAYLIGHT
TZOFFSETFROM:-0500
TZOFFSETTO:-0400
TZNAME:EDT
DTSTART:20250309T070000
END:DAYLIGHT
BEGIN:STANDARD
TZOFFSETFROM:-0400
TZOFFSETTO:-0500
TZNAME:EST
DTSTART:20251102T060000
END:STANDARD
BEGIN:DAYLIGHT
TZOFFSETFROM:-0500
TZOFFSETTO:-0400
TZNAME:EDT
DTSTART:20260308T070000
END:DAYLIGHT
BEGIN:STANDARD
TZOFFSETFROM:-0400
TZOFFSETTO:-0500
TZNAME:EST
DTSTART:20261101T060000
END:STANDARD
BEGIN:DAYLIGHT
TZOFFSETFROM:-0500
TZOFFSETTO:-0400
TZNAME:EDT
DTSTART:20270314T070000
END:DAYLIGHT
BEGIN:STANDARD
TZOFFSETFROM:-0400
TZOFFSETTO:-0500
TZNAME:EST
DTSTART:20271107T060000
END:STANDARD
END:VTIMEZONE
BEGIN:VEVENT
DTSTART;TZID=America/Indiana/Indianapolis:20260220T120000
DTEND;TZID=America/Indiana/Indianapolis:20260222T160000
DTSTAMP:20260421T170352
CREATED:20260113T170000Z
LAST-MODIFIED:20260113T165534Z
UID:42995-1771588800-1771776000@www.elkhart.org
SUMMARY:2026 Home & Outdoor Expo
DESCRIPTION:The Builders Association of Elkhart County invites you to the 2026 Home & Outdoor Expo\, a FREE three-day event designed to inspire\, inform\, and connect our community with trusted home and outdoor professionals. \nWhether you’re planning a remodel\, building a new home\, updating your outdoor space\, or simply gathering ideas for the future\, the Home & Outdoor Expo brings together a wide variety of vendors offering quality products and services for every stage of homeownership. \nThis family-friendly event is a great opportunity to meet local experts\, ask questions\, and explore ideas all in one place. \nDates & Times:\nFriday\, February 20 | 12 PM – 6 PM\nSaturday\, February 21 | 8 AM – 6 PM\nSunday\, February 22 | 11 AM – 4 PM \nLocation:\nNorthern Indiana Event Center at the RV Hall of Fame \nWe’re proud to recognize our Premier Sponsor:\n• Neighborly (a community of home-service experts featuring Glass Doctor\, 5-Star Painting\, Mr. Handyman\, and Mosquito Joe South Bend) \nAnd our Gold Sponsors:\n• Innovative Spaces\n• H&H Custom-Made Vinyl Fencing Co. \nThank you to our sponsors for their support in making this event possible. \nSave the date and join us for a weekend full of inspiration\, expertise\, and community connection.
URL:https://www.elkhart.org/event/2026-home-outdoor-expo/
LOCATION:Northern Indiana Event Center\, 21565 Executive Pkwy\, Elkhart\, IN\, 46516\, United States
CATEGORIES:Member
END:VEVENT
BEGIN:VEVENT
DTSTART;TZID=America/Indiana/Indianapolis:20260222T150000
DTEND;TZID=America/Indiana/Indianapolis:20260222T163000
DTSTAMP:20260421T170352
CREATED:20260128T200000Z
LAST-MODIFIED:20260130T180131Z
UID:43610-1771772400-1771777800@www.elkhart.org
SUMMARY:Voices in Colors for Social Justice: Art Exhibit Reception
DESCRIPTION:Center for Healing & Hope and local artist Francisco Ávila invite you to attend this special event on Sunday\, February 22. Meet the artist\, see the works\, and hear the stories behind them. Free to attend. \nExhibit Description: The art collection currently on display at Center for Healing & Hope features works from the larger series titled “Voices in Colors for Social Justice.” The series serves as an expression of awareness and collective healing; highlighting both struggles and hopes of communities striving for justice and dignity. Each artwork captures the cries and shouts that embody the journey from suffering to resilience in the face of adversity. Several pieces specifically reflect the ongoing social and political realities present in Venezuela. \nAll pieces on display are available for purchase. Mr. Ávila will be donating a portion of the sales to Center for Healing & Hope.
URL:https://www.elkhart.org/event/voices-in-colors-for-social-justice-art-exhibit-reception/
LOCATION:Center for Healing & Hope – Goshen\, 400 W. Lincoln Avenue\, Goshen\, IN\, United States
CATEGORIES:Member
END:VEVENT
BEGIN:VEVENT
DTSTART;TZID=America/Indiana/Indianapolis:20260224T120000
DTEND;TZID=America/Indiana/Indianapolis:20260224T130000
DTSTAMP:20260421T170352
CREATED:20260212T170000Z
LAST-MODIFIED:20260212T171021Z
UID:44006-1771934400-1771938000@www.elkhart.org
SUMMARY:Unlocking the Mystery of Downsizing
DESCRIPTION:Join us at Brentwood at Elkhart Assisted Livingfor an educational Lunch and Learn. Have questions about downsizing and how to do it. Where does the stuff go? What is an estate auction? Come get your questions answered by Realtor Jenny Weldy.
URL:https://www.elkhart.org/event/unlocking-the-mystery-of-downsizing/
LOCATION:Brentwood at Elkhart\, 3109 E Bristol St\, Elkhart\, IN\, United States
CATEGORIES:Member
END:VEVENT
BEGIN:VEVENT
DTSTART;TZID=America/Indiana/Indianapolis:20260225T173000
DTEND;TZID=America/Indiana/Indianapolis:20260225T190000
DTSTAMP:20260421T170352
CREATED:20260217T153000Z
LAST-MODIFIED:20260217T143308Z
UID:44106-1772040600-1772046000@www.elkhart.org
SUMMARY:Small Business Resource Guide Launch Event
DESCRIPTION:Over the last two and half years\, the City has been working with regional entrepreneurial support organizations (ESOs) to author a Small Business Resource Guide\, highlighting available resources in the area. We are having an event on Wednesday\, February 25 from 5:30-7:00 at the Lerner Theatre to officially launch the guide. A number of the ESOs mentioned in the attached guide will have tables\, giving business owners the chance to learn more about their services. There will also be a panel where ESOs will discuss available resources.
URL:https://www.elkhart.org/event/small-business-resource-guide-launch-event/
LOCATION:Lerner Theatre\, 410 S Main St\, Elkhart\, IN\, 46516\, United States
CATEGORIES:Member
END:VEVENT
BEGIN:VEVENT
DTSTART;TZID=America/Indiana/Indianapolis:20260226T110000
DTEND;TZID=America/Indiana/Indianapolis:20260226T130000
DTSTAMP:20260421T170352
CREATED:20260207T160000Z
LAST-MODIFIED:20260209T164237Z
UID:43817-1772103600-1772110800@www.elkhart.org
SUMMARY:WFRN Michiana Women's Alliance
DESCRIPTION:They’ve inspired us with their stories. They’ve shaped our community with their voices. Now\, it’s time to celebrate them. \nThe 2026 Cover Girl Awards\, presented by Michiana Women’s Alliance\, honors the remarkable women who have appeared on the cover of Inspire Magazine—women whose influence reaches far beyond the page. This special event recognizes leadership\, creativity\, resilience\, and the lasting impact these women have made throughout the Michiana community. \nJoin us for an inspiring morning of connection and celebration on February 26 at 11:00 AM at the Ivy Tech Community Center in Goshen. The event will be hosted by Lisa Yoder\, your choice of agent for State Farm Insurance. Lunch is provided!
URL:https://www.elkhart.org/event/wfrn-michiana-womens-alliance/
LOCATION:Ivy Tech Community College\, 22531 CR 18\, Goshen\, IN\, United States
CATEGORIES:Member
END:VEVENT
END:VCALENDAR