BEGIN:VCALENDAR
VERSION:2.0
PRODID:-//Greater Elkhart Chamber of Commerce - ECPv6.15.7//NONSGML v1.0//EN
CALSCALE:GREGORIAN
METHOD:PUBLISH
X-WR-CALNAME:Greater Elkhart Chamber of Commerce
X-ORIGINAL-URL:https://www.elkhart.org
X-WR-CALDESC:Events for Greater Elkhart Chamber of Commerce
REFRESH-INTERVAL;VALUE=DURATION:PT1H
X-Robots-Tag:noindex
X-PUBLISHED-TTL:PT1H
BEGIN:VTIMEZONE
TZID:America/Indiana/Indianapolis
BEGIN:DAYLIGHT
TZOFFSETFROM:-0500
TZOFFSETTO:-0400
TZNAME:EDT
DTSTART:20240310T070000
END:DAYLIGHT
BEGIN:STANDARD
TZOFFSETFROM:-0400
TZOFFSETTO:-0500
TZNAME:EST
DTSTART:20241103T060000
END:STANDARD
BEGIN:DAYLIGHT
TZOFFSETFROM:-0500
TZOFFSETTO:-0400
TZNAME:EDT
DTSTART:20250309T070000
END:DAYLIGHT
BEGIN:STANDARD
TZOFFSETFROM:-0400
TZOFFSETTO:-0500
TZNAME:EST
DTSTART:20251102T060000
END:STANDARD
BEGIN:DAYLIGHT
TZOFFSETFROM:-0500
TZOFFSETTO:-0400
TZNAME:EDT
DTSTART:20260308T070000
END:DAYLIGHT
BEGIN:STANDARD
TZOFFSETFROM:-0400
TZOFFSETTO:-0500
TZNAME:EST
DTSTART:20261101T060000
END:STANDARD
END:VTIMEZONE
BEGIN:VEVENT
DTSTART;TZID=America/Indiana/Indianapolis:20250804T083000
DTEND;TZID=America/Indiana/Indianapolis:20250804T180000
DTSTAMP:20260420T171009
CREATED:20250610T120000Z
LAST-MODIFIED:20250721T154259Z
UID:40105-1754296200-1754330400@www.elkhart.org
SUMMARY:Youth Savings Celebration
DESCRIPTION:Explore savings with Everence Federal Credit Union\, August 4-6! Our Youth Savings Celebration makes it fun for children and teens to learn how to save for the future\, share with others and spend responsibly. \nPlus\, we will give $5 to kids and teens who deposit at least $15 to their new or existing youth savings accounts. Learn more and see full account details at everence.com/youth-savings-celebration \nJoin us at 1301 College Ave. in Goshen for savings\, snacks\, activities and rewards. We hope to see you there!
URL:https://www.elkhart.org/event/youth-savings-celebration/2025-08-04/
LOCATION:Everence Financial\, 1110 N. Main St.\, Goshen\, IN\, United States
CATEGORIES:Member
END:VEVENT
BEGIN:VEVENT
DTSTART;TZID=America/Indiana/Indianapolis:20250805T083000
DTEND;TZID=America/Indiana/Indianapolis:20250805T180000
DTSTAMP:20260420T171009
CREATED:20250610T120000Z
LAST-MODIFIED:20250721T154503Z
UID:40124-1754382600-1754416800@www.elkhart.org
SUMMARY:Youth Savings Celebration
DESCRIPTION:Explore savings with Everence Federal Credit Union\, August 4-6! Our Youth Savings Celebration makes it fun for children and teens to learn how to save for the future\, share with others and spend responsibly. \nPlus\, we will give $5 to kids and teens who deposit at least $15 to their new or existing youth savings accounts. Learn more and see full account details at everence.com/youth-savings-celebration \nJoin us at 1301 College Ave. in Goshen for savings\, snacks\, activities and rewards. We hope to see you there!
URL:https://www.elkhart.org/event/youth-savings-celebration/2025-08-05/
LOCATION:Everence Financial\, 1110 N. Main St.\, Goshen\, IN\, United States
CATEGORIES:Member
END:VEVENT
BEGIN:VEVENT
DTSTART;TZID=America/Indiana/Indianapolis:20250806T083000
DTEND;TZID=America/Indiana/Indianapolis:20250806T180000
DTSTAMP:20260420T171009
CREATED:20250610T120000Z
LAST-MODIFIED:20250610T120000Z
UID:40125-1754469000-1754503200@www.elkhart.org
SUMMARY:Youth Savings Celebration
DESCRIPTION:Explore savings with Everence Federal Credit Union\, August 4-6! Our Youth Savings Celebration makes it fun for children and teens to learn how to save for the future\, share with others and spend responsibly. \nPlus\, we will give $5 to kids and teens who deposit at least $15 to their new or existing youth savings accounts. Learn more and see full account details at everence.com/youth-savings-celebration \nJoin us at 1301 College Ave. in Goshen for savings\, snacks\, activities and rewards. We hope to see you there!
URL:https://www.elkhart.org/event/youth-savings-celebration/2025-08-06/
LOCATION:Everence Financial\, 1110 N. Main St.\, Goshen\, IN\, United States
CATEGORIES:Member
END:VEVENT
BEGIN:VEVENT
DTSTART;TZID=America/Indiana/Indianapolis:20250806T170000
DTEND;TZID=America/Indiana/Indianapolis:20250806T180000
DTSTAMP:20260420T171009
CREATED:20250730T210000Z
LAST-MODIFIED:20250731T155134Z
UID:40619-1754499600-1754503200@www.elkhart.org
SUMMARY:Kids Yoga
DESCRIPTION:~Back to School Schedule~\nKIDS YOGA is moving to 5pm!\nEVERY WEDNESDAY!\nDrop-in rate for kids is $10\, we also have a package of 10 classes for $80 or our Kid/Teen Membership of unlimited access for $30 per month!
URL:https://www.elkhart.org/event/kids-yoga/2025-08-06/
LOCATION:The Yoga Realm
CATEGORIES:Member
END:VEVENT
BEGIN:VEVENT
DTSTART;TZID=America/Indiana/Indianapolis:20250807T083000
DTEND;TZID=America/Indiana/Indianapolis:20250807T120000
DTSTAMP:20260420T171009
CREATED:20250714T123000Z
LAST-MODIFIED:20250714T130316Z
UID:40376-1754555400-1754568000@www.elkhart.org
SUMMARY:Women Owned Business Forum
DESCRIPTION:Reimagine your marketing strategy with the power of AI and the strength of women in business. \nJoin us for Prime Time Connect\, an empowering morning designed for women business owners—whether you’re certified or just exploring the path. This high-energy event will focus on the 4Cs of Women in Business: Confidence\, Collaboration\, Communication\, and Challenges—and how these pillars are being reshaped through smarter tools and intentional connection. \nThrough interactive discussion\, expert insights\, and peer-driven best practices\, you’ll gain practical strategies and access to AI-driven tools that can help you market more effectively\, work more efficiently\, and scale more intentionally. \nWhy Attend?\n– Discover AI tools that make marketing easier and more impactful\n– Learn from fellow women leaders and entrepreneurs\n– Connect with WBENC-certified peers and resource partners\n– Leave with real strategies you can implement right away\n– Learn how to win enterprise-level corporate contracts \nWhether you’re just starting out or scaling fast\, this is your space to connect\, learn\, and grow—because when women support women\, real results follow. \nHosted by Specialized Staffing Solutions
URL:https://www.elkhart.org/event/women-owned-business-forum/
LOCATION:Ivy Tech Community College – South Bend\, 220 Dean Johnson Blvd\, South Bend\, IN
CATEGORIES:Member
END:VEVENT
BEGIN:VEVENT
DTSTART;TZID=America/Indiana/Indianapolis:20250807T100000
DTEND;TZID=America/Indiana/Indianapolis:20250808T163000
DTSTAMP:20260420T171009
CREATED:20250713T140000Z
LAST-MODIFIED:20250714T124754Z
UID:40174-1754560800-1754670600@www.elkhart.org
SUMMARY:Global Leadership Summit
DESCRIPTION:The Global Leadership Summit is coming on August 7 and 8\, presented by Everence and hosted by our partner\, Restōr Church. \nAt the Summit\, you will be inspired and equipped by world-class leadership experts to take your next steps forward. Through the event\, you can: \nGet your infusion of actionable leadership insights and inspiration. \nBe inspired to make forward momentum on your goals. \nParticipate in and discuss with others in the community to build leadership skills and your network. \nYou might be a seasoned leader—or you might not really consider yourself a leader at all—but that’s why we appreciate the Global Leadership Summit. It’s designed to elevate everyone\, encouraging you to move forward in the unique ways you’re designed to impact this world. \nLearn more or register at www.everence.com/GLS
URL:https://www.elkhart.org/event/global-leadership-summit/
LOCATION:Restor Church\, 406 S 5th St\, Goshen\, IN
CATEGORIES:Member
END:VEVENT
BEGIN:VEVENT
DTSTART;TZID=America/Indiana/Indianapolis:20250807T190000
DTEND;TZID=America/Indiana/Indianapolis:20250807T200000
DTSTAMP:20260420T171009
CREATED:20250730T230000Z
LAST-MODIFIED:20250731T154410Z
UID:40620-1754593200-1754596800@www.elkhart.org
SUMMARY:Yogic Sleep & Sound
DESCRIPTION:New Weekly Treat For YOU!\nNot only is Yogic Sleep (also known as Yoga Nidra) a practice that is effortless to do\, but it benefits your body and mind in various ways. From stress relief to improved sleep to treating chronic pain\, there are so many magnificent benefits from a regular yogic sleep practice. What’s more\, many of these benefits are backed by science!\n7 major benefits backed by science are:\n* Stress reduction\n* Lessens anxiety and PTSD\n* Improves sleep quality and combats insomnia\n* Treats chronic pain\n* Enhances cognitive function\n* Improves self-awareness and presence\n* Cleanses and balances the chakras \nSound healing is an ancient practice that harnesses the power of sound vibrations to promote healing and relaxation. Sounds have vibrations that affect us on a neurological\, physiological\, and biochemical level. A 2020 review notes that sound therapy can significantly alter brain waves\, changing agitated wave patterns to exceptionally calm wave forms. As our brain waves slow down\, we shift from an active state to a more relaxed\, dreamlike state.In this state\, our breathing\, heart rate\, and blood pressure decrease. This helps our immune system function more efficiently\, reduces our stress hormones\, and triggers the release of feel-good chemicals in the brain.\nResearch shows us that sound healing helps with:\n* Anxiety\n* Depression\n* Stress\n* Fatigue\n* Chronic pain\n* Cognition and memory\n* Overall mental and spiritual well-being\nSound healing can also be a form of self-care. A sound bath is a great way to relax\, decompress\, and connect to the present moment. \nIf you’ve been struggling to relax\, these ancient practices together are guaranteed to guide you to experience deep relaxation\, deeper restful sleep\, and many other benefits! What are you waiting for?!? Treat yourself – you deserve it! And your mind & body will thank you for it!\nCost is $20 or included with membership!
URL:https://www.elkhart.org/event/yogic-sleep-sound/2025-08-07/
LOCATION:The Yoga Realm
CATEGORIES:Member
END:VEVENT
BEGIN:VEVENT
DTSTART;TZID=America/Indiana/Indianapolis:20250808T173000
DTEND;TZID=America/Indiana/Indianapolis:20250808T183000
DTSTAMP:20260420T171009
CREATED:20250730T213000Z
LAST-MODIFIED:20250731T155621Z
UID:40621-1754674200-1754677800@www.elkhart.org
SUMMARY:Aquarius Full Moon Ceremony
DESCRIPTION:Aquarius Full Moon Ceremony\nDuring our Moon Ceremonies we include restorative yoga for inner contemplation\, we share an astrological forecast of what is taking place in our skies and how to use this energy\, we hold space for ourselves & others in a burning ceremony\, and we include guided meditation and/or ancient story-telling!\nJoin Ally & Casey for an evening of Moon Magic!\nCost is $20 or included with membership!
URL:https://www.elkhart.org/event/aquarius-full-moon-ceremony/
LOCATION:The Yoga Realm
CATEGORIES:Member
END:VEVENT
END:VCALENDAR