BEGIN:VCALENDAR
VERSION:2.0
PRODID:-//Greater Elkhart Chamber of Commerce - ECPv6.15.7//NONSGML v1.0//EN
CALSCALE:GREGORIAN
METHOD:PUBLISH
X-WR-CALNAME:Greater Elkhart Chamber of Commerce
X-ORIGINAL-URL:https://www.elkhart.org
X-WR-CALDESC:Events for Greater Elkhart Chamber of Commerce
REFRESH-INTERVAL;VALUE=DURATION:PT1H
X-Robots-Tag:noindex
X-PUBLISHED-TTL:PT1H
BEGIN:VTIMEZONE
TZID:America/Indiana/Indianapolis
BEGIN:DAYLIGHT
TZOFFSETFROM:-0500
TZOFFSETTO:-0400
TZNAME:EDT
DTSTART:20240310T070000
END:DAYLIGHT
BEGIN:STANDARD
TZOFFSETFROM:-0400
TZOFFSETTO:-0500
TZNAME:EST
DTSTART:20241103T060000
END:STANDARD
BEGIN:DAYLIGHT
TZOFFSETFROM:-0500
TZOFFSETTO:-0400
TZNAME:EDT
DTSTART:20250309T070000
END:DAYLIGHT
BEGIN:STANDARD
TZOFFSETFROM:-0400
TZOFFSETTO:-0500
TZNAME:EST
DTSTART:20251102T060000
END:STANDARD
BEGIN:DAYLIGHT
TZOFFSETFROM:-0500
TZOFFSETTO:-0400
TZNAME:EDT
DTSTART:20260308T070000
END:DAYLIGHT
BEGIN:STANDARD
TZOFFSETFROM:-0400
TZOFFSETTO:-0500
TZNAME:EST
DTSTART:20261101T060000
END:STANDARD
END:VTIMEZONE
BEGIN:VEVENT
DTSTART;TZID=America/Indiana/Indianapolis:20250727T140000
DTEND;TZID=America/Indiana/Indianapolis:20250727T150000
DTSTAMP:20260420T190405
CREATED:20250706T180000Z
LAST-MODIFIED:20250706T180000Z
UID:40418-1753624800-1753628400@www.elkhart.org
SUMMARY:Thick Girl Yoga
DESCRIPTION:Thick Girl Yoga\nEvery Sunday at 2pm\nThis class is perfect for those living in larger bodies; designed to meet you wherever you are – whether it’s your first class or a desire to deepen your practice. Yoga & body acceptance come together through practice. Our goal is to create a self-love experience for every student.\nCost is $20 or included with membership.
URL:https://www.elkhart.org/event/thick-girl-yoga/2025-07-27/
LOCATION:The Awakening Realm\, 130 S Main St\, Elkhart\, IN
CATEGORIES:Member
END:VEVENT
BEGIN:VEVENT
DTSTART;TZID=America/Indiana/Indianapolis:20250728T090000
DTEND;TZID=America/Indiana/Indianapolis:20250801T160000
DTSTAMP:20260420T190405
CREATED:20250528T130000Z
LAST-MODIFIED:20250610T121956Z
UID:40014-1753693200-1754064000@www.elkhart.org
SUMMARY:VEX IQ Robotics (4th-6th Grade)
DESCRIPTION:🛠️ VEX IQ Robotics (4th–6th Grade)\nJuly 28–August 1 | 9:00 AM–4:00 PM | $300\nTake robotics to the next level with VEX IQ—ideal for students with prior robotics experience. Please bring a sack lunch.
URL:https://www.elkhart.org/event/vex-iq-robotics-4th-6th-grade/
LOCATION:Ivy Tech Community College\, 22531 CR 18\, Goshen\, IN\, United States
CATEGORIES:Member
END:VEVENT
BEGIN:VEVENT
DTSTART;TZID=America/Indiana/Indianapolis:20250729T190000
DTEND;TZID=America/Indiana/Indianapolis:20250729T200000
DTSTAMP:20260420T190405
CREATED:20250728T130000Z
LAST-MODIFIED:20250727T235823Z
UID:40617-1753815600-1753819200@www.elkhart.org
SUMMARY:World Peace Meditation
DESCRIPTION:World Peace Meditation\nWe will meet at the studio & then walk down to the river to meditate on world peace!\nJoin us in lifting and raising the frequency of the world!\nSign up today to reserve your spot!\nCost is $10 or included with membership!
URL:https://www.elkhart.org/event/world-peace-meditation/
LOCATION:The Yoga Realm
CATEGORIES:Member
END:VEVENT
BEGIN:VEVENT
DTSTART;TZID=America/Indiana/Indianapolis:20250731T190000
DTEND;TZID=America/Indiana/Indianapolis:20250731T200000
DTSTAMP:20260420T190405
CREATED:20250728T130000Z
LAST-MODIFIED:20250728T000308Z
UID:40618-1753988400-1753992000@www.elkhart.org
SUMMARY:Laughter Yoga
DESCRIPTION:In honor of our July theme of the Inner Child we will be offering Laughter Yoga!\nLaughter Yoga is a fun & mindful practice with many benefits:\n* Relieves Pain\n* Increases Confidence\n* Reduces Stress\, Anxiety & Depression\n* Supports the Lungs\n* Increases Memory\n* Relaxes Muscles\n* Promotes overall well-being\n* Increases Creativity\nJoin us for a simple yoga practice that incorporates laughter in each pose!\nCost is $20 or included with membership!
URL:https://www.elkhart.org/event/laughter-yoga/
LOCATION:The Yoga Realm
CATEGORIES:Member
END:VEVENT
BEGIN:VEVENT
DTSTART;TZID=America/Indiana/Indianapolis:20250731T190000
DTEND;TZID=America/Indiana/Indianapolis:20250731T220000
DTSTAMP:20260420T190405
CREATED:20250723T170000Z
LAST-MODIFIED:20250723T153452Z
UID:40575-1753988400-1753999200@www.elkhart.org
SUMMARY:Open Mic Thirsty Thursday
DESCRIPTION:Any One 21+ welcome to show off your talent at the Open mic or just sit back and enjoy the talent of Elkhart!!\nComedy presented by 574 Comedy\, singing\, poems\, rapping\, ETC!! \nFood For sale\nDrinks for sale by Blissful Blends
URL:https://www.elkhart.org/event/open-mic-thirsty-thursday/
LOCATION:Lexington Event Center\, 112 W Lexington Ave\, Elkhart\, IN\, United States
CATEGORIES:Member
END:VEVENT
BEGIN:VEVENT
DTSTART;TZID=America/Indiana/Indianapolis:20250802T150000
DTEND;TZID=America/Indiana/Indianapolis:20250802T180000
DTSTAMP:20260420T190405
CREATED:20250725T140000Z
LAST-MODIFIED:20250725T141414Z
UID:40606-1754146800-1754157600@www.elkhart.org
SUMMARY:E3 Robotics Center's Open House & Fall Registration
DESCRIPTION:🚀 E3 Robotics Center Open House! 🧠🤖\nCurious about robotics or E-sports? Come explore the excitement at E3 Robotics Center’s Open House — where students (K–12) and parents can tour the facility\, meet our coaches\, and dive into hands-on fun! \nWhether your child loves to build\, code\, or compete\, this is the perfect chance to learn about our Fall robotics and E-sports classes and even sign up on the spot. \n🎮🤖 Come see what STEM-powered fun looks like — and take your first step into a future full of discovery! \nDon’t miss it — your next adventure starts here!
URL:https://www.elkhart.org/event/e3-robotics-centers-open-house-fall-registration/
LOCATION:E3 Robotics Center\, 3709 Cassopolis St\, Elkhart\, IN\, 46514\, United States
CATEGORIES:Member
END:VEVENT
END:VCALENDAR