BEGIN:VCALENDAR
VERSION:2.0
PRODID:-//Greater Elkhart Chamber of Commerce - ECPv6.15.7//NONSGML v1.0//EN
CALSCALE:GREGORIAN
METHOD:PUBLISH
X-ORIGINAL-URL:https://www.elkhart.org
X-WR-CALDESC:Events for Greater Elkhart Chamber of Commerce
REFRESH-INTERVAL;VALUE=DURATION:PT1H
X-Robots-Tag:noindex
X-PUBLISHED-TTL:PT1H
BEGIN:VTIMEZONE
TZID:America/Indiana/Indianapolis
BEGIN:DAYLIGHT
TZOFFSETFROM:-0500
TZOFFSETTO:-0400
TZNAME:EDT
DTSTART:20240310T070000
END:DAYLIGHT
BEGIN:STANDARD
TZOFFSETFROM:-0400
TZOFFSETTO:-0500
TZNAME:EST
DTSTART:20241103T060000
END:STANDARD
BEGIN:DAYLIGHT
TZOFFSETFROM:-0500
TZOFFSETTO:-0400
TZNAME:EDT
DTSTART:20250309T070000
END:DAYLIGHT
BEGIN:STANDARD
TZOFFSETFROM:-0400
TZOFFSETTO:-0500
TZNAME:EST
DTSTART:20251102T060000
END:STANDARD
BEGIN:DAYLIGHT
TZOFFSETFROM:-0500
TZOFFSETTO:-0400
TZNAME:EDT
DTSTART:20260308T070000
END:DAYLIGHT
BEGIN:STANDARD
TZOFFSETFROM:-0400
TZOFFSETTO:-0500
TZNAME:EST
DTSTART:20261101T060000
END:STANDARD
END:VTIMEZONE
BEGIN:VEVENT
DTSTART;TZID=America/Indiana/Indianapolis:20250713T090000
DTEND;TZID=America/Indiana/Indianapolis:20250713T120000
DTSTAMP:20260420T225210
CREATED:20250713T130000Z
LAST-MODIFIED:20250714T123508Z
UID:40323-1752397200-1752408000@www.elkhart.org
SUMMARY:Shinrin Yoku Forest Bathing
DESCRIPTION:Shinrin Yoku~Forest Bathing\nCome take a walk with us and find your inner child.\nReconnect with nature through your five senses with a guided walk\, meditation\, journaling\, creativity and connection. Ending our morning with a tea ceremony with locally resourced ingredients by your guide Ally.\nWhat to expect: Forest bath will last 3 hours. Wear comfortable clothes and shoes. Bring a waterbottle.\nDate: July 13\nTime: 9am-Noon\nLocation: Bootlake\nTheme: Childlike Wonders\nBenefits: Relieves depression & anxiety. Regulates Blood Pressure. Increases a sense of overall peace and calm in the mind & body!\nCost: $33
URL:https://www.elkhart.org/event/shinrin-yoku-forest-bathing/
LOCATION:The Awakening Realm\, 130 S Main St\, Elkhart\, IN
CATEGORIES:Member
END:VEVENT
BEGIN:VEVENT
DTSTART;TZID=America/Indiana/Indianapolis:20250713T140000
DTEND;TZID=America/Indiana/Indianapolis:20250713T150000
DTSTAMP:20260420T225210
CREATED:20250706T180000Z
LAST-MODIFIED:20250714T124001Z
UID:40416-1752415200-1752418800@www.elkhart.org
SUMMARY:Thick Girl Yoga
DESCRIPTION:Thick Girl Yoga\nEvery Sunday at 2pm\nThis class is perfect for those living in larger bodies; designed to meet you wherever you are – whether it’s your first class or a desire to deepen your practice. Yoga & body acceptance come together through practice. Our goal is to create a self-love experience for every student.\nCost is $20 or included with membership.
URL:https://www.elkhart.org/event/thick-girl-yoga/2025-07-13/
LOCATION:The Awakening Realm\, 130 S Main St\, Elkhart\, IN
CATEGORIES:Member
END:VEVENT
BEGIN:VEVENT
DTSTART;TZID=America/Indiana/Indianapolis:20250715T100000
DTEND;TZID=America/Indiana/Indianapolis:20250715T150000
DTSTAMP:20260420T225210
CREATED:20250615T140000Z
LAST-MODIFIED:20250627T141820Z
UID:40264-1752573600-1752591600@www.elkhart.org
SUMMARY:Theatre Tour Tuesdays
DESCRIPTION:Step behind the curtain and explore the magic of the Lerner Theatre with Theatre Tour Tuesdays! Held one Tuesday a month\, these guided tours offer a fascinating look at the theatre’s rich history and stunning architecture. Tours begin every hour on the hour from 10:00am-3:00pm\, and no reservations are required. Tickets are just $10 and can be purchased in advance or at the Lerner Theatre Box Office on the day of the tour. \nDon’t miss this chance to discover the stories behind the stage! \nProceeds from guided tours directly benefit the Lerner Theatre Volunteer Group. \nAccess to certain areas of the theatre are subject to change due to event schedules
URL:https://www.elkhart.org/event/theatre-tour-tuesdays-3/
LOCATION:The Lerner Theatre
CATEGORIES:Member
END:VEVENT
END:VCALENDAR