BEGIN:VCALENDAR
VERSION:2.0
PRODID:-//Greater Elkhart Chamber of Commerce - ECPv6.15.7//NONSGML v1.0//EN
CALSCALE:GREGORIAN
METHOD:PUBLISH
X-ORIGINAL-URL:https://www.elkhart.org
X-WR-CALDESC:Events for Greater Elkhart Chamber of Commerce
REFRESH-INTERVAL;VALUE=DURATION:PT1H
X-Robots-Tag:noindex
X-PUBLISHED-TTL:PT1H
BEGIN:VTIMEZONE
TZID:America/Indiana/Indianapolis
BEGIN:DAYLIGHT
TZOFFSETFROM:-0500
TZOFFSETTO:-0400
TZNAME:EDT
DTSTART:20240310T070000
END:DAYLIGHT
BEGIN:STANDARD
TZOFFSETFROM:-0400
TZOFFSETTO:-0500
TZNAME:EST
DTSTART:20241103T060000
END:STANDARD
BEGIN:DAYLIGHT
TZOFFSETFROM:-0500
TZOFFSETTO:-0400
TZNAME:EDT
DTSTART:20250309T070000
END:DAYLIGHT
BEGIN:STANDARD
TZOFFSETFROM:-0400
TZOFFSETTO:-0500
TZNAME:EST
DTSTART:20251102T060000
END:STANDARD
BEGIN:DAYLIGHT
TZOFFSETFROM:-0500
TZOFFSETTO:-0400
TZNAME:EDT
DTSTART:20260308T070000
END:DAYLIGHT
BEGIN:STANDARD
TZOFFSETFROM:-0400
TZOFFSETTO:-0500
TZNAME:EST
DTSTART:20261101T060000
END:STANDARD
END:VTIMEZONE
BEGIN:VEVENT
DTSTART;TZID=America/Indiana/Indianapolis:20250518T160000
DTEND;TZID=America/Indiana/Indianapolis:20250518T180000
DTSTAMP:20260424T074134
CREATED:20250504T200000Z
LAST-MODIFIED:20250505T124610Z
UID:39498-1747584000-1747591200@www.elkhart.org
SUMMARY:Elkhart County Symphony – rebelSYMPHnoire
DESCRIPTION:rebelSYMPHnoire\, May 18 at The Lerner Theatre\, features guest performer rebel noire and the accomplices—a local Eclectic Rock/Spoken Word ensemble that creates original songs exploring themes of power\, resistance\, and the complex textures of human love. The repertoire for this exciting season finale includes Ethel Smyth\, Boatswain’s Mate Overture; Choi\, Arirang Fantasy; Theofanidis\, Rainbow Body; and works by rebel noire and the accomplices.
URL:https://www.elkhart.org/event/elkhart-county-symphony-rebelsymphnoire/
LOCATION:The Lerner Theatre
CATEGORIES:Member
END:VEVENT
BEGIN:VEVENT
DTSTART;TZID=America/Indiana/Indianapolis:20250520T090000
DTEND;TZID=America/Indiana/Indianapolis:20250520T153000
DTSTAMP:20260424T074134
CREATED:20250408T130000Z
LAST-MODIFIED:20250409T123618Z
UID:38694-1747731600-1747755000@www.elkhart.org
SUMMARY:Adult Mental Health First Aid
DESCRIPTION:Please join us to learn about the signs and symptoms of mental health challenges in adults. This event requires registration. For more information\, please contact Amanda Noland at anoland@elkhartcounty.com.
URL:https://www.elkhart.org/event/adult-mental-health-first-aid-6/
LOCATION:Elkhart County Health Department\, 608 Oakland Ave\, Elkhart\, IN\, United States
CATEGORIES:Member
END:VEVENT
BEGIN:VEVENT
DTSTART;TZID=America/Indiana/Indianapolis:20250520T193000
DTEND;TZID=America/Indiana/Indianapolis:20250520T220000
DTSTAMP:20260424T074134
CREATED:20250504T233000Z
LAST-MODIFIED:20250510T011247Z
UID:39499-1747769400-1747778400@www.elkhart.org
SUMMARY:Girl Named Tom: Return to the Wild – Acoustic Tour
DESCRIPTION:Three siblings unlock one harmony to unite the world as Girl Named Tom. The trio—Bekah\, Joshua\, and Caleb Liechty—notably made history as “the only group to ever win NBC’s The Voice.” Along the way\, they’ve impressively generated over 25 million of streams across chart-rattling covers such as “River\,” “The Chain\,” and “Dust in the Wind.” The proud Midwesterners gained further traction with the independent release of Another World EP. In 2022\, they served up their debut holiday EP\, One More Christmas\, which reached #1 on the iTunes Charts\, and embarked on a massive arena tour supporting Pentatonix for “A Christmas Spectacular.”  Since 2022 the group has been living life on the road performing over 200 shows to date. The sibling trio has captivated millions on television\, appearing on The Ellen DeGeneres Show\, singing for the Indy500\, and returning for a heart wrenching performance on The Voice Finale a year after their win.  Their inimitable harmony will only continue to resound louder with their most recent release “Locked In Your Love”
URL:https://www.elkhart.org/event/girl-named-tom-return-to-the-wild-acoustic-tour/
LOCATION:Crystal Ballroom at the Lerner Theatre\, 410 S Main St\, Elkhart\, 46516\, United States
CATEGORIES:Member
END:VEVENT
BEGIN:VEVENT
DTSTART;TZID=America/Indiana/Indianapolis:20250521T110000
DTEND;TZID=America/Indiana/Indianapolis:20250521T130000
DTSTAMP:20260424T074134
CREATED:20250504T150000Z
LAST-MODIFIED:20250510T011413Z
UID:39500-1747825200-1747832400@www.elkhart.org
SUMMARY:Lunchtime Live with Celia Weiss – Kimball Organ Concert
DESCRIPTION:The Lerner is pleased to welcome an Elkhart favorite\, Celia Weiss\, back on The Lerner’s 1924 Kimball Organ in this free community series. \nCelia Weiss is one of few musical artists who hold the enviable record of having served as a soloist on two different musical instruments. A pianist and organist well known to local audiences\, the artist has appeared on numerous occasions with the Elkhart County Symphony Orchestra\, the South Bend Symphony Orchestra\, the IUSB Philharmonic\, the Manchester University Symphony Orchestra\, and in recitals throughout the area. \nMrs. Weiss is an Adjunct Assistant Professor of Music at IUSB for the Raclin School of the Arts where she teaches organ. She is a past recipient of the IUSB Merit Status and Outstanding Alumni Awards. She holds a B.M.E from Manchester College and a M.M. in Piano from Indiana University. An educator as well as a performer\, she has taught music in the Elkhart and Goshen Community Schools and piano at Goshen College. Since 1975 she has held the position of Director of Music and Organist for the First Presbyterian Church in Elkhart. She is a frequent accompanist for the Elkhart County Symphony Orchestra and performs several piano and organ concerts for the Lerner Theatre’s “Lunchtime Live!” each year. \nThe 1924 Kimball pipe organ located in Elkhart\, Indiana’s Lerner Theatre is one of only two Kimball pipe organs currently installed in its original location. The organ was restored following the 2011 renovation of the theatre which opened on Thanksgiving Day\, 1924. After the restoration\, a crew of nearly 20 from Bunn-Minnick Pipe Organs of Columbus\, Ohio\, spent three weeks hoisting equipment and filling the two pipe chambers with more than 1\,000 pipes. The project absorbed nearly 10\,000 man-hours for the crew over a year.
URL:https://www.elkhart.org/event/lunchtime-live-with-celia-weiss-kimball-organ-concert-3/
LOCATION:The Lerner Theatre
CATEGORIES:Member
END:VEVENT
BEGIN:VEVENT
DTSTART;TZID=America/Indiana/Indianapolis:20250522T110000
DTEND;TZID=America/Indiana/Indianapolis:20250522T130000
DTSTAMP:20260424T074134
CREATED:20250509T150000Z
LAST-MODIFIED:20250510T012837Z
UID:39706-1747911600-1747918800@www.elkhart.org
SUMMARY:WFRN Presents: "Fresh Ground" | A Luncheon Event
DESCRIPTION:Join us for an inspiring afternoon at the Michiana Women’s Entrepreneur Luncheon as we present “Fresh Ground” with special guest speaker\, Cheryl Hines. Come and be refreshed\, renewed\, and reminded that your story is not over—God is still writing it! | Lunch included with purchase of ticket.
URL:https://www.elkhart.org/event/wfrn-presents-fresh-ground-a-luncheon-event/
LOCATION:Ivy Tech Community College\, 22531 CR 18\, Goshen\, IN\, United States
CATEGORIES:Member
END:VEVENT
BEGIN:VEVENT
DTSTART;TZID=America/Indiana/Indianapolis:20250524T080000
DTEND;TZID=America/Indiana/Indianapolis:20250524T160000
DTSTAMP:20260424T074134
CREATED:20250509T120000Z
LAST-MODIFIED:20250510T011821Z
UID:39650-1748073600-1748102400@www.elkhart.org
SUMMARY:Milford Food Bank Garage Sale Fundraiser
DESCRIPTION:Shop a wide selection at our garage sale\, and enjoy some pulled pork from All Hearts Catering\, homemade lemonade\, and grab a bag (or three) of Shirley’s flavored popcorn! This is a fundraiser for Milford Food Bank\, and all donations go toward our operational expenses.
URL:https://www.elkhart.org/event/milford-food-bank-garage-sale-fundraiser/
LOCATION:Milford Food Bank\, 111 S James St\, Milford\, IN
CATEGORIES:Member
END:VEVENT
END:VCALENDAR