BEGIN:VCALENDAR
VERSION:2.0
PRODID:-//Greater Elkhart Chamber of Commerce - ECPv6.15.7//NONSGML v1.0//EN
CALSCALE:GREGORIAN
METHOD:PUBLISH
X-WR-CALNAME:Greater Elkhart Chamber of Commerce
X-ORIGINAL-URL:https://www.elkhart.org
X-WR-CALDESC:Events for Greater Elkhart Chamber of Commerce
REFRESH-INTERVAL;VALUE=DURATION:PT1H
X-Robots-Tag:noindex
X-PUBLISHED-TTL:PT1H
BEGIN:VTIMEZONE
TZID:America/Indiana/Indianapolis
BEGIN:DAYLIGHT
TZOFFSETFROM:-0500
TZOFFSETTO:-0400
TZNAME:EDT
DTSTART:20220313T070000
END:DAYLIGHT
BEGIN:STANDARD
TZOFFSETFROM:-0400
TZOFFSETTO:-0500
TZNAME:EST
DTSTART:20221106T060000
END:STANDARD
BEGIN:DAYLIGHT
TZOFFSETFROM:-0500
TZOFFSETTO:-0400
TZNAME:EDT
DTSTART:20230312T070000
END:DAYLIGHT
BEGIN:STANDARD
TZOFFSETFROM:-0400
TZOFFSETTO:-0500
TZNAME:EST
DTSTART:20231105T060000
END:STANDARD
BEGIN:DAYLIGHT
TZOFFSETFROM:-0500
TZOFFSETTO:-0400
TZNAME:EDT
DTSTART:20240310T070000
END:DAYLIGHT
BEGIN:STANDARD
TZOFFSETFROM:-0400
TZOFFSETTO:-0500
TZNAME:EST
DTSTART:20241103T060000
END:STANDARD
END:VTIMEZONE
BEGIN:VTIMEZONE
TZID:UTC
BEGIN:STANDARD
TZOFFSETFROM:+0000
TZOFFSETTO:+0000
TZNAME:UTC
DTSTART:20220101T000000
END:STANDARD
END:VTIMEZONE
BEGIN:VEVENT
DTSTART;TZID=America/Indiana/Indianapolis:20230520T070000
DTEND;TZID=America/Indiana/Indianapolis:20230521T160000
DTSTAMP:20260425T171243
CREATED:20230419T110000Z
LAST-MODIFIED:20230419T184026Z
UID:28016-1684566000-1684684800@www.elkhart.org
SUMMARY:Salute to Veterans WWII Reenactments & Airshows
DESCRIPTION:National historic WWII Reenactment Society is recreating 3 WWII battles\, including tanks\, half tracks\, and other German & American armored vehicles. Paratroopers will jump into the battle from vintage DC-3 aircraft. Warbirds will fly over the battlefield simulating aerial attacks complete with explosions and small arms fire from the reenactors. Following the reenactments each day will be a 3 to 3 1/2 hour airshow featuring skydivers\, aerobatic performers\, and plenty of very rare WWII aircraft\, including Corsair fighter bombers\, P-51 Mustangs\, T6’s\, a Skyraider\, and others. Each day will be different so spectators will want to come both days.
URL:https://www.elkhart.org/event/salute-to-veterans-wwii-reenactments-airshows/
LOCATION:Trinity on Jackson\, 2715 E Jackson Blvd\, Elkhart\, IN\, United States
CATEGORIES:Member
END:VEVENT
BEGIN:VEVENT
DTSTART;TZID=America/Indiana/Indianapolis:20230523T140000
DTEND;TZID=America/Indiana/Indianapolis:20230523T153000
DTSTAMP:20260425T171243
CREATED:20230323T180000Z
LAST-MODIFIED:20230328T140821Z
UID:27135-1684850400-1684855800@www.elkhart.org
SUMMARY:Stress\, Eustress and Resilience: The Keys to Healthy Aging
DESCRIPTION:Michael Sherer\nMay 23\, 25\, 30\, June 1 | 2 – 3:30 p.m. \nScience is methodically unlocking the secrets of health\, disease and aging. The bad news is\, much of that knowledge will take decades to reach your doctor’s office if it ever does. Author and researcher Michael Sherer will share thoughts on how you can benefit from cutting edge research today\, applying ideas from the field of redox biology to improve your health and resilience\, add more years to your life\, and more life to your years. Michael Sherer is a member of the Society for Redox Biology and Medicine and the American Society for Nutrition.
URL:https://www.elkhart.org/event/stress-eustress-and-resilience-the-keys-to-healthy-aging/
LOCATION:Greencroft Goshen Community Center
CATEGORIES:Member
END:VEVENT
BEGIN:VEVENT
DTSTART;TZID=UTC:20230524T180000
DTEND;TZID=UTC:20230524T190000
DTSTAMP:20260425T171243
CREATED:20230501T182136Z
LAST-MODIFIED:20230501T182136Z
UID:28196-1684951200-1684954800@www.elkhart.org
SUMMARY:Yoga in the Gardens–Wednesday
DESCRIPTION:Wednesdays with yogi Meryl Pax;\nMembers: $8 per class or SAVE with a 10-Class Punch Card $72\nPublic: $10 per class or SAVE with a 10-Class Punch Card $90
URL:https://www.elkhart.org/event/yoga-in-the-gardens-wednesday/2023-05-24/
LOCATION:Wellfield Botanic Gardens\, 1011 North Main Street\, Elkhart\, IN\, 46514\, United States
CATEGORIES:Member
END:VEVENT
BEGIN:VEVENT
DTSTART;TZID=America/Indiana/Indianapolis:20230525T121500
DTEND;TZID=America/Indiana/Indianapolis:20230525T121500
DTSTAMP:20260425T171243
CREATED:20230413T161500Z
LAST-MODIFIED:20230413T145645Z
UID:27888-1685016900-1685016900@www.elkhart.org
SUMMARY:Noon Time Talk: Janet Bloch\, Director Lubeznik Center for the Arts
DESCRIPTION:Please join us for our Noon Time Talk. \nJanet Bloch\, Director Lubeznik Center for the Arts Bloch joined the LCA as Education Director in 2009. She held this position for over seven years. In 2016\, Block was appointed to Executive Director. Bloch was connected to the art world even before she joined Lubeznik. She states\, “I am from Chicago\, and I have worked in the non-profit world for a long time. I used to run a women’s gallery in Chicago that was a non-profit before I moved to Michigan City.” \nAdmission is $5. Each. Free for museum members and donors.
URL:https://www.elkhart.org/event/noon-time-talk-janet-bloch-director-lubeznik-center-for-the-arts/
LOCATION:Midwest Museum of American Art\, 429 S Main St\, Elkhart\, IN\, 46516\, United States
CATEGORIES:Member
END:VEVENT
BEGIN:VEVENT
DTSTART;TZID=America/Indiana/Indianapolis:20230526T190000
DTEND;TZID=America/Indiana/Indianapolis:20230526T213000
DTSTAMP:20260425T171243
CREATED:20230504T230000Z
LAST-MODIFIED:20230505T154140Z
UID:28061-1685127600-1685136600@www.elkhart.org
SUMMARY:Curbside Concerts: Society's Child
DESCRIPTION:Curbside Concerts are back for Year 4\, and we’re all about reunions. Society’s Child is a high-octane band that reunited in 2022 after a 30-year break. Expect some KISS\, some Ozzy\, and maybe some originals\, too. These Friday night shows\, powered by AEP and Well Crafted with support from the Elkhart County CVB\, are free and start at 7pm. That Guys Gourmet Ribs and beer/wine/pop/water will be for sale in the library parking lot. Bring a camp chair! Get all the series details at MyEPL.org/curbside.
URL:https://www.elkhart.org/event/curbside-concerts-societys-child/
LOCATION:Elkhart Public Library – Downtown\, 300 S 2nd St\, Elkhart\, 46514\, United States
CATEGORIES:Member
END:VEVENT
BEGIN:VEVENT
DTSTART;TZID=America/Indiana/Indianapolis:20230527T091500
DTEND;TZID=America/Indiana/Indianapolis:20230527T101500
DTSTAMP:20260425T171243
CREATED:20230501T131500Z
LAST-MODIFIED:20230501T183622Z
UID:28144-1685178900-1685182500@www.elkhart.org
SUMMARY:Yoga in the Gardens--Saturday
DESCRIPTION:Saturdays with yogi Barbara Naranche;\nMembers: $8 per class or SAVE with a 10-Class Punch Card $72\nPublic: $10 per class or SAVE with a 10-Class Punch Card $90
URL:https://www.elkhart.org/event/yoga-in-the-gardens-saturday/2023-05-27/
LOCATION:Wellfield Botanic Gardens\, 1011 North Main Street\, Elkhart\, IN\, 46514\, United States
CATEGORIES:Member
END:VEVENT
END:VCALENDAR