BEGIN:VCALENDAR
VERSION:2.0
PRODID:-//Greater Elkhart Chamber of Commerce - ECPv6.15.7//NONSGML v1.0//EN
CALSCALE:GREGORIAN
METHOD:PUBLISH
X-ORIGINAL-URL:https://www.elkhart.org
X-WR-CALDESC:Events for Greater Elkhart Chamber of Commerce
REFRESH-INTERVAL;VALUE=DURATION:PT1H
X-Robots-Tag:noindex
X-PUBLISHED-TTL:PT1H
BEGIN:VTIMEZONE
TZID:America/Indiana/Indianapolis
BEGIN:DAYLIGHT
TZOFFSETFROM:-0500
TZOFFSETTO:-0400
TZNAME:EDT
DTSTART:20220313T070000
END:DAYLIGHT
BEGIN:STANDARD
TZOFFSETFROM:-0400
TZOFFSETTO:-0500
TZNAME:EST
DTSTART:20221106T060000
END:STANDARD
BEGIN:DAYLIGHT
TZOFFSETFROM:-0500
TZOFFSETTO:-0400
TZNAME:EDT
DTSTART:20230312T070000
END:DAYLIGHT
BEGIN:STANDARD
TZOFFSETFROM:-0400
TZOFFSETTO:-0500
TZNAME:EST
DTSTART:20231105T060000
END:STANDARD
BEGIN:DAYLIGHT
TZOFFSETFROM:-0500
TZOFFSETTO:-0400
TZNAME:EDT
DTSTART:20240310T070000
END:DAYLIGHT
BEGIN:STANDARD
TZOFFSETFROM:-0400
TZOFFSETTO:-0500
TZNAME:EST
DTSTART:20241103T060000
END:STANDARD
END:VTIMEZONE
BEGIN:VEVENT
DTSTART;TZID=America/Indiana/Indianapolis:20230515T090000
DTEND;TZID=America/Indiana/Indianapolis:20230515T113000
DTSTAMP:20260419T185807
CREATED:20230315T130000Z
LAST-MODIFIED:20230328T140730Z
UID:27134-1684141200-1684150200@www.elkhart.org
SUMMARY:May is for the Birds!
DESCRIPTION:Bruce Glick\nMay 15\, 16\, 17\, 18 | 9 – 11:30 a.m.\nlimited to eight people \nThe course goal is to enjoy watching and learning about birds that are found in May in northern Indiana. As weather permits\, we will spend our time “in the field”\, which will include local birding hot spots such as the Mill Race\, Shanklin Park\, River Preserve\, Fidler Pond and more. A life-long birder who never gets enough time with the birds\, Bruce also enjoys learning with folks of all ages and previous birding experience.
URL:https://www.elkhart.org/event/may-is-for-the-birds/
LOCATION:Greencroft Goshen Community Center
CATEGORIES:Member
END:VEVENT
BEGIN:VEVENT
DTSTART;VALUE=DATE:20230516
DTEND;VALUE=DATE:20230519
DTSTAMP:20260419T185807
CREATED:20230426T040000Z
LAST-MODIFIED:20230427T133248Z
UID:28095-1684195200-1684454399@www.elkhart.org
SUMMARY:Extended Operation & Rigging Crane Training
DESCRIPTION:This program is held on-site at the Hoosier Crane Elkhart Service Branch over 3 days and a total of 22 hours. This training covers the role and responsibilities of the overhead crane operator and rigger. You will be trained on the basics of safe operation practices\, crane attachments\, side and shock loading\, basic rigging\, and the effects of sling angles. Students will receive the information\, training\, and confidence to be one of the best crane operators in the industry.
URL:https://www.elkhart.org/event/extended-operation-rigging-crane-training/
LOCATION:Hoosier Crane\, 3500 Charlotte Ave\, Elkhart\, IN\, United States
CATEGORIES:Member
END:VEVENT
BEGIN:VEVENT
DTSTART;TZID=America/Indiana/Indianapolis:20230517T110000
DTEND;TZID=America/Indiana/Indianapolis:20230517T120000
DTSTAMP:20260419T185807
CREATED:20230509T150000Z
LAST-MODIFIED:20230509T181834Z
UID:28526-1684321200-1684324800@www.elkhart.org
SUMMARY:Peace Officers Memorial Service
DESCRIPTION:Each May\, we honor all of our police officers who have died in the line of duty.\nInclement Weather Location: Parking Garage behind police station – Marion St
URL:https://www.elkhart.org/event/peace-officers-memorial-service/
LOCATION:Kardzhali Park\, NIBCO Parkway\, Elkhart\, IN\, United States
CATEGORIES:Member
END:VEVENT
BEGIN:VEVENT
DTSTART;TZID=America/Indiana/Indianapolis:20230517T170000
DTEND;TZID=America/Indiana/Indianapolis:20230517T180000
DTSTAMP:20260419T185807
CREATED:20230419T210000Z
LAST-MODIFIED:20230419T184747Z
UID:28023-1684342800-1684346400@www.elkhart.org
SUMMARY:Build a Profitable Business That Works Without You
DESCRIPTION:It’s time to take your business to new levels of success! \nGain financial freedom by increasing revenue and profits. \nTake your business to new levels of success with Six Steps to More Profit\, Less Work will be covered. \nConnect with a community of business owners and entrepreneurs like you. \nWork smarter\, not harder\, and have balance in your life! \nRESULTS OR YOUR COACHING IS FREE! \nThe ActionCOACH Guarantee:\nWe Guarantee to get results\, and that you’ll be able to “Find our Fee” in your business within 17 weeks of ActionCOACH coaching your company\, or your coaching is FREE.
URL:https://www.elkhart.org/event/build-a-profitable-business-that-works-without-you/
LOCATION:ActionCoach One\, 223 S Main St\, Elkhart
CATEGORIES:Member
END:VEVENT
BEGIN:VEVENT
DTSTART;TZID=America/Indiana/Indianapolis:20230518T121500
DTEND;TZID=America/Indiana/Indianapolis:20230518T121500
DTSTAMP:20260419T185807
CREATED:20230413T161500Z
LAST-MODIFIED:20230413T153338Z
UID:27887-1684412100-1684412100@www.elkhart.org
SUMMARY:Noon Time Talk: Jonathan Canning\, Director Brauer Art Museum\, Valparaiso University
DESCRIPTION:Please join us for our Noon Time Talk. \nJonathan Canning\, Director Brauer Art Museum\, Valparaiso University Canning lived the majority of his childhood in Britain\, where he then went on to receive his undergraduate degree in Art History at the Courtauld Institute of Art. Canning then obtained his master’s degree at the University of Delaware and a Master’s in Philosophy at Columbia University. He eventually moved to Chicago\, where he was hired at Loyola University Chicago. Canning was appointed Director at the Brauer at the beginning of the 2022-23 school year. \nAdmission is $5. Each. Free for museum members and donors.
URL:https://www.elkhart.org/event/noon-time-talk-jonathan-canning-director-brauer-art-museum-valparaiso-university/
LOCATION:Midwest Museum of American Art\, 429 S Main St\, Elkhart\, IN\, 46516\, United States
CATEGORIES:Member
END:VEVENT
BEGIN:VEVENT
DTSTART;TZID=America/Indiana/Indianapolis:20230518T160000
DTEND;TZID=America/Indiana/Indianapolis:20230518T190000
DTSTAMP:20260419T185807
CREATED:20230515T140000Z
LAST-MODIFIED:20230515T132548Z
UID:28614-1684425600-1684436400@www.elkhart.org
SUMMARY:AlphaGraphics Grand Opening
DESCRIPTION:Food truck\, drinks\, tours including the Common Spot located in AlphaGraphic’s new Elkhart location. Bring a new or gently used book for the new Premier Arts Academy K-6 classrooms. \nLOCATION: AlphaGraphics\, 22158 Elkhart E Blvd\, Elkhart\, IN 46514\nWEB: alphagraphics.com/centers/elkhart-indiana-us599\nBusiness #: (574) 295-1203 FACEBOOK: https://www.facebook.com/AGUS599
URL:https://www.elkhart.org/event/alphagraphics-grand-opening/
LOCATION:Alphagraphics\, 22158 Elkhart East Blvd\, Elkhart
CATEGORIES:Member
END:VEVENT
BEGIN:VEVENT
DTSTART;TZID=America/Indiana/Indianapolis:20230519T190000
DTEND;TZID=America/Indiana/Indianapolis:20230519T213000
DTSTAMP:20260419T185807
CREATED:20230504T230000Z
LAST-MODIFIED:20230505T154057Z
UID:28060-1684522800-1684531800@www.elkhart.org
SUMMARY:Curbside Concerts: Kansas Bible Co.
DESCRIPTION:Curbside Concerts are back for Year 4\, and we’re all about reunions. And no show will be bigger than Kansas Bible Co. This Goshen-to-Nashville rock band has covered a lot of ground in 15 years\, but they haven’t done a lot of gigs since the pandemic. These Friday night shows\, powered by AEP and Well Crafted with support from the Elkhart County CVB\, are free and start at 7pm. Hotdogeddy’s and beer/wine/pop/water will be for sale in the library parking lot. Bring a camp chair! Get all the series details at MyEPL.org/curbside.
URL:https://www.elkhart.org/event/curbside-concerts-kansas-bible-co/
LOCATION:Elkhart Public Library – Downtown\, 300 S 2nd St\, Elkhart\, 46514\, United States
CATEGORIES:Member
END:VEVENT
BEGIN:VEVENT
DTSTART;TZID=America/Indiana/Indianapolis:20230520T070000
DTEND;TZID=America/Indiana/Indianapolis:20230521T160000
DTSTAMP:20260419T185807
CREATED:20230419T110000Z
LAST-MODIFIED:20230419T184026Z
UID:28016-1684566000-1684684800@www.elkhart.org
SUMMARY:Salute to Veterans WWII Reenactments & Airshows
DESCRIPTION:National historic WWII Reenactment Society is recreating 3 WWII battles\, including tanks\, half tracks\, and other German & American armored vehicles. Paratroopers will jump into the battle from vintage DC-3 aircraft. Warbirds will fly over the battlefield simulating aerial attacks complete with explosions and small arms fire from the reenactors. Following the reenactments each day will be a 3 to 3 1/2 hour airshow featuring skydivers\, aerobatic performers\, and plenty of very rare WWII aircraft\, including Corsair fighter bombers\, P-51 Mustangs\, T6’s\, a Skyraider\, and others. Each day will be different so spectators will want to come both days.
URL:https://www.elkhart.org/event/salute-to-veterans-wwii-reenactments-airshows/
LOCATION:Trinity on Jackson\, 2715 E Jackson Blvd\, Elkhart\, IN\, United States
CATEGORIES:Member
END:VEVENT
BEGIN:VEVENT
DTSTART;TZID=America/Indiana/Indianapolis:20230520T090000
DTEND;TZID=America/Indiana/Indianapolis:20230520T120000
DTSTAMP:20260419T185807
CREATED:20230510T130000Z
LAST-MODIFIED:20230509T181656Z
UID:28527-1684573200-1684584000@www.elkhart.org
SUMMARY:Free Basic Vehcile Maintenance Education
DESCRIPTION:This Automotive course will be one of the most beneficial in your experience as a driver. The class offers you the opportunity to expand your knowledge regarding your car. You will develop new skills useful to your vehicles maintenance needs. Even more important\, you will become a better driver and owner of today’s automobile. Taught by Elkhart’s own mechanic professional\, Wes Steffen and his assistant.\nBegins at 9am\, by 10:30 you will be outside learning on your own vehicle. Session ends at noon and a free lunch will be available.\nYou will need: a personal or borrowed vehicle\, game face and determination
URL:https://www.elkhart.org/event/free-basic-vehcile-maintenance-education/
LOCATION:Salvation Army\, 300 N Main St\, Elkhart\, IN\, United States
CATEGORIES:Member
END:VEVENT
BEGIN:VEVENT
DTSTART;TZID=America/Indiana/Indianapolis:20230520T090000
DTEND;TZID=America/Indiana/Indianapolis:20230520T130000
DTSTAMP:20260419T185807
CREATED:20230505T150000Z
LAST-MODIFIED:20230505T152932Z
UID:28465-1684573200-1684587600@www.elkhart.org
SUMMARY:3K Peace Run and 1-Mile Walk
DESCRIPTION:This community-wide Run & Walk addresses Child Safety and promotes peace\, unity and healthy living! Registration starts at 9am\, Presentation from Aaron Ball\, Rio’s Rainbow at 9:30am\, Stretches at 9:45am and Run starts at 10am! Healthy Vendors will also be on site including TNT Nutrition\, Heart City\, Parent Coalition & Imani Unidad\, providing samples\, free testing and information. For more information visit TheVillageCommunityCenter.org.
URL:https://www.elkhart.org/event/3k-peace-run-and-1-mile-walk/
LOCATION:The Village Empowerment Center\, 215 E Indiana Ave\, Elkhart\, IN\, United States
CATEGORIES:Member
END:VEVENT
BEGIN:VEVENT
DTSTART;TZID=America/Indiana/Indianapolis:20230520T170000
DTEND;TZID=America/Indiana/Indianapolis:20230520T200000
DTSTAMP:20260419T185807
CREATED:20230410T210000Z
LAST-MODIFIED:20230410T193206Z
UID:27801-1684602000-1684612800@www.elkhart.org
SUMMARY:Eat and Drink at the Zoo
DESCRIPTION:This is an age 21 and up event. A valid ID is needed to enter the event.\nSatisfy your taste buds and quench your thirst with unlimited samples of delicious food\, wine\, and beer from some of the best local restaurants\, stores\, breweries\, and wineries. Plus\, the festivities never stop with live music and other exciting entertainment! \nYou have two ticket options to choose from – General Admission and VIP – both offering unlimited food and drink sampling all around the Zoo. With General Admission\, you can enjoy unlimited train and carousel rides\, music\, and animal encounters. Upgrade to VIP for early entry\, a tented space\, exclusive animal encounter\, specialty cocktail\, and unique samples.
URL:https://www.elkhart.org/event/eat-and-drink-at-the-zoo-2/
LOCATION:IN
CATEGORIES:Member
END:VEVENT
END:VCALENDAR