BEGIN:VCALENDAR
VERSION:2.0
PRODID:-//Greater Elkhart Chamber of Commerce - ECPv6.15.7//NONSGML v1.0//EN
CALSCALE:GREGORIAN
METHOD:PUBLISH
X-ORIGINAL-URL:https://www.elkhart.org
X-WR-CALDESC:Events for Greater Elkhart Chamber of Commerce
REFRESH-INTERVAL;VALUE=DURATION:PT1H
X-Robots-Tag:noindex
X-PUBLISHED-TTL:PT1H
BEGIN:VTIMEZONE
TZID:America/Indiana/Indianapolis
BEGIN:DAYLIGHT
TZOFFSETFROM:-0500
TZOFFSETTO:-0400
TZNAME:EDT
DTSTART:20210314T070000
END:DAYLIGHT
BEGIN:STANDARD
TZOFFSETFROM:-0400
TZOFFSETTO:-0500
TZNAME:EST
DTSTART:20211107T060000
END:STANDARD
BEGIN:DAYLIGHT
TZOFFSETFROM:-0500
TZOFFSETTO:-0400
TZNAME:EDT
DTSTART:20220313T070000
END:DAYLIGHT
BEGIN:STANDARD
TZOFFSETFROM:-0400
TZOFFSETTO:-0500
TZNAME:EST
DTSTART:20221106T060000
END:STANDARD
BEGIN:DAYLIGHT
TZOFFSETFROM:-0500
TZOFFSETTO:-0400
TZNAME:EDT
DTSTART:20230312T070000
END:DAYLIGHT
BEGIN:STANDARD
TZOFFSETFROM:-0400
TZOFFSETTO:-0500
TZNAME:EST
DTSTART:20231105T060000
END:STANDARD
END:VTIMEZONE
BEGIN:VEVENT
DTSTART;TZID=America/Indiana/Indianapolis:20220618T130000
DTEND;TZID=America/Indiana/Indianapolis:20220626T200000
DTSTAMP:20260424T224243
CREATED:20220615T170000Z
LAST-MODIFIED:20220616T140848Z
UID:23916-1655557200-1656273600@www.elkhart.org
SUMMARY:Parade of Homes Plus
DESCRIPTION:Interested in buying\, building a new home or remodeling your current home? You won’t want to miss this! The Builders Association of Elkhart County will be hosting the 55th annual Parade of Homes Plus starting June 18\, 2022 and running through June 26\, 2022. \nDiscount tickets are available on line at baec.com\, at your local Martin’s Super Market\, Mid-City Supply in Elkhart\, LaSalle Bristol Flooring Center off of CR 17\, Big C Lumber in Elkhart\, and JCS Fireplace & Stone in Mishawaka for $8.00 or $10.00 at the door. \nHours on Saturdays and Sundays will be 1 to 8 pm. And Thursdays and Fridays from 4 to 8 pm. The homes are at scattered sites throughout Elkhart County and one in White Pigeon MI. \nOn opening weekend visit all 13 homes\, two under construction\, one remodelers showcase and ten new homes. Please note the homes under construction and the remodelers showcase homes are only open June 18th and 19th.
URL:https://www.elkhart.org/event/parade-of-homes-plus/
LOCATION:Trinity on Jackson\, 2715 E Jackson Blvd\, Elkhart\, IN\, United States
CATEGORIES:Member
END:VEVENT
BEGIN:VEVENT
DTSTART;TZID=America/Indiana/Indianapolis:20220630T173000
DTEND;TZID=America/Indiana/Indianapolis:20220630T180000
DTSTAMP:20260424T224244
CREATED:20220525T213000Z
LAST-MODIFIED:20220525T172842Z
UID:23748-1656610200-1656612000@www.elkhart.org
SUMMARY:Duck Derby
DESCRIPTION:Quack all about it! Premier Arts announces a creative new fundraiser\, the 1st Annual Ducky Derby sponsored by INOVA Federal Credit Union. Adopt a rubber ducky for a chance to win the $1\,000 grand prize and support the Elkhart ArtWalk now hosted by Premier Arts. A flock of ducks is set to float from the Elkhart Ave. Bridge to the E. Jackson St. Bridge on Thursday\, June 30th during June’s ArtWalk at 5:30 PM. All are welcome to stand along the riverwalk and cheer on the ducks as they race to the finish line. “Thanks to the Elkhart Fire Department for safely dropping and collecting our ducks. None of this fun would be possible without their help and the support of our sponsor\, INOVA!” said Ashley Molyneaux from Premier Arts”. \n“Local arts and culture initiatives\, and local businesses have a substantial economic impact on a community\, so it’s only fitting as the only locally headquartered financial institution in downtown Elkhart\, that INOVA continues to support the Elkhart ArtWalk.” said Kerie Sekal\, Vice President of Marketing and Member Engagement for INOVA Federal. “INOVA was originally established back in 1942 to serve the employees of Miles Laboratories\, so our roots run deep here. Being the presenting sponsor of this new Ducky Derby event is just another fun way for us to continue to partner with our community and celebrate our 80th anniversary.” \nHOW TO ENTER:\nAdopt your Duck online: www.premierarts.org/product/ducky/ \nDucky “Adoption Tickets” are $20 each \nPurchases are numbered and will match a corresponding numbered Ducky which will be entered into The Ducky Derby race. All Duckies will be dropped simultaneously into the Elkhart River and float toward the finish line. Prizes will be awarded to the Duckies that take 1st\, 2nd\, and 3rd place! (Do NOT need to be present to win) \nDUCKY DERBY PRIZES: \n· 1st Place: $1\,000 Grand Prize + 2022 Ducky Derby Trophy \n· 2nd Place: “I Heart Elkhart” Package ($500 Value) \n· 3rd Place: Dinner and a Show (Gift card for dinner at a downtown restaurant and 4 tickets to “Something Rotten” July 15-17) \nAbout Elkhart ArtWalk \nElkhart ArtWalk is a celebration of all things art. On the last Thursday of each month\, April to October from 5 to 8 p.m.\, local artists and vendors are stationed at the Civic Plaza. For more information\, please visit ElkhartArtWalk.com. This event is powered by Premier Arts\, a non-profit organization invested in bringing arts to downtown Elkhart. \nFollow ArtWalk on Social Media\nFacebook: ElkhartArtWalk\nInstagram: ElkhartArtWalk \nAbout Premier Arts\nPremier Arts inspires the imagination and develops the creative spirit of our community. Its focus is on youth\, family and lifelong learning. Premier Arts\, the Resident Theatre of the Lerner Performing Arts Center\, is composed of professional staff guided by engaged community leaders serving as the Board of Directors. For more information\, please visit www.premierarts.org. Social Media-Facebook: Premier Arts Instagram: Prem1arts \nAbout INOVA Federal Credit Union\nINOVA Federal Credit Union is a member-owned\, financial cooperative headquartered in downtown Elkhart\, Indiana. Established in 1942\, INOVA was originally chartered to serve the employees of Miles (Bayer) Laboratories. Today\, INOVA serves over 42\,000 members and the employees of over 500 companies. INOVA has seven branch locations in two states\, as well as over 5\,600 service center locations and nearly 30\,000 free ATMs nationwide.
URL:https://www.elkhart.org/event/duck-derby-2/
LOCATION:Downtown Elkhart
CATEGORIES:Member
END:VEVENT
BEGIN:VEVENT
DTSTART;TZID=America/Indiana/Indianapolis:20220701T203000
DTEND;TZID=America/Indiana/Indianapolis:20220701T230000
DTSTAMP:20260424T224244
CREATED:20220602T003000Z
LAST-MODIFIED:20220602T140524Z
UID:23740-1656707400-1656716400@www.elkhart.org
SUMMARY:OJS Building Services\, Inc. Rockin' With Fire 2022!
DESCRIPTION:Just a reminder that OJS Building Services\, Inc. Owner\, Steve Meyer\, is hosting his 9th annual fireworks show on Friday\, July 1nd. If you have been to one of these before\, you know that this is the best private fireworks show around. The location is at the farm at 53520 Fir Road\, Granger\, Indiana 46530 (North of Douglas and South of the Toll Road on the East side of the road). Gates open at 8:30 PM; Shows start at around 10:00 PM. \nLast year we added stereo\, choreographed music synchronized with the fireworks through your car stereo. We also had two drone videographers that recorded the show from a different perspective. \nBring your family and friends\, blankets\, food\, beverages\, and bug spray is recommended. It promises to be better than ever this year. \nPlease see follow the link for details. I look forward to seeing you there!
URL:https://www.elkhart.org/event/ojs-building-services-inc-rockin-with-fire-2022/
LOCATION:Trinity on Jackson\, 2715 E Jackson Blvd\, Elkhart\, IN\, United States
CATEGORIES:Member
END:VEVENT
END:VCALENDAR