BEGIN:VCALENDAR
VERSION:2.0
PRODID:-//Greater Elkhart Chamber of Commerce - ECPv6.15.7//NONSGML v1.0//EN
CALSCALE:GREGORIAN
METHOD:PUBLISH
X-ORIGINAL-URL:https://www.elkhart.org
X-WR-CALDESC:Events for Greater Elkhart Chamber of Commerce
REFRESH-INTERVAL;VALUE=DURATION:PT1H
X-Robots-Tag:noindex
X-PUBLISHED-TTL:PT1H
BEGIN:VTIMEZONE
TZID:America/Indiana/Indianapolis
BEGIN:DAYLIGHT
TZOFFSETFROM:-0500
TZOFFSETTO:-0400
TZNAME:EDT
DTSTART:20210314T070000
END:DAYLIGHT
BEGIN:STANDARD
TZOFFSETFROM:-0400
TZOFFSETTO:-0500
TZNAME:EST
DTSTART:20211107T060000
END:STANDARD
BEGIN:DAYLIGHT
TZOFFSETFROM:-0500
TZOFFSETTO:-0400
TZNAME:EDT
DTSTART:20220313T070000
END:DAYLIGHT
BEGIN:STANDARD
TZOFFSETFROM:-0400
TZOFFSETTO:-0500
TZNAME:EST
DTSTART:20221106T060000
END:STANDARD
BEGIN:DAYLIGHT
TZOFFSETFROM:-0500
TZOFFSETTO:-0400
TZNAME:EDT
DTSTART:20230312T070000
END:DAYLIGHT
BEGIN:STANDARD
TZOFFSETFROM:-0400
TZOFFSETTO:-0500
TZNAME:EST
DTSTART:20231105T060000
END:STANDARD
END:VTIMEZONE
BEGIN:VEVENT
DTSTART;TZID=America/Indiana/Indianapolis:20220613T100000
DTEND;TZID=America/Indiana/Indianapolis:20220613T110000
DTSTAMP:20260424T224413
CREATED:20220606T040000Z
LAST-MODIFIED:20220606T173128Z
UID:23837-1655114400-1655118000@www.elkhart.org
SUMMARY:ECHD Paths to Wellness Health Series
DESCRIPTION:June 13: Cobus Creek\, 10 – 11 am\, 2 – 3 pm \nJuly 12: Oxbow Park\, 10 – 11 am\, 2 – 3 pm \nAugust 4: Bonneyville Mill County Park\, 10 – 11 am\, 2 – 3 pm
URL:https://www.elkhart.org/event/echd-paths-to-wellness-health-series/2022-06-13/
LOCATION:Cobus Creek\, 30680 C.R. 8\, Elkhart\, IN\, United States
CATEGORIES:Member
END:VEVENT
BEGIN:VEVENT
DTSTART;VALUE=DATE:20220614
DTEND;VALUE=DATE:20220615
DTSTAMP:20260424T224413
CREATED:20220601T040000Z
LAST-MODIFIED:20220602T131239Z
UID:23774-1655164800-1655251199@www.elkhart.org
SUMMARY:TNT Nutrition Celebrating 1 yr open
DESCRIPTION:Samples\, raffles\, etc
URL:https://www.elkhart.org/event/tnt-nutrition-celebrating-1-yr-open/
LOCATION:TNT Nutrition\, 2707 Toledo Rd\, Elkhart\, IN\, United States
CATEGORIES:Member
END:VEVENT
BEGIN:VEVENT
DTSTART;TZID=America/Indiana/Indianapolis:20220616T121500
DTEND;TZID=America/Indiana/Indianapolis:20220616T131500
DTSTAMP:20260424T224413
CREATED:20220516T161500Z
LAST-MODIFIED:20220517T175058Z
UID:23143-1655381700-1655385300@www.elkhart.org
SUMMARY:Noon Time Talk: Todd Hoover\, South Bend
DESCRIPTION:Please join us on Thursday\, June 16\, 2022 for our Noon Time Talk at 12:15 PM with South Bend artist Todd Hoover. \nMasks are required for all gallery talks if you have not been vaccinated. Masks are strongly recommended if you have been vaccinated. Gallery Talks or Noon Time Talks each Thursday will be limited to 50 people on a first-come-first-serve basis. Doors will be locked at 12:15. No admittance to the museum by the public will be allowed until the talk has concluded and the galleries emptied and sterilized.
URL:https://www.elkhart.org/event/noon-time-talk-todd-hoover-south-bend/
LOCATION:Midwest Museum of American Art\, 429 S Main St\, Elkhart\, IN\, 46516\, United States
CATEGORIES:Member
END:VEVENT
BEGIN:VEVENT
DTSTART;TZID=America/Indiana/Indianapolis:20220616T170000
DTEND;TZID=America/Indiana/Indianapolis:20220616T183000
DTSTAMP:20260424T224414
CREATED:20220606T150000Z
LAST-MODIFIED:20220606T145909Z
UID:23835-1655398800-1655404200@www.elkhart.org
SUMMARY:Recruiting and Hiring Amazing People...Right Now!
DESCRIPTION:At some point (some might say from Day 1) a business owner’s primary focus should be on finding\, attracting\, and hiring great people. \nIt’s true that it is a very competitive and challenging time and environment to attract and hire great people right now. It’s equally true however that great people are out there looking for great places to work. The question is\, what are you doing to attract them? \nWhy is the marketing effort to attract team members often neglected and treated as an emergency – ‘we need someone now’ style undertaking of extreme burden? Several businesses set out to recruit new team members with a shallow fraction of the thought and effort they invest to attract new customers. Why? \nIn this workshop\, we’ll be sharing our top proven practices and principles allowing businesses to attract\, recruit\, and hire with more success and in a more leveraged fashion. We explain how hiring should be a de-selective process rather than a selective process. The points discussed and shared are those identified as being the most impactful and profound from over two decades of frontline coaching with business owners and leaders. \nBONUS: This session includes a 20-minute complimentary ONE on ONE coaching session to audit your recruiting and hiring practices.
URL:https://www.elkhart.org/event/recruiting-and-hiring-amazing-people-right-now/
LOCATION:Online\, IN\, United States
CATEGORIES:Member
END:VEVENT
BEGIN:VEVENT
DTSTART;TZID=America/Indiana/Indianapolis:20220616T190000
DTEND;TZID=America/Indiana/Indianapolis:20220616T203000
DTSTAMP:20260424T224414
CREATED:20220602T130000Z
LAST-MODIFIED:20220602T132358Z
UID:23790-1655406000-1655411400@www.elkhart.org
SUMMARY:Wellfield Botanic Gardens Groovin in the Gardens
DESCRIPTION:Live music performances provide the soundtrack to magical evenings at Wellfield Botanic Gardens’ 7th annual Groovin’ in the Gardens – Summer Concert Series.\nGates open at 6 p.m.\, concerts begin at 7. Guests are encouraged to bring their own chairs or a blanket.\nMember Adult: $10 / Member Child (ages 3-12): $5\nPublic Adult: $13 / Public Child (ages 3-12): $7\nUnder age 3 are free with paid adult (please select free child ticket option)\nConcerts every Thursday night beginning June 16\, 2022 – August 18\, 2022.
URL:https://www.elkhart.org/event/wellfield-botanic-gardens-groovin-in-the-gardens-5/2022-06-16/
LOCATION:Wellfield Botanic Gardens\, 1011 North Main Street\, Elkhart\, IN\, 46514\, United States
CATEGORIES:Member
END:VEVENT
BEGIN:VEVENT
DTSTART;TZID=America/Indiana/Indianapolis:20220618T130000
DTEND;TZID=America/Indiana/Indianapolis:20220626T200000
DTSTAMP:20260424T224414
CREATED:20220615T170000Z
LAST-MODIFIED:20220616T140848Z
UID:23916-1655557200-1656273600@www.elkhart.org
SUMMARY:Parade of Homes Plus
DESCRIPTION:Interested in buying\, building a new home or remodeling your current home? You won’t want to miss this! The Builders Association of Elkhart County will be hosting the 55th annual Parade of Homes Plus starting June 18\, 2022 and running through June 26\, 2022. \nDiscount tickets are available on line at baec.com\, at your local Martin’s Super Market\, Mid-City Supply in Elkhart\, LaSalle Bristol Flooring Center off of CR 17\, Big C Lumber in Elkhart\, and JCS Fireplace & Stone in Mishawaka for $8.00 or $10.00 at the door. \nHours on Saturdays and Sundays will be 1 to 8 pm. And Thursdays and Fridays from 4 to 8 pm. The homes are at scattered sites throughout Elkhart County and one in White Pigeon MI. \nOn opening weekend visit all 13 homes\, two under construction\, one remodelers showcase and ten new homes. Please note the homes under construction and the remodelers showcase homes are only open June 18th and 19th.
URL:https://www.elkhart.org/event/parade-of-homes-plus/
LOCATION:Trinity on Jackson\, 2715 E Jackson Blvd\, Elkhart\, IN\, United States
CATEGORIES:Member
END:VEVENT
END:VCALENDAR