BEGIN:VCALENDAR
VERSION:2.0
PRODID:-//Greater Elkhart Chamber of Commerce - ECPv6.15.7//NONSGML v1.0//EN
CALSCALE:GREGORIAN
METHOD:PUBLISH
X-ORIGINAL-URL:https://www.elkhart.org
X-WR-CALDESC:Events for Greater Elkhart Chamber of Commerce
REFRESH-INTERVAL;VALUE=DURATION:PT1H
X-Robots-Tag:noindex
X-PUBLISHED-TTL:PT1H
BEGIN:VTIMEZONE
TZID:America/Indiana/Indianapolis
BEGIN:DAYLIGHT
TZOFFSETFROM:-0500
TZOFFSETTO:-0400
TZNAME:EDT
DTSTART:20210314T070000
END:DAYLIGHT
BEGIN:STANDARD
TZOFFSETFROM:-0400
TZOFFSETTO:-0500
TZNAME:EST
DTSTART:20211107T060000
END:STANDARD
BEGIN:DAYLIGHT
TZOFFSETFROM:-0500
TZOFFSETTO:-0400
TZNAME:EDT
DTSTART:20220313T070000
END:DAYLIGHT
BEGIN:STANDARD
TZOFFSETFROM:-0400
TZOFFSETTO:-0500
TZNAME:EST
DTSTART:20221106T060000
END:STANDARD
BEGIN:DAYLIGHT
TZOFFSETFROM:-0500
TZOFFSETTO:-0400
TZNAME:EDT
DTSTART:20230312T070000
END:DAYLIGHT
BEGIN:STANDARD
TZOFFSETFROM:-0400
TZOFFSETTO:-0500
TZNAME:EST
DTSTART:20231105T060000
END:STANDARD
END:VTIMEZONE
BEGIN:VEVENT
DTSTART;TZID=America/Indiana/Indianapolis:20220502T183000
DTEND;TZID=America/Indiana/Indianapolis:20220502T193000
DTSTAMP:20260424T190859
CREATED:20220202T233000Z
LAST-MODIFIED:20220124T174931Z
UID:22075-1651516200-1651519800@www.elkhart.org
SUMMARY:Everence Medicare Monday
DESCRIPTION:Join our webinar about Medicare lead by Everence Financial Consultant\, Elaine Martin\, ChFC®\, CASL®. \nWe’ll cover the following: \nEnrollment details and deadlines.\nBudgeting for health care and income in retirement.\nWhat are your options if you continue to work?\nSocial Security – when do I start?\nPrescription drug coverage.\nPlans that supplement Medicare
URL:https://www.elkhart.org/event/everence-medicare-monday-12/
LOCATION:Virtual\, IN\, United States
CATEGORIES:Member
END:VEVENT
BEGIN:VEVENT
DTSTART;TZID=America/Indiana/Indianapolis:20220504T173000
DTEND;TZID=America/Indiana/Indianapolis:20220504T190000
DTSTAMP:20260424T190859
CREATED:20220428T163000Z
LAST-MODIFIED:20220428T161721Z
UID:23448-1651685400-1651690800@www.elkhart.org
SUMMARY:6 Steps to Creating Raving Fans
DESCRIPTION:Most Business Owners we meet are working 60\, 70\, even 80+ hours a week in their business\, just to be sure to have food on the table for their families and the families of their employees. They have team members who are leaving faster than they can be hired\, and customers are not returning as quickly as you’d like. Sound familiar? \nYou’re not alone\, and Business Ownership doesn’t have to be this way. You started a business because you knew you could be successful. You can\, and the ActionCOACH team is going to present a simple guide to having that success you’ve always dreamed of. \nIn this LIVE\, INTERACTIVE seminar\, participants will walk away with tools to grow their business right away.
URL:https://www.elkhart.org/event/6-steps-to-creating-raving-fans/
LOCATION:Innovation Park\, 1400 Angela Blvd\, South Bend\, IN\, United States
CATEGORIES:Member
END:VEVENT
BEGIN:VEVENT
DTSTART;TZID=America/Indiana/Indianapolis:20220505T121500
DTEND;TZID=America/Indiana/Indianapolis:20220505T131500
DTSTAMP:20260424T190859
CREATED:20220331T161500Z
LAST-MODIFIED:20220413T123058Z
UID:23138-1651752900-1651756500@www.elkhart.org
SUMMARY:Noon Time Talk: Justin Johnson\, Fort Wayne\, IN
DESCRIPTION:Please join us on Thursday\, May 5\, 2022 for our Noon Time Talk at 12:15 PM. \nJustin Johnson (b. 1976; Fort Wayne\, IN) is the gallery director for the University of Saint Francis (2002-present). His collage works were featured in A Sense of Place – Abstract Art in Northern Indiana at the Fort Wayne Museum of Art in Dec 2021- Mar 22. \nMasks are required for all gallery talks if you have not been vaccinated. Masks are strongly recommended if you have been vaccinated. Gallery Talks or Noon Time Talks each Thursday will be limited to 50 people on a first-come-first-serve basis. Doors will be locked at 12:15. No admittance to the museum by the public will be allowed until the talk has concluded and the galleries emptied and sterilized.
URL:https://www.elkhart.org/event/noon-time-talk-justin-johnson-fort-wayne-in/
LOCATION:Midwest Museum of American Art\, 429 S Main St\, Elkhart\, IN\, 46516\, United States
CATEGORIES:Member
END:VEVENT
BEGIN:VEVENT
DTSTART;TZID=America/Indiana/Indianapolis:20220506T193000
DTEND;TZID=America/Indiana/Indianapolis:20220508T150000
DTSTAMP:20260424T190859
CREATED:20220415T233000Z
LAST-MODIFIED:20220418T134610Z
UID:23280-1651865400-1652022000@www.elkhart.org
SUMMARY:Premier Arts Present Sponge Bob the Musical
DESCRIPTION:The show will take The Lerner Theatre stage May 6-8th. The cast of characters are sure to bring nostalgia for fans of the cartoon SpongeBob Squarepants\, fans of classic rock\, and music and dance! Come see SpongeBob\, Patrick Starr\, Sandy the Squirrel\, Squidward Q. Tentacles\, Eugene Krabs and more. In addition\, Premier Arts will present The SpongeBob Musical with an all-youth cast on Saturday\, May 7th at 3:00 pm.\nThe stakes are higher than ever in this dynamic stage musical\, as SpongeBob and all of Bikini Bottom face the total annihilation of their undersea world. Chaos erupts. Lives hang in the balance. And just when all hope seems lost\, a most unexpected hero rises up and takes center stage. The power of optimism really can save the world. The SpongeBob Musical is based on the beloved animated series with original songs by Steven Tyler and Joe Perry of Aerosmith\, Sara Bareilles\, The Flaming Lips\, Lady A\, Cydni Lauper\, John Legend\, Panic! At the Disco\, Plain White T’s\, They Might Be Giants and T.I.\, and songs by David Bowie. \nThis show is produced in partnership with Flexco.
URL:https://www.elkhart.org/event/premier-arts-present-sponge-bob-the-musical/
LOCATION:The Lerner Theatre
CATEGORIES:Member
END:VEVENT
END:VCALENDAR