BEGIN:VCALENDAR
VERSION:2.0
PRODID:-//Greater Elkhart Chamber of Commerce - ECPv6.15.7//NONSGML v1.0//EN
CALSCALE:GREGORIAN
METHOD:PUBLISH
X-ORIGINAL-URL:https://www.elkhart.org
X-WR-CALDESC:Events for Greater Elkhart Chamber of Commerce
REFRESH-INTERVAL;VALUE=DURATION:PT1H
X-Robots-Tag:noindex
X-PUBLISHED-TTL:PT1H
BEGIN:VTIMEZONE
TZID:America/Indiana/Indianapolis
BEGIN:DAYLIGHT
TZOFFSETFROM:-0500
TZOFFSETTO:-0400
TZNAME:EDT
DTSTART:20200308T070000
END:DAYLIGHT
BEGIN:STANDARD
TZOFFSETFROM:-0400
TZOFFSETTO:-0500
TZNAME:EST
DTSTART:20201101T060000
END:STANDARD
BEGIN:DAYLIGHT
TZOFFSETFROM:-0500
TZOFFSETTO:-0400
TZNAME:EDT
DTSTART:20210314T070000
END:DAYLIGHT
BEGIN:STANDARD
TZOFFSETFROM:-0400
TZOFFSETTO:-0500
TZNAME:EST
DTSTART:20211107T060000
END:STANDARD
BEGIN:DAYLIGHT
TZOFFSETFROM:-0500
TZOFFSETTO:-0400
TZNAME:EDT
DTSTART:20220313T070000
END:DAYLIGHT
BEGIN:STANDARD
TZOFFSETFROM:-0400
TZOFFSETTO:-0500
TZNAME:EST
DTSTART:20221106T060000
END:STANDARD
END:VTIMEZONE
BEGIN:VEVENT
DTSTART;TZID=America/Indiana/Indianapolis:20210424T100000
DTEND;TZID=America/Indiana/Indianapolis:20211017T180000
DTSTAMP:20260421T224813
CREATED:20210424T140000Z
LAST-MODIFIED:20210524T191719Z
UID:19368-1619258400-1634493600@www.elkhart.org
SUMMARY:Origami in the Gardens
DESCRIPTION:OrigamiintheGarden2 consists of 21 unique sculptures that comprise 17 different displays sited strategically around Wellfield’s acreage. All pieces feature interpretive signage\, as well as a complimentary cell phone audio tour\, in which guests can gain additional insight about the pieces from the artists themselves.\nGeneral Admission Rates:\nMembers are FREE\nAdults (13 and over): $8\nChildren (ages 3-12): $4\nChildren under 3: Free
URL:https://www.elkhart.org/event/origami-in-the-gardens/
LOCATION:Wellfield Botanic Gardens\, 1011 North Main Street\, Elkhart\, IN\, 46514\, United States
CATEGORIES:Member
END:VEVENT
BEGIN:VEVENT
DTSTART;TZID=America/Indiana/Indianapolis:20210429T113000
DTEND;TZID=America/Indiana/Indianapolis:20210429T143000
DTSTAMP:20260421T224813
CREATED:20210422T153000Z
LAST-MODIFIED:20210422T133444Z
UID:19227-1619695800-1619706600@www.elkhart.org
SUMMARY:Little Black Dress Fashion Show
DESCRIPTION:Presented by Ancon Construction\, Goodwill’s Little Black Dress Fashion Show will pivot to three Online Events via Facebook Live this year. These events are free and the first will go live on Thursday\, April 29th at 11:30 am. Future shows are scheduled for May 6th and 13th with times TBD. Goodwill is partnering with media sponsors: WSBT-TV and B100. Each event will include models and an opportunity to buy the featured styles. Viewers who participate by purchasing items further Goodwill’s Mission to strengthen communities by empowering individuals and families through Education\, Training and Job Placement. Kathy Friend\, nationally known as a stylist and image consultant and President of the Style and Image Institute\, will produce and host the Facebook Live Events @GoodwillNI. She will be joined by Emcees Cari Peugeot\, WSBT-TV Meteorologist and Deb Miles\, Host of The Deb Miles Show on B100. For more information\, call (866) 649-7300 or email: FashionShow@Goodwill-NI.org. Goodwill believes in changing lives and strong communities. They strive to enhance the dignity and quality of life for individuals and families\, by helping people reach their full potential through education\, skills training and the power of work!
URL:https://www.elkhart.org/event/little-black-dress-fashion-show/
LOCATION:IN
CATEGORIES:Member
END:VEVENT
BEGIN:VEVENT
DTSTART;TZID=America/Indiana/Indianapolis:20210429T121500
DTEND;TZID=America/Indiana/Indianapolis:20210429T130100
DTSTAMP:20260421T224813
CREATED:20210405T161500Z
LAST-MODIFIED:20210406T203742Z
UID:18956-1619698500-1619701260@www.elkhart.org
SUMMARY:Midwest Museum of American Art Noon Time Talk: A Walk in the Woods
DESCRIPTION:Please join us on Thursday\, April 29\, 2021 for our Noon Time Talk at 12:15 PM.\nBrian Byrn discusses the exhibit “A Walk in the Woods.”\nAdmission $5. Free for MMAA Members & Donors.\nMasks are required for all gallery talks. Gallery Talks or Noon-Time-Talks each Thursday will be limited to 30 people on a first-come-first-serve basis. Doors will be locked at 12:15. No admittance to the museum by the public will be allowed until the talk has concluded and the galleries emptied and sterilized.
URL:https://www.elkhart.org/event/midwest-museum-of-american-artnoon-time-talk-a-walk-in-the-woods/
LOCATION:Midwest Museum of American Art\, 429 S Main St\, Elkhart\, IN\, 46516\, United States
CATEGORIES:Member
END:VEVENT
BEGIN:VEVENT
DTSTART;TZID=America/Indiana/Indianapolis:20210429T160000
DTEND;TZID=America/Indiana/Indianapolis:20210429T200000
DTSTAMP:20260421T224813
CREATED:20210412T200000Z
LAST-MODIFIED:20210413T174616Z
UID:19072-1619712000-1619726400@www.elkhart.org
SUMMARY:Downtown Elkhart Merchants Alliance Spring Soiree
DESCRIPTION:The downtown Elkhart Merchants Alliance Spring Soiree will take place on Thursday\, April 29th from 4:00-8:00 P.M. \nLadies will be given a “Bingo” card and try to visit every block on Main St. and as many businesses as possible that evening to earn a “Bingo”. Participants that earn a Bingo will randomly be drawn to win one of many $25 gift cards! \nPlease join us for this amazing event in downtown Elkhart and be a part of the fun!! \n 
URL:https://www.elkhart.org/event/spring-soiree/
LOCATION:Downtown Elkhart
CATEGORIES:Member
END:VEVENT
BEGIN:VEVENT
DTSTART;TZID=America/Indiana/Indianapolis:20210430T163000
DTEND;TZID=America/Indiana/Indianapolis:20210430T190000
DTSTAMP:20260421T224813
CREATED:20210422T153543Z
LAST-MODIFIED:20210422T153654Z
UID:19228-1619800200-1619809200@www.elkhart.org
SUMMARY:Walk-In Clinic Moderna COVID Vaccine
DESCRIPTION:Walk-In Clinic\nModerna COVID Vaccine\nProvided by the Elkhart County Health Department \nWalk-in clinic\, no appointment needed \nMust be 18 or older\nMust wear a mask\nBring any form of ID (will accept passport\, matriculation card\, mail w/ name & address)\n2nd dose on June 4\, 2021\, 4:30pm—7pm\nSe Habla Español
URL:https://www.elkhart.org/event/walk-in-clinic-moderna-covid-vaccine/
LOCATION:Concord Event Center\, 3719 S Main St\, Elkhart\, IN\, United States
CATEGORIES:Member
END:VEVENT
BEGIN:VEVENT
DTSTART;TZID=America/Indiana/Indianapolis:20210501T090000
DTEND;TZID=America/Indiana/Indianapolis:20210501T170000
DTSTAMP:20260421T224813
CREATED:20210422T181716Z
LAST-MODIFIED:20210422T185947Z
UID:19233-1619859600-1619888400@www.elkhart.org
SUMMARY:Cancer Resources for Elkhart County 18th Annual Compassion Walk
DESCRIPTION:Cancer Resources for Elkhart County 18th Annual Compassion Walk \nThe Compassion Walk is absolutely FREE! \nSo please\, CLICK HERE TO START YOUR WALK CAMPAIGN https://elkhartcancer.org/events/2021-compassion-walk/ \nfor yourself or your team\, or make a donation to the Compassion Walk. \n100% of the funds stay in Elkhart County! \nCan’t make The Compassion Walk? You can still help raise funds by creating your Walk Web Page\, posting it to social media\, and your friends and family can donate right through your page! \nFollowing Covid 19 Guidelines\, A maximum of 25 walkers will be assigned times in 15 minute intervals beginning at 9 AM. Social distancing\, masking\, sanitizing\, staying home if diagnosed\, exposed within 10 days\, having symptoms\, or staying home if part of a vulnerable population is mandatory\, by order of local officials. \nPlease contact Cancer Resources at (574) 875-5158 or info@elkhartcancer.org to reserve your start time\, and thanks for your support!
URL:https://www.elkhart.org/event/cancer-resources-for-elkhart-county-18th-annual-compassion-walk/
LOCATION:Island Park\, downtown Elkhart\, IN\, United States
CATEGORIES:Member
END:VEVENT
END:VCALENDAR