BEGIN:VCALENDAR
VERSION:2.0
PRODID:-//Greater Elkhart Chamber of Commerce - ECPv6.15.7//NONSGML v1.0//EN
CALSCALE:GREGORIAN
METHOD:PUBLISH
X-ORIGINAL-URL:https://www.elkhart.org
X-WR-CALDESC:Events for Greater Elkhart Chamber of Commerce
REFRESH-INTERVAL;VALUE=DURATION:PT1H
X-Robots-Tag:noindex
X-PUBLISHED-TTL:PT1H
BEGIN:VTIMEZONE
TZID:America/Indiana/Indianapolis
BEGIN:DAYLIGHT
TZOFFSETFROM:-0500
TZOFFSETTO:-0400
TZNAME:EDT
DTSTART:20200308T070000
END:DAYLIGHT
BEGIN:STANDARD
TZOFFSETFROM:-0400
TZOFFSETTO:-0500
TZNAME:EST
DTSTART:20201101T060000
END:STANDARD
BEGIN:DAYLIGHT
TZOFFSETFROM:-0500
TZOFFSETTO:-0400
TZNAME:EDT
DTSTART:20210314T070000
END:DAYLIGHT
BEGIN:STANDARD
TZOFFSETFROM:-0400
TZOFFSETTO:-0500
TZNAME:EST
DTSTART:20211107T060000
END:STANDARD
BEGIN:DAYLIGHT
TZOFFSETFROM:-0500
TZOFFSETTO:-0400
TZNAME:EDT
DTSTART:20220313T070000
END:DAYLIGHT
BEGIN:STANDARD
TZOFFSETFROM:-0400
TZOFFSETTO:-0500
TZNAME:EST
DTSTART:20221106T060000
END:STANDARD
END:VTIMEZONE
BEGIN:VEVENT
DTSTART;TZID=America/Indiana/Indianapolis:20210301T090000
DTEND;TZID=America/Indiana/Indianapolis:20210312T183000
DTSTAMP:20260425T062156
CREATED:20210301T140000Z
LAST-MODIFIED:20210309T151706Z
UID:18617-1614589200-1615573800@www.elkhart.org
SUMMARY:Raise the Roof
DESCRIPTION:Teams from our community will participate in a friendly competition and compete for not only bragging rights but to also be our lead Habitat Raise the Roof Build sponsor by sharing what home means to them.\nSupport Habitat for Humanity by voting for your favorite team. 100% of the proceeds will go directly to the building of our next Habitat home\, the Raise the Roof Build this spring.\nCheck out each team’s stories\, photos\, and videos starting by visiting our event page\, raisetheroof.swell.gives. You can vote early and as often as you wish.\nThen join us Friday\, March 12\, 2021\, from 6:00 to 6:30 pm for a live\, virtual event with our emcee Mark McGill will announce the winning team.
URL:https://www.elkhart.org/event/raise-the-roof/
LOCATION:Virtual\, IN\, United States
CATEGORIES:Member
END:VEVENT
BEGIN:VEVENT
DTSTART;TZID=America/Indiana/Indianapolis:20210305T000000
DTEND;TZID=America/Indiana/Indianapolis:20210305T160000
DTSTAMP:20260425T062156
CREATED:20210205T050000Z
LAST-MODIFIED:20210215T165512Z
UID:18421-1614902400-1614960000@www.elkhart.org
SUMMARY:REAL Services Age of Excellence Nominations Deadline!
DESCRIPTION:For 25 years\, REAL Services has hosted our community Age of Excellence Awards luncheon event to celebrate unsung heroes\, caregivers\, in our Northern Indiana region. \nWe are asking you to submit nominations for one or more of our eight award categories. Nominations can be submitted online at: https://realservices.org/get-involved/excellence/\, \nAll nominations must be received by: Friday\, March 5\, 2021\, 4:00pm (We are unable to accept nominations after this date and time). \nWinners are chosen with the assistance of representatives from six counties: \nElkhart\, Fulton\, LaPorte\, Kosciusko\, Marshall and St. Joseph. \nEach person or agency nominated will receive a complimentary lunch reservation at the Age of Excellence Awards Luncheon event and a certificate acknowledging their valued contribution. \nWhat makes this awards event so special is that you nominate those you know who give selflessly to their loved one in our northern Indiana communities. Those who receive a nomination will be inspired and grateful for many years to come. \nAlso\, please mark your calendar to join us at the 2021 Age of Excellence Awards Luncheon Event on Wednesday\, May 5\, 2021\, 11:30am\, Century Center\, South Bend. To make your reservation or to pledge a sponsorship\, please visit: \nAge of Excellence \n \nThanks for your consideration\, and we look forward to seeing you at the luncheon. \nPlease forward this email to friends\, family or co-workers who may have an interest in participating in honoring our unsung heroes.
URL:https://www.elkhart.org/event/age-of-excellence-nominations/
LOCATION:Virtual\, IN\, United States
CATEGORIES:Member
END:VEVENT
BEGIN:VEVENT
DTSTART;TZID=America/Indiana/Indianapolis:20210305T190000
DTEND;TZID=America/Indiana/Indianapolis:20210305T210000
DTSTAMP:20260425T062156
CREATED:20210210T000000Z
LAST-MODIFIED:20210210T184611Z
UID:18332-1614970800-1614978000@www.elkhart.org
SUMMARY:Soup of Success Souper Trivia
DESCRIPTION:A virtual fundraiser to support programming that helps empower women in Elkhart County who are seeking a more secure future. $25/person\, up to 8 players per team. 4 rounds – 8 questions per round. $200 cash prize for the winning team! Register by February 22 and receive $5 off your order at www.soupofsuccess.com.
URL:https://www.elkhart.org/event/soup-of-success-souper-trivia/
LOCATION:Virtual\, IN\, United States
CATEGORIES:Member
END:VEVENT
END:VCALENDAR