BEGIN:VCALENDAR
VERSION:2.0
PRODID:-//Greater Elkhart Chamber of Commerce - ECPv6.15.7//NONSGML v1.0//EN
CALSCALE:GREGORIAN
METHOD:PUBLISH
X-ORIGINAL-URL:https://www.elkhart.org
X-WR-CALDESC:Events for Greater Elkhart Chamber of Commerce
REFRESH-INTERVAL;VALUE=DURATION:PT1H
X-Robots-Tag:noindex
X-PUBLISHED-TTL:PT1H
BEGIN:VTIMEZONE
TZID:America/Indiana/Indianapolis
BEGIN:DAYLIGHT
TZOFFSETFROM:-0500
TZOFFSETTO:-0400
TZNAME:EDT
DTSTART:20250309T070000
END:DAYLIGHT
BEGIN:STANDARD
TZOFFSETFROM:-0400
TZOFFSETTO:-0500
TZNAME:EST
DTSTART:20251102T060000
END:STANDARD
BEGIN:DAYLIGHT
TZOFFSETFROM:-0500
TZOFFSETTO:-0400
TZNAME:EDT
DTSTART:20260308T070000
END:DAYLIGHT
BEGIN:STANDARD
TZOFFSETFROM:-0400
TZOFFSETTO:-0500
TZNAME:EST
DTSTART:20261101T060000
END:STANDARD
BEGIN:DAYLIGHT
TZOFFSETFROM:-0500
TZOFFSETTO:-0400
TZNAME:EDT
DTSTART:20270314T070000
END:DAYLIGHT
BEGIN:STANDARD
TZOFFSETFROM:-0400
TZOFFSETTO:-0500
TZNAME:EST
DTSTART:20271107T060000
END:STANDARD
END:VTIMEZONE
BEGIN:VEVENT
DTSTART;TZID=America/Indiana/Indianapolis:20260507T180000
DTEND;TZID=America/Indiana/Indianapolis:20260507T220000
DTSTAMP:20260421T221603
CREATED:20260406T180000Z
LAST-MODIFIED:20260406T181948Z
UID:45003-1778176800-1778191200@www.elkhart.org
SUMMARY:YWCA Safe Haven SOS Dinner & Auction
DESCRIPTION:Join us on May 7th for our Annual Dinner & Auction benefiting YWCA Safe Haven Shelter! ✨ \nCelebrate the incredible impact of our community while helping women and children in Elkhart County shine. This special evening will honor Jacqueline Barton\, our 2026 Champion for Women & Children\, and RV Women’s Alliance\, our 2026 Community Partner of the Year. \nYour support helps families find safety\, stability\, and the resources they need to build brighter\, abuse-free futures. \n💛 Together\, we can make a difference.
URL:https://www.elkhart.org/event/ywca-safe-haven-sos-dinner-auction/
LOCATION:Crystal Ballroom at the Lerner Theatre\, 410 S Main St\, Elkhart\, 46516\, United States
CATEGORIES:Member
END:VEVENT
BEGIN:VEVENT
DTSTART;TZID=America/Indiana/Indianapolis:20260509T150000
DTEND;TZID=America/Indiana/Indianapolis:20260509T170000
DTSTAMP:20260421T221603
CREATED:20260419T190000Z
LAST-MODIFIED:20260421T135244Z
UID:45191-1778338800-1778346000@www.elkhart.org
SUMMARY:Run to the Game
DESCRIPTION:Join us as we kick off the Move as One partnership between Center for Healing & Hope and semi-pro soccer club Goshen City FC!\nMove as One: https://chhclinics.org/move-as-one/ \nOn Saturday\, May 9\, we will meet at Center for Healing & Hope and run or walk down the Millrace Canal Trail to the Goshen College Soccer Complex for the Celebration of Hope Match between Goshen City FC and Holland Rovers!\nPost-match celebration at Goshen Brewing Company from 7:00-9:00pm! All are welcome! \nAll registrants receive free admission to the soccer game\, which begins at 5:00pm. Ticket sale proceeds to the game benefit Center for Healing & Hope! \nThe first 50 registrants receive a free Move as One dri-fit t-shirt and paleta from Tropicana Ice Cream truck at the soccer game! \nThanks to our sponsor\, the Pumpkinvine Trails Coalition\, this race is FREE to participate in. Let’s Move as One!
URL:https://www.elkhart.org/event/run-to-the-game/
LOCATION:Center for Healing & Hope – Goshen\, 400 W. Lincoln Avenue\, Goshen\, IN\, United States
CATEGORIES:Member
END:VEVENT
BEGIN:VEVENT
DTSTART;TZID=America/Indiana/Indianapolis:20260510T100000
DTEND;TZID=America/Indiana/Indianapolis:20260510T150000
DTSTAMP:20260421T221603
CREATED:20260325T140000Z
LAST-MODIFIED:20260331T173140Z
UID:44711-1778407200-1778425200@www.elkhart.org
SUMMARY:Mother's Day Brunch- Hotel Elkhart Tapestry by Hilton
DESCRIPTION:A Celebration of Love – Make this Mother’s Day truly special with a meal that’s as memorable as the occasion! \n💐 Celebrate Mother’s Day with a Special Brunch! 💐 \nTreat Mom to a delicious brunch filled with her favorites: \n🍳 Made-to-Order Omelette Station\n🧇 Self-Serve Waffle Station\n🥓 Bacon & Sausage\n🥔 Roasted Yukon Potatoes\n🥗 Garden Salad\n🥔 Dill Redskin Potato Salad\n🍓 Fresh Fruit Display \nChef’s Entrées:\n🍗 Tuscan Chicken\n🐟 Honey Mustard Salmon\n🥩 Prime Rib\n🍤 Garden Shrimp Scampi\n🍝 Baked Mostaccioli\n🌿 Lemon Asparagus \n🍰 Assorted Desserts \n🍹 Full Service Bar Available — perfect for mimosas and a toast to Mom! \nBring the family and celebrate the moms and mother figures who mean so much. 💕 \nReservations Required: For questions or more details contact Chasity Woods at 574-891-2049 or via email at salesadmin@hotelelkhart.com
URL:https://www.elkhart.org/event/mothers-day-brunch-hotel-elkhart-tapestry-by-hilton/
LOCATION:The Aria Ballroom at Hotel Elkhart\, 500 S Main St\, Elkhart\, 46516\, United States
CATEGORIES:Member
END:VEVENT
BEGIN:VEVENT
DTSTART;TZID=America/Indiana/Indianapolis:20260512T100000
DTEND;TZID=America/Indiana/Indianapolis:20260512T160000
DTSTAMP:20260421T221603
CREATED:20260325T140000Z
LAST-MODIFIED:20260331T173651Z
UID:44615-1778580000-1778601600@www.elkhart.org
SUMMARY:Rex Martin NIBCO Interactive Museum Public Day
DESCRIPTION:The Rex Martin NIBCO Interactive Museum is open to the public for tours. Learn about NIBCO’s rich 121-year history in Elkhart\, its impact on the community and the plumbing industry\, and beyond. Experience the behind-the-wall Plumbing Discovery House and other interactive exhibits.
URL:https://www.elkhart.org/event/rex-martin-nibco-interactive-museum-public-day/
LOCATION:Rex Martin NIBCO Interactive Museum\, 1516 Middlebury Street\, Elkhart
CATEGORIES:Member
END:VEVENT
BEGIN:VEVENT
DTSTART;TZID=America/Indiana/Indianapolis:20260516T123000
DTEND;TZID=America/Indiana/Indianapolis:20260516T153000
DTSTAMP:20260421T221603
CREATED:20260416T163000Z
LAST-MODIFIED:20260421T143128Z
UID:45161-1778934600-1778945400@www.elkhart.org
SUMMARY:Elkhart and Mosaic Flag Football Classic
DESCRIPTION:Please join us for the first event of its kind – a Flag Football Classic featuring the Elkhart High School football team and staff & individuals from Mosaic in Northern Indiana\, an organization that serves individuals with intellectual and developmental disabilities. \nThis is a FREE event\, and everyone is welcome to come cheer on our players\, cheerleaders and band members! We look forward to gathering as a community in an environment that is accessible and welcoming to people of all abilities. \nThere will be food trucks to purchase food\, games\, giveaways and more!
URL:https://www.elkhart.org/event/elkhart-and-mosaic-flag-football-classic/
LOCATION:Rice Field\, 1 Blazer Blvd\, Elkhart\, IN
CATEGORIES:Member
END:VEVENT
BEGIN:VEVENT
DTSTART;TZID=America/Indiana/Indianapolis:20260517T160000
DTEND;TZID=America/Indiana/Indianapolis:20260517T180000
DTSTAMP:20260421T221603
CREATED:20260124T210000Z
LAST-MODIFIED:20260130T185044Z
UID:43501-1779033600-1779040800@www.elkhart.org
SUMMARY:Elkhart County Symphony – Exhale & Celebrate
DESCRIPTION:Music for Breathing\, Music for Joy \nThe Elkhart County Symphony’s exuberant Season 78 finale\, “Exhale & Celebrate\,” includes inventive works composed by—and featuring—guest soloist Caitlin Edwards and a performance of Rimsky-Korsakov’s Capriccio espagnol by the Symphony \nOn May 17\, 2026\, at The Lerner Theatre in Downtown Elkhart\, the Elkhart County Symphony presents its 2025-26 season finale\, “Exhale & Celebrate.” The Season 78 finale features guest soloist Caitlin Edwards on violin and presents a repertoire including music from the guest soloist’s album Exhale\, as well as the Symphony performing Rimsky-Korsakov’s Capriccio espagnol and additional orchestral works. \nMs. Edwards\, a violinist\, arranger\, recording artist\, and teacher based in Chicago\, began her musical journey at age eight through the Music Opportunity Program in Birmingham\, Alabama. A classically-trained violinist\, Ms. Edwards credits gospel\, jazz\, hip-hop\, and neo-soul as her musical inspirations. She received degrees in Violin Performance from the University of Louisville (B.M.) and DePaul University (M.M.)\, studying with J. Patrick Rafferty and Janet Sung. \nDisrupting the status quo \nCurrently a mentor with the Chicago Musical Pathways Initiative\, a program designed to offer resources to talented Black\, Indigenous\, and People of Color (BIPOC) youth pursuing careers in classical music\, Ms. Edwards’ musical ambition extends beyond herself. Having realized some of her own dreams—including winning numerous orchestral awards and earning the opportunity to perform and record behind artists such as John Legend\, Earth Wind and Fire\, Lauryn Hill\, Stewart Copeland\, Common\, Lucky Daye\, Yolanda Adams\, and India Arie—her ultimate goal is to help educate and inspire the next generation of young Black musicians\, and to see the voices and faces of Black people normalized in traditionally monopolized spaces through increased visibility and disruption of the status quo. \nMs. Edwards is a 2023 Sphinx MPower Artist Grant recipient\, a 2022 Esteemed Artist Award recipient from the Chicago Department of Cultural Affairs and Special Events\, and a 2021 3Arts/Walder Foundation Awardee. She has performed with the Sphinx Symphony Orchestra\, \nNairobi Philharmonic\, Grant Park Festival Orchestra\, Chicago Sinfonietta\, National Repertory Orchestra\, the Chicago Philharmonic\, Oistrakh Symphony of Chicago\, and the ReCollective Orchestra in New York City and Los Angeles\, and was also a recipient of the Rising Star Award from the Gateways Music Festival. In addition\, Ms. Edwards has received Grammy certificates for recordings on Disney’s The Lion King with the Re-Collective Orchestra and for albums by John Legend and PJ Morton. \nHer acclaimed 2021 debut solo album\, Exhale\, fuses the sound of classical music with the soul and harmonies of gospel and neo-soul. The Elkhart County Symphony is honored and pleased to welcome Ms. Edwards and collaborate to perform some of her innovative and inspiring work at “Exhale & Celebrate.” \nFive joyful movements \nCapriccio espagnol is a five-movement orchestral suite\, based on Spanish folk melodies\, composed in 1887 by the Russian composer Nikolai Rimsky-Korsakov. It premiered in St. Petersburg in 1887\, conducted by Rimsky-Korsakov\, during an October performance by the Imperial Orchestra. \nThe composer intended to write the work for a solo violin with orchestra\, but eventually decided that a purely orchestral work would better suit its lively and energetic melodies. Often praised for the strength of its orchestration\, Capriccio espagnol features a large percussion section and many special techniques and articulations—for example\, in the fourth movement\, when the violinists\, violists\, and cellists are directed to imitate guitars. \nRimsky-Korsakov was considered a master of orchestration and was a member of the group of influential\, nationalistic Russian composers known as The Five. His best-known orchestral compositions—including Capriccio espagnol\, the Russian Easter Overture\, and the symphonic suite Scheherazade—are staples of the classical music repertoire\, and the composer was thought to have influenced an entire generation of younger composers and musicians during his many years as an educator. Rimsky-Korsakov\, therefore\, is largely thought of as the principal architect of what the classical music public considers the “Russian style.”
URL:https://www.elkhart.org/event/elkhart-county-symphony-exhale-celebrate/
LOCATION:The Lerner Theatre
CATEGORIES:Member
END:VEVENT
BEGIN:VEVENT
DTSTART;TZID=America/Indiana/Indianapolis:20260519T130000
DTEND;TZID=America/Indiana/Indianapolis:20260519T150000
DTSTAMP:20260421T221603
CREATED:20260421T170000Z
LAST-MODIFIED:20260421T144317Z
UID:45249-1779195600-1779202800@www.elkhart.org
SUMMARY:LOGAN Reverse Job Fair
DESCRIPTION:We’d love to invite your team to an easy and effective hiring opportunity with LOGAN—our upcoming Reverse Job Fair on May 19 from 1:00–3:00 PM at Ivy Tech South Bend Café.\nUnlike a traditional job fair\, this open house event is designed with employers in mind. Job seekers are set up and ready to meet you\, making it simple to connect\, have conversations\, and identify potential candidates—no booth setup or extensive preparation required.\nYou’ll have the chance to meet motivated individuals from LOGAN who are job-ready\, eager to work\, and have been preparing through training\, coaching\, and mock interviews. It’s a low-effort\, high-impact way to diversify your workforce and discover reliable talent.\nWe hope you’ll join us! Please register using the link.
URL:https://www.elkhart.org/event/logan-reverse-job-fair/
LOCATION:Ivy Tech Community College – South Bend\, 220 Dean Johnson Blvd\, South Bend\, IN
CATEGORIES:Member
END:VEVENT
END:VCALENDAR