BEGIN:VCALENDAR
VERSION:2.0
PRODID:-//Greater Elkhart Chamber of Commerce - ECPv6.15.7//NONSGML v1.0//EN
CALSCALE:GREGORIAN
METHOD:PUBLISH
X-ORIGINAL-URL:https://www.elkhart.org
X-WR-CALDESC:Events for Greater Elkhart Chamber of Commerce
REFRESH-INTERVAL;VALUE=DURATION:PT1H
X-Robots-Tag:noindex
X-PUBLISHED-TTL:PT1H
BEGIN:VTIMEZONE
TZID:America/Indiana/Indianapolis
BEGIN:DAYLIGHT
TZOFFSETFROM:-0500
TZOFFSETTO:-0400
TZNAME:EDT
DTSTART:20250309T070000
END:DAYLIGHT
BEGIN:STANDARD
TZOFFSETFROM:-0400
TZOFFSETTO:-0500
TZNAME:EST
DTSTART:20251102T060000
END:STANDARD
BEGIN:DAYLIGHT
TZOFFSETFROM:-0500
TZOFFSETTO:-0400
TZNAME:EDT
DTSTART:20260308T070000
END:DAYLIGHT
BEGIN:STANDARD
TZOFFSETFROM:-0400
TZOFFSETTO:-0500
TZNAME:EST
DTSTART:20261101T060000
END:STANDARD
BEGIN:DAYLIGHT
TZOFFSETFROM:-0500
TZOFFSETTO:-0400
TZNAME:EDT
DTSTART:20270314T070000
END:DAYLIGHT
BEGIN:STANDARD
TZOFFSETFROM:-0400
TZOFFSETTO:-0500
TZNAME:EST
DTSTART:20271107T060000
END:STANDARD
END:VTIMEZONE
BEGIN:VEVENT
DTSTART;TZID=America/Indiana/Indianapolis:20260425T100000
DTEND;TZID=America/Indiana/Indianapolis:20260425T160000
DTSTAMP:20260421T101427
CREATED:20260406T140000Z
LAST-MODIFIED:20260414T142600Z
UID:44614-1777111200-1777132800@www.elkhart.org
SUMMARY:Rex Martin NIBCO Interactive Museum Public Day
DESCRIPTION:The Rex Martin NIBCO Interactive Museum is open to the public for tours. Learn about NIBCO’s rich 121-year history in Elkhart\, its impact on the community and the plumbing industry\, and beyond. Experience the behind-the-wall Plumbing Discovery House and other interactive exhibits.
URL:https://www.elkhart.org/event/rex-martin-nibco-interactive-museum-public-day-2/
LOCATION:Rex Martin NIBCO Interactive Museum\, 1516 Middlebury Street\, Elkhart
CATEGORIES:Member
END:VEVENT
BEGIN:VEVENT
DTSTART;TZID=America/Indiana/Indianapolis:20260425T190000
DTEND;TZID=America/Indiana/Indianapolis:20260425T220000
DTSTAMP:20260421T101427
CREATED:20260126T000000Z
LAST-MODIFIED:20260130T192209Z
UID:43500-1777143600-1777154400@www.elkhart.org
SUMMARY:World Ballet Company: Cinderella
DESCRIPTION:Step into the magical world of Cinderella\, live on stage! \nThe beloved fairy tale comes to life in a spectacular Broadway-style production that delights all ages\, blending humor\, romance\, and the timeless majesty of classical ballet. \nWorld Ballet Company’s Cinderella features a dazzling cast of 40 international dancers\, over 150 radiant hand-sewn costumes\, exquisite hand-crafted sets\, and enchanting choreography by Marina Kesler. From the mischievous evil stepsisters to the breathtaking ballroom scenes\, every moment is filled with charm\, wonder and everything you’ve loved about this story for years. \nJoin us for an unforgettable journey of magic\, beauty\, and the promise of “happily ever after.” But remember\, when the clock strikes midnight\, everything will change… \nDuration: 2 hours (including 20-minute intermission)\nAudience: For ages 2 & over\nWBC Website: https://worldballetcompany.com/elkhart1 \nWorld Ballet Company – Ballet Everywhere\, Ballet For All. \n*About the Company: Based in Los Angeles\, and led by Sasha Gorskaya and Gulya Hartwick\, the World Ballet Company presents the most beloved and iconic ballets of our time in cities nationwide. Driven by the belief that ballet is for everyone\, performances appeal to newcomers and seasoned ballet goers alike. The company attracts many international artists and comprises renowned professional dancers representing over ten countries. \nTo date\, World Ballet Company has traveled to more than 300 cities\, reaching an audience of more than 500\,000\, many of whom are first-time attendees to a ballet.
URL:https://www.elkhart.org/event/world-ballet-company-cinderella/
LOCATION:The Lerner Theatre
CATEGORIES:Member
END:VEVENT
END:VCALENDAR