BEGIN:VCALENDAR
VERSION:2.0
PRODID:-//Greater Elkhart Chamber of Commerce - ECPv6.15.7//NONSGML v1.0//EN
CALSCALE:GREGORIAN
METHOD:PUBLISH
X-ORIGINAL-URL:https://www.elkhart.org
X-WR-CALDESC:Events for Greater Elkhart Chamber of Commerce
REFRESH-INTERVAL;VALUE=DURATION:PT1H
X-Robots-Tag:noindex
X-PUBLISHED-TTL:PT1H
BEGIN:VTIMEZONE
TZID:America/Indiana/Indianapolis
BEGIN:DAYLIGHT
TZOFFSETFROM:-0500
TZOFFSETTO:-0400
TZNAME:EDT
DTSTART:20250309T070000
END:DAYLIGHT
BEGIN:STANDARD
TZOFFSETFROM:-0400
TZOFFSETTO:-0500
TZNAME:EST
DTSTART:20251102T060000
END:STANDARD
BEGIN:DAYLIGHT
TZOFFSETFROM:-0500
TZOFFSETTO:-0400
TZNAME:EDT
DTSTART:20260308T070000
END:DAYLIGHT
BEGIN:STANDARD
TZOFFSETFROM:-0400
TZOFFSETTO:-0500
TZNAME:EST
DTSTART:20261101T060000
END:STANDARD
BEGIN:DAYLIGHT
TZOFFSETFROM:-0500
TZOFFSETTO:-0400
TZNAME:EDT
DTSTART:20270314T070000
END:DAYLIGHT
BEGIN:STANDARD
TZOFFSETFROM:-0400
TZOFFSETTO:-0500
TZNAME:EST
DTSTART:20271107T060000
END:STANDARD
END:VTIMEZONE
BEGIN:VEVENT
DTSTART;TZID=America/Indiana/Indianapolis:20260423T130000
DTEND;TZID=America/Indiana/Indianapolis:20260423T140000
DTSTAMP:20260425T140606
CREATED:20260409T170000Z
LAST-MODIFIED:20260410T170914Z
UID:45031-1776949200-1776952800@www.elkhart.org
SUMMARY:The state of WOTC
DESCRIPTION:A live discussion with legislative and industry experts on the WOTC hiatus\, renewal efforts\, proposed enhancements\, and what employers need to know now. \nJoin us on Thursday\, April 23 at 1:00 p.m. ET for a live Capitol Insights roundtable focused on the current Work Opportunity Tax Credit (WOTC) hiatus and the legislative efforts shaping its future. This timely discussion brings together policy\, legal\, and community voices to examine what’s next\, and how employers can prepare. \nTopics we will cover:\n– The current state of WOTC and the legislative path forward\n– Newly introduced bills in both the House and Senate\n– Proposed enhancements to strengthen and modernize the credit\n– The addition of Military Spouses as a new eligible category\n– The program’s impact on justice-impacted individuals and local communities
URL:https://www.elkhart.org/event/the-state-of-wotc/
LOCATION:Virtual\, IN\, United States
CATEGORIES:Member
END:VEVENT
BEGIN:VEVENT
DTSTART;TZID=America/Indiana/Indianapolis:20260423T160000
DTEND;TZID=America/Indiana/Indianapolis:20260423T190000
DTSTAMP:20260425T140606
CREATED:20260210T210000Z
LAST-MODIFIED:20260210T214803Z
UID:43921-1776960000-1776970800@www.elkhart.org
SUMMARY:Goodwill Little Black Dress Fundraiser
DESCRIPTION:The Little Black Dress fundraiser features dinner and a fashion show along with an upscale\, brand-name pop-up boutique. All proceeds from the event will benefit Goodwill’s programs to empower people to achieve their most abundant life. There’s no other event like this in South Bend!
URL:https://www.elkhart.org/event/goodwill-little-black-dress-fundraiser/
LOCATION:Four Winds Event Center\, 3000 Prairie Ave\, South Bend\, IN\, United States
CATEGORIES:Member
END:VEVENT
END:VCALENDAR