BEGIN:VCALENDAR
VERSION:2.0
PRODID:-//Greater Elkhart Chamber of Commerce - ECPv6.15.7//NONSGML v1.0//EN
CALSCALE:GREGORIAN
METHOD:PUBLISH
X-ORIGINAL-URL:https://www.elkhart.org
X-WR-CALDESC:Events for Greater Elkhart Chamber of Commerce
REFRESH-INTERVAL;VALUE=DURATION:PT1H
X-Robots-Tag:noindex
X-PUBLISHED-TTL:PT1H
BEGIN:VTIMEZONE
TZID:America/Indiana/Indianapolis
BEGIN:DAYLIGHT
TZOFFSETFROM:-0500
TZOFFSETTO:-0400
TZNAME:EDT
DTSTART:20240310T070000
END:DAYLIGHT
BEGIN:STANDARD
TZOFFSETFROM:-0400
TZOFFSETTO:-0500
TZNAME:EST
DTSTART:20241103T060000
END:STANDARD
BEGIN:DAYLIGHT
TZOFFSETFROM:-0500
TZOFFSETTO:-0400
TZNAME:EDT
DTSTART:20250309T070000
END:DAYLIGHT
BEGIN:STANDARD
TZOFFSETFROM:-0400
TZOFFSETTO:-0500
TZNAME:EST
DTSTART:20251102T060000
END:STANDARD
BEGIN:DAYLIGHT
TZOFFSETFROM:-0500
TZOFFSETTO:-0400
TZNAME:EDT
DTSTART:20260308T070000
END:DAYLIGHT
BEGIN:STANDARD
TZOFFSETFROM:-0400
TZOFFSETTO:-0500
TZNAME:EST
DTSTART:20261101T060000
END:STANDARD
END:VTIMEZONE
BEGIN:VEVENT
DTSTART;TZID=America/Indiana/Indianapolis:20251211T121500
DTEND;TZID=America/Indiana/Indianapolis:20251211T131500
DTSTAMP:20260424T214842
CREATED:20251031T161500Z
LAST-MODIFIED:20251031T150846Z
UID:41896-1765455300-1765458900@www.elkhart.org
SUMMARY:Noon Time Talk: J.J. Weinberg\, LaPorte\, IN.
DESCRIPTION:Please join us for our Noon Time Talk on Thursday\, December 4.\nWe will be joined by LaPorte artist J.J. Weinberg whose artwork is featured in the 47th Elkhart Juried Regional. \nFree to MMAA Members. Regular Admission Fees apply for Non-Members. \nGallery Talks or Noon Time Talks each Thursday will be limited to 75 people on a first-come-first-serve basis. Program begins at 12:15. No admittance after the program begins until the conclusion of the program at 1:15 pm.
URL:https://www.elkhart.org/event/noon-time-talk-j-j-weinberg-laporte-in/
LOCATION:Midwest Museum of American Art\, 429 S Main St\, Elkhart\, IN\, 46516\, United States
CATEGORIES:Member
END:VEVENT
END:VCALENDAR