BEGIN:VCALENDAR
VERSION:2.0
PRODID:-//Greater Elkhart Chamber of Commerce - ECPv6.15.7//NONSGML v1.0//EN
CALSCALE:GREGORIAN
METHOD:PUBLISH
X-WR-CALNAME:Greater Elkhart Chamber of Commerce
X-ORIGINAL-URL:https://www.elkhart.org
X-WR-CALDESC:Events for Greater Elkhart Chamber of Commerce
REFRESH-INTERVAL;VALUE=DURATION:PT1H
X-Robots-Tag:noindex
X-PUBLISHED-TTL:PT1H
BEGIN:VTIMEZONE
TZID:America/Indiana/Indianapolis
BEGIN:DAYLIGHT
TZOFFSETFROM:-0500
TZOFFSETTO:-0400
TZNAME:EDT
DTSTART:20240310T070000
END:DAYLIGHT
BEGIN:STANDARD
TZOFFSETFROM:-0400
TZOFFSETTO:-0500
TZNAME:EST
DTSTART:20241103T060000
END:STANDARD
BEGIN:DAYLIGHT
TZOFFSETFROM:-0500
TZOFFSETTO:-0400
TZNAME:EDT
DTSTART:20250309T070000
END:DAYLIGHT
BEGIN:STANDARD
TZOFFSETFROM:-0400
TZOFFSETTO:-0500
TZNAME:EST
DTSTART:20251102T060000
END:STANDARD
BEGIN:DAYLIGHT
TZOFFSETFROM:-0500
TZOFFSETTO:-0400
TZNAME:EDT
DTSTART:20260308T070000
END:DAYLIGHT
BEGIN:STANDARD
TZOFFSETFROM:-0400
TZOFFSETTO:-0500
TZNAME:EST
DTSTART:20261101T060000
END:STANDARD
END:VTIMEZONE
BEGIN:VEVENT
DTSTART;TZID=America/Indiana/Indianapolis:20251114T190000
DTEND;TZID=America/Indiana/Indianapolis:20251114T220000
DTSTAMP:20260424T155907
CREATED:20251014T230000Z
LAST-MODIFIED:20251031T151817Z
UID:41398-1763146800-1763157600@www.elkhart.org
SUMMARY:Mutts Gone Nuts: Unleashed!
DESCRIPTION:Mutts Gone Nuts – Unleashed! \nCome see a dozen of the world’s most talented four-legged performers\, in an uproariously funny\, comedy dog spectacular that is leaving audiences everywhere howling for more! The all-star lineup includes a Guinness World Record holder\, and an America’s Got Talent fan favorite\, and a host of amazing rescue dogs that will dance\, prance\, flip\, and skip their way right into your heart. \nDeemed “A must see” by The Washington Post\, Mutts Gone Nuts Unleashed is sure to win Best in Show!
URL:https://www.elkhart.org/event/mutts-gone-nuts-unleashed/
LOCATION:The Lerner Theatre
CATEGORIES:Member
END:VEVENT
END:VCALENDAR