BEGIN:VCALENDAR
VERSION:2.0
PRODID:-//Greater Elkhart Chamber of Commerce - ECPv6.15.7//NONSGML v1.0//EN
CALSCALE:GREGORIAN
METHOD:PUBLISH
X-WR-CALNAME:Greater Elkhart Chamber of Commerce
X-ORIGINAL-URL:https://www.elkhart.org
X-WR-CALDESC:Events for Greater Elkhart Chamber of Commerce
REFRESH-INTERVAL;VALUE=DURATION:PT1H
X-Robots-Tag:noindex
X-PUBLISHED-TTL:PT1H
BEGIN:VTIMEZONE
TZID:America/Indiana/Indianapolis
BEGIN:DAYLIGHT
TZOFFSETFROM:-0500
TZOFFSETTO:-0400
TZNAME:EDT
DTSTART:20240310T070000
END:DAYLIGHT
BEGIN:STANDARD
TZOFFSETFROM:-0400
TZOFFSETTO:-0500
TZNAME:EST
DTSTART:20241103T060000
END:STANDARD
BEGIN:DAYLIGHT
TZOFFSETFROM:-0500
TZOFFSETTO:-0400
TZNAME:EDT
DTSTART:20250309T070000
END:DAYLIGHT
BEGIN:STANDARD
TZOFFSETFROM:-0400
TZOFFSETTO:-0500
TZNAME:EST
DTSTART:20251102T060000
END:STANDARD
BEGIN:DAYLIGHT
TZOFFSETFROM:-0500
TZOFFSETTO:-0400
TZNAME:EDT
DTSTART:20260308T070000
END:DAYLIGHT
BEGIN:STANDARD
TZOFFSETFROM:-0400
TZOFFSETTO:-0500
TZNAME:EST
DTSTART:20261101T060000
END:STANDARD
END:VTIMEZONE
BEGIN:VEVENT
DTSTART;TZID=America/Indiana/Indianapolis:20251003T190000
DTEND;TZID=America/Indiana/Indianapolis:20251003T220000
DTSTAMP:20260422T084132
CREATED:20250903T230000Z
LAST-MODIFIED:20250926T163714Z
UID:40334-1759518000-1759528800@www.elkhart.org
SUMMARY:World Ballet Company: The Great Gatsby Ballet
DESCRIPTION:Dance into the Roaring Twenties with this dazzling Broadway-style ballet. \nImmerse yourself in the jazzy world of flappers and champagne with this new and entirely original production from World Ballet Company. Experience the glitz\, glamor\, and tragic romance of F. Scott Fitzgerald’s timeless novel LIVE on stage\, featuring a multinational cast\, lustrous hand-crafted costumes\, and sweeping Art Deco-inspired sets\, brought to life by WBC’s all-star creative team. \nWorld Ballet Company’s “The Great Gatsby” is the must-see show of the season. Dress to impress\, raise a glass\, and get swept away in an unforgettable night of elegance\, drama\, and breathtaking artistry. \nDuration: 2 hours (including 20-minute intermission)\nAudience: For ages 8 & over\nWBC Website: https://worldballetcompany.com/elkhart\nWorld Ballet Company – Ballet Everywhere\, Ballet For All. \n*The Creative Team behind The Great Gatsby: Renowned choreographer Ilya Zhivoy captures the passion of the novel’s central love story with a sensual\, dynamic style. Celebrated LA-based film and TV composer Anna Drubich\, whose work includes the music for the 2023 Oscar-winning Navalny documentary\, makes her ballet debut with a rich\, lively score that embraces the sounds of the Jazz Age. Theatrical costume designs by Sonya Vartanyan complete the production with sumptuousness and flair. \n*About the Company: Based in Los Angeles\, and led by Sasha Gorskaya and Gulya Hartwick\, World Ballet Company presents the most beloved and iconic ballets of our time in cities nationwide. Driven by the belief that ballet is for everyone\, performances appeal to newcomers and seasoned ballet goers alike. The company attracts many international artists and comprises renowned professional dancers representing over ten countries. To date\, World Ballet Company has traveled to more than 300 cities\, reaching an audience of more than 500\,000 fans.
URL:https://www.elkhart.org/event/world-ballet-company-the-great-gatsby-ballet/
LOCATION:The Lerner Theatre
CATEGORIES:Member
END:VEVENT
END:VCALENDAR