BEGIN:VCALENDAR
VERSION:2.0
PRODID:-//Greater Elkhart Chamber of Commerce - ECPv6.15.7//NONSGML v1.0//EN
CALSCALE:GREGORIAN
METHOD:PUBLISH
X-WR-CALNAME:Greater Elkhart Chamber of Commerce
X-ORIGINAL-URL:https://www.elkhart.org
X-WR-CALDESC:Events for Greater Elkhart Chamber of Commerce
REFRESH-INTERVAL;VALUE=DURATION:PT1H
X-Robots-Tag:noindex
X-PUBLISHED-TTL:PT1H
BEGIN:VTIMEZONE
TZID:America/Indiana/Indianapolis
BEGIN:DAYLIGHT
TZOFFSETFROM:-0500
TZOFFSETTO:-0400
TZNAME:EDT
DTSTART:20240310T070000
END:DAYLIGHT
BEGIN:STANDARD
TZOFFSETFROM:-0400
TZOFFSETTO:-0500
TZNAME:EST
DTSTART:20241103T060000
END:STANDARD
BEGIN:DAYLIGHT
TZOFFSETFROM:-0500
TZOFFSETTO:-0400
TZNAME:EDT
DTSTART:20250309T070000
END:DAYLIGHT
BEGIN:STANDARD
TZOFFSETFROM:-0400
TZOFFSETTO:-0500
TZNAME:EST
DTSTART:20251102T060000
END:STANDARD
BEGIN:DAYLIGHT
TZOFFSETFROM:-0500
TZOFFSETTO:-0400
TZNAME:EDT
DTSTART:20260308T070000
END:DAYLIGHT
BEGIN:STANDARD
TZOFFSETFROM:-0400
TZOFFSETTO:-0500
TZNAME:EST
DTSTART:20261101T060000
END:STANDARD
END:VTIMEZONE
BEGIN:VEVENT
DTSTART;TZID=America/Indiana/Indianapolis:20250904T150000
DTEND;TZID=America/Indiana/Indianapolis:20250904T180000
DTSTAMP:20260424T155845
CREATED:20250804T190000Z
LAST-MODIFIED:20250807T132501Z
UID:40696-1756998000-1757008800@www.elkhart.org
SUMMARY:Elkhart County Health Department Block Party
DESCRIPTION:Enjoy music\, ice cream and plenty of family friendly activities at our free community health and resource fair.
URL:https://www.elkhart.org/event/elkhart-county-health-department-block-party-2/
LOCATION:Elkhart County Health Department\, 608 Oakland Ave\, Elkhart\, IN\, United States
CATEGORIES:Member
END:VEVENT
BEGIN:VEVENT
DTSTART;TZID=America/Indiana/Indianapolis:20250904T183000
DTEND;TZID=America/Indiana/Indianapolis:20250904T203000
DTSTAMP:20260424T155845
CREATED:20250624T223000Z
LAST-MODIFIED:20250805T141820Z
UID:40254-1757010600-1757017800@www.elkhart.org
SUMMARY:Kiwanis Trivia Night
DESCRIPTION:Join us for Kiwanis’ 2nd Annual Trivia Night at Solomon Fowler Mansion\, 1105 W. Vistula\, Bristol\, IN. This is movie themed so dress up and decorate your table. \nDoors open at 5:30 PM. Snacks are welcome but no outside drinks allowed. A cash bar is available. There will also be a 50/50 raffle. \nTables of 8 for $350\, individual seats for $50. Sponsorships are $150. Contact Kim Foy for more information on tables and sponsorships. \nEmail KIMFOY49@GMAIL.COM for sponsor information.
URL:https://www.elkhart.org/event/kiwanis-trivia-night/
LOCATION:Solomon Fowler Event Barn\, 1105 W Vistula St\, Bristol\, IN\, United States
CATEGORIES:Member
END:VEVENT
END:VCALENDAR