BEGIN:VCALENDAR
VERSION:2.0
PRODID:-//Greater Elkhart Chamber of Commerce - ECPv6.15.7//NONSGML v1.0//EN
CALSCALE:GREGORIAN
METHOD:PUBLISH
X-WR-CALNAME:Greater Elkhart Chamber of Commerce
X-ORIGINAL-URL:https://www.elkhart.org
X-WR-CALDESC:Events for Greater Elkhart Chamber of Commerce
REFRESH-INTERVAL;VALUE=DURATION:PT1H
X-Robots-Tag:noindex
X-PUBLISHED-TTL:PT1H
BEGIN:VTIMEZONE
TZID:America/Indiana/Indianapolis
BEGIN:DAYLIGHT
TZOFFSETFROM:-0500
TZOFFSETTO:-0400
TZNAME:EDT
DTSTART:20240310T070000
END:DAYLIGHT
BEGIN:STANDARD
TZOFFSETFROM:-0400
TZOFFSETTO:-0500
TZNAME:EST
DTSTART:20241103T060000
END:STANDARD
BEGIN:DAYLIGHT
TZOFFSETFROM:-0500
TZOFFSETTO:-0400
TZNAME:EDT
DTSTART:20250309T070000
END:DAYLIGHT
BEGIN:STANDARD
TZOFFSETFROM:-0400
TZOFFSETTO:-0500
TZNAME:EST
DTSTART:20251102T060000
END:STANDARD
BEGIN:DAYLIGHT
TZOFFSETFROM:-0500
TZOFFSETTO:-0400
TZNAME:EDT
DTSTART:20260308T070000
END:DAYLIGHT
BEGIN:STANDARD
TZOFFSETFROM:-0400
TZOFFSETTO:-0500
TZNAME:EST
DTSTART:20261101T060000
END:STANDARD
END:VTIMEZONE
BEGIN:VEVENT
DTSTART;TZID=America/Indiana/Indianapolis:20250726T170000
DTEND;TZID=America/Indiana/Indianapolis:20250726T210000
DTSTAMP:20260420T230241
CREATED:20250421T210000Z
LAST-MODIFIED:20250422T144749Z
UID:38754-1753549200-1753563600@www.elkhart.org
SUMMARY:The 5th Annual Festival of Hope
DESCRIPTION:Join Center for Healing & Hope and friends at the 5th annual Festival of Hope! Featuring live entertainment acts\, food trucks\, vendors\, nonprofit partners\, and Goshen Brewing Company’s full menu. \nThe family friendly community event is free to attend\, and there are opportunities to make a donation to support the nonprofit mission of Center for Healing & Hope for what is designated as the organization’s Day of Giving. \nFree children’s activities include face painting\, balloon twister\, bounce house\, giant bubble making\, and more! \nTo sponsor this community event send an email to dtackett@chhclinics.org.
URL:https://www.elkhart.org/event/the-5th-annual-festival-of-hope/
LOCATION:Goshen Brewing Company
CATEGORIES:Member
END:VEVENT
END:VCALENDAR