BEGIN:VCALENDAR
VERSION:2.0
PRODID:-//Greater Elkhart Chamber of Commerce - ECPv6.15.7//NONSGML v1.0//EN
CALSCALE:GREGORIAN
METHOD:PUBLISH
X-ORIGINAL-URL:https://www.elkhart.org
X-WR-CALDESC:Events for Greater Elkhart Chamber of Commerce
REFRESH-INTERVAL;VALUE=DURATION:PT1H
X-Robots-Tag:noindex
X-PUBLISHED-TTL:PT1H
BEGIN:VTIMEZONE
TZID:America/Indiana/Indianapolis
BEGIN:DAYLIGHT
TZOFFSETFROM:-0500
TZOFFSETTO:-0400
TZNAME:EDT
DTSTART:20240310T070000
END:DAYLIGHT
BEGIN:STANDARD
TZOFFSETFROM:-0400
TZOFFSETTO:-0500
TZNAME:EST
DTSTART:20241103T060000
END:STANDARD
BEGIN:DAYLIGHT
TZOFFSETFROM:-0500
TZOFFSETTO:-0400
TZNAME:EDT
DTSTART:20250309T070000
END:DAYLIGHT
BEGIN:STANDARD
TZOFFSETFROM:-0400
TZOFFSETTO:-0500
TZNAME:EST
DTSTART:20251102T060000
END:STANDARD
BEGIN:DAYLIGHT
TZOFFSETFROM:-0500
TZOFFSETTO:-0400
TZNAME:EDT
DTSTART:20260308T070000
END:DAYLIGHT
BEGIN:STANDARD
TZOFFSETFROM:-0400
TZOFFSETTO:-0500
TZNAME:EST
DTSTART:20261101T060000
END:STANDARD
END:VTIMEZONE
BEGIN:VEVENT
DTSTART;TZID=America/Indiana/Indianapolis:20250624T140000
DTEND;TZID=America/Indiana/Indianapolis:20250624T150000
DTSTAMP:20260423T224155
CREATED:20250525T180000Z
LAST-MODIFIED:20250527T142108Z
UID:39981-1750773600-1750777200@www.elkhart.org
SUMMARY:Say Hello to Effortless AP: Invoice Automation That Works
DESCRIPTION:Say Hello to Effortless AP: Invoice Automation That Works – A panel discussion with Kruggel Lawton\, Nimbello and Lippert \nIn this free webinar moderated by Adam C. Schwelnus\, CPA\, CGMA\, Partner at Kruggel Lawton CPA\, you’ll hear from: Teresa Walters\, Manager of the Payment and Vendor Master team at Lippert Components Inc (LCI) and Milind Agtey\, Founder of Nimbello\, an AP Automation solution provider headquartered in South Bend. \nIf you’re a CFO\, Controller\, AP Manager\, ERP Director\, or finance professional\, you don’t want to miss out. \nBy the end of this course\, you will be able to:\n• Describe the technology available for Accounts Payable Automation.\n• Identify best practices on how to deploy AP Automation solutions.\n• Explain the benefits your team and organization will receive with AP Automation\n• Learn how to build a business case for implementing AP automation at your company
URL:https://www.elkhart.org/event/say-hello-to-effortless-ap-invoice-automation-that-works/
LOCATION:Online\, IN\, United States
CATEGORIES:Member
END:VEVENT
END:VCALENDAR