BEGIN:VCALENDAR
VERSION:2.0
PRODID:-//Greater Elkhart Chamber of Commerce - ECPv6.15.7//NONSGML v1.0//EN
CALSCALE:GREGORIAN
METHOD:PUBLISH
X-WR-CALNAME:Greater Elkhart Chamber of Commerce
X-ORIGINAL-URL:https://www.elkhart.org
X-WR-CALDESC:Events for Greater Elkhart Chamber of Commerce
REFRESH-INTERVAL;VALUE=DURATION:PT1H
X-Robots-Tag:noindex
X-PUBLISHED-TTL:PT1H
BEGIN:VTIMEZONE
TZID:America/Indiana/Indianapolis
BEGIN:DAYLIGHT
TZOFFSETFROM:-0500
TZOFFSETTO:-0400
TZNAME:EDT
DTSTART:20240310T070000
END:DAYLIGHT
BEGIN:STANDARD
TZOFFSETFROM:-0400
TZOFFSETTO:-0500
TZNAME:EST
DTSTART:20241103T060000
END:STANDARD
BEGIN:DAYLIGHT
TZOFFSETFROM:-0500
TZOFFSETTO:-0400
TZNAME:EDT
DTSTART:20250309T070000
END:DAYLIGHT
BEGIN:STANDARD
TZOFFSETFROM:-0400
TZOFFSETTO:-0500
TZNAME:EST
DTSTART:20251102T060000
END:STANDARD
BEGIN:DAYLIGHT
TZOFFSETFROM:-0500
TZOFFSETTO:-0400
TZNAME:EDT
DTSTART:20260308T070000
END:DAYLIGHT
BEGIN:STANDARD
TZOFFSETFROM:-0400
TZOFFSETTO:-0500
TZNAME:EST
DTSTART:20261101T060000
END:STANDARD
END:VTIMEZONE
BEGIN:VEVENT
DTSTART;TZID=America/Indiana/Indianapolis:20250612T170000
DTEND;TZID=America/Indiana/Indianapolis:20250612T190000
DTSTAMP:20260423T170449
CREATED:20250525T210000Z
LAST-MODIFIED:20250527T141656Z
UID:39956-1749747600-1749754800@www.elkhart.org
SUMMARY:4th Annual Brentwood Independent Living Carnival
DESCRIPTION:You’re invited to the 4th annual Brentwood Independent Living Carnival! Come join us for food\, games\, and a grand old time on Thursday\, June 12th from 5-7pm at 3600 E Bristol Street.
URL:https://www.elkhart.org/event/4th-annual-brentwood-independent-living-carnival/
LOCATION:Brentwood at Elkhart\, 3109 E Bristol St\, Elkhart\, IN\, United States
CATEGORIES:Member
END:VEVENT
BEGIN:VEVENT
DTSTART;TZID=America/Indiana/Indianapolis:20250612T180000
DTEND;TZID=America/Indiana/Indianapolis:20250612T180000
DTSTAMP:20260423T170449
CREATED:20250408T220000Z
LAST-MODIFIED:20250409T123215Z
UID:38410-1749751200-1749751200@www.elkhart.org
SUMMARY:All About the Girls Part 10
DESCRIPTION:All About the Girls (AATG) isn’t just an event—it’s an empowering celebration of women’s strength\, resilience\, and connection. As one of the most inspiring gatherings in the region\, AATG brings together women of all backgrounds for an unforgettable evening filled with powerful storytelling\, raw emotion\, and a shared sense of empowerment. From moments of heartfelt reflection to bursts of laughter\, attendees leave not just with new connections but with a deeper appreciation for their own journeys. This year’s theme\, #DearMe will feature five incredible women sharing the advice they’d give their younger selves—reflecting on growth\, challenges\, and triumphs. Get ready for a night that will move\, motivate\, and remind you just how powerful you truly are! \nGreatNews.Life
URL:https://www.elkhart.org/event/all-about-the-girls-part-10/
LOCATION:IN
CATEGORIES:Member
END:VEVENT
END:VCALENDAR