BEGIN:VCALENDAR
VERSION:2.0
PRODID:-//Greater Elkhart Chamber of Commerce - ECPv6.15.7//NONSGML v1.0//EN
CALSCALE:GREGORIAN
METHOD:PUBLISH
X-WR-CALNAME:Greater Elkhart Chamber of Commerce
X-ORIGINAL-URL:https://www.elkhart.org
X-WR-CALDESC:Events for Greater Elkhart Chamber of Commerce
REFRESH-INTERVAL;VALUE=DURATION:PT1H
X-Robots-Tag:noindex
X-PUBLISHED-TTL:PT1H
BEGIN:VTIMEZONE
TZID:America/Indiana/Indianapolis
BEGIN:DAYLIGHT
TZOFFSETFROM:-0500
TZOFFSETTO:-0400
TZNAME:EDT
DTSTART:20240310T070000
END:DAYLIGHT
BEGIN:STANDARD
TZOFFSETFROM:-0400
TZOFFSETTO:-0500
TZNAME:EST
DTSTART:20241103T060000
END:STANDARD
BEGIN:DAYLIGHT
TZOFFSETFROM:-0500
TZOFFSETTO:-0400
TZNAME:EDT
DTSTART:20250309T070000
END:DAYLIGHT
BEGIN:STANDARD
TZOFFSETFROM:-0400
TZOFFSETTO:-0500
TZNAME:EST
DTSTART:20251102T060000
END:STANDARD
BEGIN:DAYLIGHT
TZOFFSETFROM:-0500
TZOFFSETTO:-0400
TZNAME:EDT
DTSTART:20260308T070000
END:DAYLIGHT
BEGIN:STANDARD
TZOFFSETFROM:-0400
TZOFFSETTO:-0500
TZNAME:EST
DTSTART:20261101T060000
END:STANDARD
END:VTIMEZONE
BEGIN:VEVENT
DTSTART;TZID=America/Indiana/Indianapolis:20250525T180000
DTEND;TZID=America/Indiana/Indianapolis:20250601T220000
DTSTAMP:20260424T021858
CREATED:20250313T220000Z
LAST-MODIFIED:20250602T123200Z
UID:38400-1748196000-1748815200@www.elkhart.org
SUMMARY:Zoo Luminate
DESCRIPTION:Discover Zoo Luminate\, a spectacular lantern festival with dozens of luminous\, artistic lantern displays around the entire Potawatomi Zoo! \nExtended through June 1!
URL:https://www.elkhart.org/event/zoo-luminate/
LOCATION:Potawatomi Zoo\, 500 S Greenlawn Ave\, South Bend\, IN
CATEGORIES:Member
END:VEVENT
BEGIN:VEVENT
DTSTART;TZID=America/Indiana/Indianapolis:20250531T100000
DTEND;TZID=America/Indiana/Indianapolis:20250601T170000
DTSTAMP:20260424T021858
CREATED:20250519T140000Z
LAST-MODIFIED:20250519T140926Z
UID:39923-1748685600-1748797200@www.elkhart.org
SUMMARY:Hall of Heroes Comic Con
DESCRIPTION:The Hall of Heroes Comic Con is the 2nd largest event in Elkhart County and the 2nd largest Comic Con in the state of Indiana. We have over 200 vendors plus a dozen Hollywood celeb guests and artists and animators. Check out the complete guest list at www.hohcomiccon.org
URL:https://www.elkhart.org/event/hall-of-heroes-comic-con/
LOCATION:Northern Indiana Event Center\, 21565 Executive Pkwy\, Elkhart\, IN\, 46516\, United States
CATEGORIES:Member
END:VEVENT
BEGIN:VEVENT
DTSTART;TZID=America/Indiana/Indianapolis:20250531T110000
DTEND;TZID=America/Indiana/Indianapolis:20250531T130000
DTSTAMP:20260424T021858
CREATED:20250519T160000Z
LAST-MODIFIED:20250519T153046Z
UID:39931-1748689200-1748696400@www.elkhart.org
SUMMARY:Pooches on the Patio
DESCRIPTION:May is National Pet Month\, and we’re celebrating with Pooches on the Patio—an adorable charity event hosted by Hotel Elkhart to support our furry friends at the Elkhart Humane Society.\nJoin us at The Corner Bar & Relish Cafe Patios\, located at 500 S. Main St\, Elkhart\, IN 46516\, on May 31\, 2025\, from 11 AM to 1 PM. It’s going to be a fun-filled time with great people and even better pups!\nBring your pup along to join the fun\, and don’t forget to bring some cash or checks to make a donation. You can also bring donation items to help out the Elkhart Humane Society. We can’t wait to see you and your furry friends there!\nWe’ve got some exciting activities lined up\n🐶Peanut butter eating contest (for the dogs\, of course!)\,\n🐶Cute doggy photo ops\n🐶 tasty snacks for both dogs and humans \nPlus\, you can meet adorable adoptable pups from the Humane Society — they might just steal your heart!\nCome out\, meet new friends (two-legged and four-legged)\, and help us make a difference!
URL:https://www.elkhart.org/event/pooches-on-the-patio-2/
LOCATION:Relish Café & Confections\, 504 S Main St\, Elkhart\, IN\, United States
CATEGORIES:Member
END:VEVENT
END:VCALENDAR