BEGIN:VCALENDAR
VERSION:2.0
PRODID:-//Greater Elkhart Chamber of Commerce - ECPv6.15.7//NONSGML v1.0//EN
CALSCALE:GREGORIAN
METHOD:PUBLISH
X-ORIGINAL-URL:https://www.elkhart.org
X-WR-CALDESC:Events for Greater Elkhart Chamber of Commerce
REFRESH-INTERVAL;VALUE=DURATION:PT1H
X-Robots-Tag:noindex
X-PUBLISHED-TTL:PT1H
BEGIN:VTIMEZONE
TZID:America/Indiana/Indianapolis
BEGIN:DAYLIGHT
TZOFFSETFROM:-0500
TZOFFSETTO:-0400
TZNAME:EDT
DTSTART:20230312T070000
END:DAYLIGHT
BEGIN:STANDARD
TZOFFSETFROM:-0400
TZOFFSETTO:-0500
TZNAME:EST
DTSTART:20231105T060000
END:STANDARD
BEGIN:DAYLIGHT
TZOFFSETFROM:-0500
TZOFFSETTO:-0400
TZNAME:EDT
DTSTART:20240310T070000
END:DAYLIGHT
BEGIN:STANDARD
TZOFFSETFROM:-0400
TZOFFSETTO:-0500
TZNAME:EST
DTSTART:20241103T060000
END:STANDARD
BEGIN:DAYLIGHT
TZOFFSETFROM:-0500
TZOFFSETTO:-0400
TZNAME:EDT
DTSTART:20250309T070000
END:DAYLIGHT
BEGIN:STANDARD
TZOFFSETFROM:-0400
TZOFFSETTO:-0500
TZNAME:EST
DTSTART:20251102T060000
END:STANDARD
END:VTIMEZONE
BEGIN:VEVENT
DTSTART;TZID=America/Indiana/Indianapolis:20240620T100000
DTEND;TZID=America/Indiana/Indianapolis:20240620T120000
DTSTAMP:20260422T000422
CREATED:20240513T140000Z
LAST-MODIFIED:20240513T152729Z
UID:33889-1718877600-1718884800@www.elkhart.org
SUMMARY:Cultivate Cold Storage Ribbon Cutting and Grand Opening
DESCRIPTION:Step into the future of cold storage and join us as we celebrate the unveiling of our state-of-the-art cold storage facility. Chill with us as we showcase our cutting edge facility setting new standards in freshness\, efficiency and sustainability to ensure there’s no neighbor hungry\, no food wasted.
URL:https://www.elkhart.org/event/cultivate-cold-storage-ribbon-cutting-and-grand-opening/
LOCATION:Cultivate Food Rescue\, 1503 Prairie Ave.\, South Bend\, IN\, United States
CATEGORIES:Member
END:VEVENT
END:VCALENDAR