BEGIN:VCALENDAR
VERSION:2.0
PRODID:-//Greater Elkhart Chamber of Commerce - ECPv6.15.7//NONSGML v1.0//EN
CALSCALE:GREGORIAN
METHOD:PUBLISH
X-ORIGINAL-URL:https://www.elkhart.org
X-WR-CALDESC:Events for Greater Elkhart Chamber of Commerce
REFRESH-INTERVAL;VALUE=DURATION:PT1H
X-Robots-Tag:noindex
X-PUBLISHED-TTL:PT1H
BEGIN:VTIMEZONE
TZID:America/Indiana/Indianapolis
BEGIN:DAYLIGHT
TZOFFSETFROM:-0500
TZOFFSETTO:-0400
TZNAME:EDT
DTSTART:20230312T070000
END:DAYLIGHT
BEGIN:STANDARD
TZOFFSETFROM:-0400
TZOFFSETTO:-0500
TZNAME:EST
DTSTART:20231105T060000
END:STANDARD
BEGIN:DAYLIGHT
TZOFFSETFROM:-0500
TZOFFSETTO:-0400
TZNAME:EDT
DTSTART:20240310T070000
END:DAYLIGHT
BEGIN:STANDARD
TZOFFSETFROM:-0400
TZOFFSETTO:-0500
TZNAME:EST
DTSTART:20241103T060000
END:STANDARD
BEGIN:DAYLIGHT
TZOFFSETFROM:-0500
TZOFFSETTO:-0400
TZNAME:EDT
DTSTART:20250309T070000
END:DAYLIGHT
BEGIN:STANDARD
TZOFFSETFROM:-0400
TZOFFSETTO:-0500
TZNAME:EST
DTSTART:20251102T060000
END:STANDARD
END:VTIMEZONE
BEGIN:VEVENT
DTSTART;TZID=America/Indiana/Indianapolis:20240619T080000
DTEND;TZID=America/Indiana/Indianapolis:20240619T093000
DTSTAMP:20260422T015552
CREATED:20240530T120000Z
LAST-MODIFIED:20240530T132104Z
UID:33943-1718784000-1718789400@www.elkhart.org
SUMMARY:Coffee & Conversations
DESCRIPTION:Networking event with a chance to see our beautiful new offices and meet the staff! Breakfast treats provided.
URL:https://www.elkhart.org/event/coffee-conversations/
LOCATION:Personnel Partners\, 11590 McKinley Highway\, Suite A\, Osceola\, IN\, United States
CATEGORIES:Member
END:VEVENT
BEGIN:VEVENT
DTSTART;TZID=America/Indiana/Indianapolis:20240619T100000
DTEND;TZID=America/Indiana/Indianapolis:20240619T110000
DTSTAMP:20260422T015552
CREATED:20240512T140000Z
LAST-MODIFIED:20240512T140000Z
UID:33879-1718791200-1718794800@www.elkhart.org
SUMMARY:Tai Chi in the Gardens
DESCRIPTION:Classes are taught by Swan Mishler from Beacon Health & Fitness\, and will consist of mindful meditation and tai chi practice in various areas of the Gardens. \nClasses will be held on the following Wednesdays from 10-11 a.m.:\nMay 22\, June 5\, June 19\, July 10\, August 7\, August 21\, September 4\, September 18
URL:https://www.elkhart.org/event/tai-chi-in-the-gardens-2/2024-06-19/
LOCATION:Wellfield Botanic Gardens\, 1011 North Main Street\, Elkhart\, IN\, 46514\, United States
CATEGORIES:Member
END:VEVENT
BEGIN:VEVENT
DTSTART;TZID=America/Indiana/Indianapolis:20240619T160000
DTEND;TZID=America/Indiana/Indianapolis:20240619T180000
DTSTAMP:20260422T015552
CREATED:20240609T200000Z
LAST-MODIFIED:20240610T134845Z
UID:34117-1718812800-1718820000@www.elkhart.org
SUMMARY:Enterprise Building Open house
DESCRIPTION:Open house ribbon-cutting
URL:https://www.elkhart.org/event/enterprise-building-open-house/
LOCATION:IN\, United States
CATEGORIES:Member
END:VEVENT
END:VCALENDAR