BEGIN:VCALENDAR
VERSION:2.0
PRODID:-//Greater Elkhart Chamber of Commerce - ECPv6.15.7//NONSGML v1.0//EN
CALSCALE:GREGORIAN
METHOD:PUBLISH
X-WR-CALNAME:Greater Elkhart Chamber of Commerce
X-ORIGINAL-URL:https://www.elkhart.org
X-WR-CALDESC:Events for Greater Elkhart Chamber of Commerce
REFRESH-INTERVAL;VALUE=DURATION:PT1H
X-Robots-Tag:noindex
X-PUBLISHED-TTL:PT1H
BEGIN:VTIMEZONE
TZID:America/Indiana/Indianapolis
BEGIN:DAYLIGHT
TZOFFSETFROM:-0500
TZOFFSETTO:-0400
TZNAME:EDT
DTSTART:20230312T070000
END:DAYLIGHT
BEGIN:STANDARD
TZOFFSETFROM:-0400
TZOFFSETTO:-0500
TZNAME:EST
DTSTART:20231105T060000
END:STANDARD
BEGIN:DAYLIGHT
TZOFFSETFROM:-0500
TZOFFSETTO:-0400
TZNAME:EDT
DTSTART:20240310T070000
END:DAYLIGHT
BEGIN:STANDARD
TZOFFSETFROM:-0400
TZOFFSETTO:-0500
TZNAME:EST
DTSTART:20241103T060000
END:STANDARD
BEGIN:DAYLIGHT
TZOFFSETFROM:-0500
TZOFFSETTO:-0400
TZNAME:EDT
DTSTART:20250309T070000
END:DAYLIGHT
BEGIN:STANDARD
TZOFFSETFROM:-0400
TZOFFSETTO:-0500
TZNAME:EST
DTSTART:20251102T060000
END:STANDARD
END:VTIMEZONE
BEGIN:VEVENT
DTSTART;TZID=America/Indiana/Indianapolis:20240518T090000
DTEND;TZID=America/Indiana/Indianapolis:20240518T130000
DTSTAMP:20260425T215015
CREATED:20240501T130000Z
LAST-MODIFIED:20240502T133731Z
UID:33363-1716022800-1716037200@www.elkhart.org
SUMMARY:Four Winds Garden Club Plant Sale
DESCRIPTION:Enjoy free admission for all to the Gardens during the event and pick up some plants for your garden! We’ll have vendors on hand\, as well.
URL:https://www.elkhart.org/event/four-winds-garden-club-plant-sale/
LOCATION:Wellfield Botanic Gardens\, 1011 North Main Street\, Elkhart\, IN\, 46514\, United States
CATEGORIES:Member
END:VEVENT
BEGIN:VEVENT
DTSTART;TZID=America/Indiana/Indianapolis:20240518T093000
DTEND;TZID=America/Indiana/Indianapolis:20240518T110000
DTSTAMP:20260425T215015
CREATED:20240420T133000Z
LAST-MODIFIED:20240420T133000Z
UID:33286-1716024600-1716030000@www.elkhart.org
SUMMARY:Bird Walks
DESCRIPTION:Free with membership or admission to the Gardens\, registration appreciated\, walk-ins welcome.\nApril-September – 1st & 3rd Saturdays
URL:https://www.elkhart.org/event/bird-walks-3/2024-05-18/
LOCATION:Wellfield Botanic Gardens\, 1011 North Main Street\, Elkhart\, IN\, 46514\, United States
CATEGORIES:Member
END:VEVENT
BEGIN:VEVENT
DTSTART;TZID=America/Indiana/Indianapolis:20240518T093000
DTEND;TZID=America/Indiana/Indianapolis:20240518T111500
DTSTAMP:20260425T215015
CREATED:20240417T133000Z
LAST-MODIFIED:20240417T192319Z
UID:33136-1716024600-1716030900@www.elkhart.org
SUMMARY:Girls on the Run Michiana South Bend 5K Celebration presented by The South Bend Clinic
DESCRIPTION:Each Girls on the Run season comes to an end with a celebratory 5K. This closing event gives program participants of all abilities a tangible sense of accomplishment. Crossing the finish line instills confidence through completion and is a joyful moment program participants always remember! The South Bend community (and surrounding area) is invited to come support and celebrate this incredible achievement of local Michiana girls through volunteering or registering to run in the event.
URL:https://www.elkhart.org/event/girls-on-the-run-michiana-south-bend-5k-celebration-presented-by-the-south-bend-clinic/
LOCATION:Trinity on Jackson\, 2715 E Jackson Blvd\, Elkhart\, IN\, United States
CATEGORIES:Member
END:VEVENT
END:VCALENDAR