BEGIN:VCALENDAR
VERSION:2.0
PRODID:-//Greater Elkhart Chamber of Commerce - ECPv6.15.7//NONSGML v1.0//EN
CALSCALE:GREGORIAN
METHOD:PUBLISH
X-ORIGINAL-URL:https://www.elkhart.org
X-WR-CALDESC:Events for Greater Elkhart Chamber of Commerce
REFRESH-INTERVAL;VALUE=DURATION:PT1H
X-Robots-Tag:noindex
X-PUBLISHED-TTL:PT1H
BEGIN:VTIMEZONE
TZID:America/Indiana/Indianapolis
BEGIN:DAYLIGHT
TZOFFSETFROM:-0500
TZOFFSETTO:-0400
TZNAME:EDT
DTSTART:20230312T070000
END:DAYLIGHT
BEGIN:STANDARD
TZOFFSETFROM:-0400
TZOFFSETTO:-0500
TZNAME:EST
DTSTART:20231105T060000
END:STANDARD
BEGIN:DAYLIGHT
TZOFFSETFROM:-0500
TZOFFSETTO:-0400
TZNAME:EDT
DTSTART:20240310T070000
END:DAYLIGHT
BEGIN:STANDARD
TZOFFSETFROM:-0400
TZOFFSETTO:-0500
TZNAME:EST
DTSTART:20241103T060000
END:STANDARD
BEGIN:DAYLIGHT
TZOFFSETFROM:-0500
TZOFFSETTO:-0400
TZNAME:EDT
DTSTART:20250309T070000
END:DAYLIGHT
BEGIN:STANDARD
TZOFFSETFROM:-0400
TZOFFSETTO:-0500
TZNAME:EST
DTSTART:20251102T060000
END:STANDARD
END:VTIMEZONE
BEGIN:VEVENT
DTSTART;TZID=America/Indiana/Indianapolis:20240517T110000
DTEND;TZID=America/Indiana/Indianapolis:20240517T170000
DTSTAMP:20260425T215103
CREATED:20240512T150000Z
LAST-MODIFIED:20240513T151958Z
UID:33864-1715943600-1715965200@www.elkhart.org
SUMMARY:Salvation Army Sneaker Shoe Collection Fundraiser
DESCRIPTION:The Salvation Army – Elkhart is holding a sneaker shoe drive fundraiser beginning May 17 through September 30\, 2024\, to raise money for their local emergency assistance services. The Salvation Army will earn funds based on the total quantity of gently worn\, used\, and new sneakers collected. GotSneakers\, a social enterprise\, will issue funds in compensation for the collected sneakers. Those funds will benefit the Emergency Assistance Services program. Anyone can help by simply donating gently worn\, used\, and new sneakers.\nA fundraiser “Kickoff” event will take place on Friday\, May 17 11:00 am at the Salvation Army building located at 300 N. Main St. Elkhart\, IN. This event is in conjunction with National Salvation Army Week: May 13-17. Present will be representatives from The Salvation Army as well as from companies and organizations serving as shoe collection sites.\n“We are excited about our sneaker drive fundraiser\,” said Ron Sherck\, Development Director for The Salvation Army – Elkhart. We are inviting other businesses\, organizations\, clubs\, and schools to become shoe collection partners. We provide collection bins and promotional materials and will pick up all collected shoes. We know that most people have extra sneakers in their closets they would like to donate rather than throw away. By doing so\, we raise money to help local individuals and families in need as well as help the environment. It’s a win – win for everyone!”\nFor more information\, contact Ron Sherck at 574-970-0088 ron.sherck@usc.salvationarmy.org
URL:https://www.elkhart.org/event/salvation-army-sneaker-shoe-collection-fundraiser/2024-05-17/
LOCATION:Salvation Army\, 300 N Main St\, Elkhart\, IN\, United States
CATEGORIES:Member
END:VEVENT
END:VCALENDAR