BEGIN:VCALENDAR
VERSION:2.0
PRODID:-//Greater Elkhart Chamber of Commerce - ECPv6.15.7//NONSGML v1.0//EN
CALSCALE:GREGORIAN
METHOD:PUBLISH
X-ORIGINAL-URL:https://www.elkhart.org
X-WR-CALDESC:Events for Greater Elkhart Chamber of Commerce
REFRESH-INTERVAL;VALUE=DURATION:PT1H
X-Robots-Tag:noindex
X-PUBLISHED-TTL:PT1H
BEGIN:VTIMEZONE
TZID:America/Indiana/Indianapolis
BEGIN:DAYLIGHT
TZOFFSETFROM:-0500
TZOFFSETTO:-0400
TZNAME:EDT
DTSTART:20230312T070000
END:DAYLIGHT
BEGIN:STANDARD
TZOFFSETFROM:-0400
TZOFFSETTO:-0500
TZNAME:EST
DTSTART:20231105T060000
END:STANDARD
BEGIN:DAYLIGHT
TZOFFSETFROM:-0500
TZOFFSETTO:-0400
TZNAME:EDT
DTSTART:20240310T070000
END:DAYLIGHT
BEGIN:STANDARD
TZOFFSETFROM:-0400
TZOFFSETTO:-0500
TZNAME:EST
DTSTART:20241103T060000
END:STANDARD
BEGIN:DAYLIGHT
TZOFFSETFROM:-0500
TZOFFSETTO:-0400
TZNAME:EDT
DTSTART:20250309T070000
END:DAYLIGHT
BEGIN:STANDARD
TZOFFSETFROM:-0400
TZOFFSETTO:-0500
TZNAME:EST
DTSTART:20251102T060000
END:STANDARD
END:VTIMEZONE
BEGIN:VEVENT
DTSTART;TZID=America/Indiana/Indianapolis:20240504T093000
DTEND;TZID=America/Indiana/Indianapolis:20240504T110000
DTSTAMP:20260425T235519
CREATED:20240420T133000Z
LAST-MODIFIED:20240422T201640Z
UID:33281-1714815000-1714820400@www.elkhart.org
SUMMARY:Bird Walks
DESCRIPTION:Free with membership or admission to the Gardens\, registration appreciated\, walk-ins welcome.\nApril-September – 1st & 3rd Saturdays
URL:https://www.elkhart.org/event/bird-walks-3/2024-05-04/
LOCATION:Wellfield Botanic Gardens\, 1011 North Main Street\, Elkhart\, IN\, 46514\, United States
CATEGORIES:Member
END:VEVENT
BEGIN:VEVENT
DTSTART;TZID=America/Indiana/Indianapolis:20240504T130000
DTEND;TZID=America/Indiana/Indianapolis:20240504T220000
DTSTAMP:20260425T235519
CREATED:20240417T040000Z
LAST-MODIFIED:20240417T144246Z
UID:33202-1714827600-1714860000@www.elkhart.org
SUMMARY:Festival Cinco de Mayo
DESCRIPTION:Come celebrate this May 4\nFree Admission!\nLots of activities for kids\,live music like Mariachi band. lots of food vendors\,artisans and drinks all are WELCOME to the biggest Cinco de Mayo at Elkhart.
URL:https://www.elkhart.org/event/festival-cinco-de-mayo/
LOCATION:Downtown Elkhart
CATEGORIES:Member
END:VEVENT
END:VCALENDAR