BEGIN:VCALENDAR
VERSION:2.0
PRODID:-//Greater Elkhart Chamber of Commerce - ECPv6.15.7//NONSGML v1.0//EN
CALSCALE:GREGORIAN
METHOD:PUBLISH
X-WR-CALNAME:Greater Elkhart Chamber of Commerce
X-ORIGINAL-URL:https://www.elkhart.org
X-WR-CALDESC:Events for Greater Elkhart Chamber of Commerce
REFRESH-INTERVAL;VALUE=DURATION:PT1H
X-Robots-Tag:noindex
X-PUBLISHED-TTL:PT1H
BEGIN:VTIMEZONE
TZID:America/Indiana/Indianapolis
BEGIN:DAYLIGHT
TZOFFSETFROM:-0500
TZOFFSETTO:-0400
TZNAME:EDT
DTSTART:20230312T070000
END:DAYLIGHT
BEGIN:STANDARD
TZOFFSETFROM:-0400
TZOFFSETTO:-0500
TZNAME:EST
DTSTART:20231105T060000
END:STANDARD
BEGIN:DAYLIGHT
TZOFFSETFROM:-0500
TZOFFSETTO:-0400
TZNAME:EDT
DTSTART:20240310T070000
END:DAYLIGHT
BEGIN:STANDARD
TZOFFSETFROM:-0400
TZOFFSETTO:-0500
TZNAME:EST
DTSTART:20241103T060000
END:STANDARD
BEGIN:DAYLIGHT
TZOFFSETFROM:-0500
TZOFFSETTO:-0400
TZNAME:EDT
DTSTART:20250309T070000
END:DAYLIGHT
BEGIN:STANDARD
TZOFFSETFROM:-0400
TZOFFSETTO:-0500
TZNAME:EST
DTSTART:20251102T060000
END:STANDARD
END:VTIMEZONE
BEGIN:VEVENT
DTSTART;TZID=America/Indiana/Indianapolis:20240425T160000
DTEND;TZID=America/Indiana/Indianapolis:20240428T130000
DTSTAMP:20260425T234328
CREATED:20240225T210000Z
LAST-MODIFIED:20240227T023201Z
UID:31975-1714060800-1714309200@www.elkhart.org
SUMMARY:The Big Balloon Build
DESCRIPTION:You are invited to be part of one of the most unique experiences ever created in the Michiana area! The Big Balloon Build is coming to the Northern Indiana Event Center in Elkhart. More than 125\,000 balloons will be transformed into a life-size interactive experience by 75 balloon artists from around the world. This is only the fifth time this incredible event has been held in the United States\, and 100% of proceeds will support Ronald McDonald House Charities® of Michiana.
URL:https://www.elkhart.org/event/the-big-balloon-build/
LOCATION:Northern Indiana Event Center\, 21565 Executive Pkwy\, Elkhart\, IN\, 46516\, United States
CATEGORIES:Member
END:VEVENT
END:VCALENDAR