BEGIN:VCALENDAR
VERSION:2.0
PRODID:-//Greater Elkhart Chamber of Commerce - ECPv6.15.7//NONSGML v1.0//EN
CALSCALE:GREGORIAN
METHOD:PUBLISH
X-ORIGINAL-URL:https://www.elkhart.org
X-WR-CALDESC:Events for Greater Elkhart Chamber of Commerce
REFRESH-INTERVAL;VALUE=DURATION:PT1H
X-Robots-Tag:noindex
X-PUBLISHED-TTL:PT1H
BEGIN:VTIMEZONE
TZID:America/Indiana/Indianapolis
BEGIN:DAYLIGHT
TZOFFSETFROM:-0500
TZOFFSETTO:-0400
TZNAME:EDT
DTSTART:20210314T070000
END:DAYLIGHT
BEGIN:STANDARD
TZOFFSETFROM:-0400
TZOFFSETTO:-0500
TZNAME:EST
DTSTART:20211107T060000
END:STANDARD
BEGIN:DAYLIGHT
TZOFFSETFROM:-0500
TZOFFSETTO:-0400
TZNAME:EDT
DTSTART:20220313T070000
END:DAYLIGHT
BEGIN:STANDARD
TZOFFSETFROM:-0400
TZOFFSETTO:-0500
TZNAME:EST
DTSTART:20221106T060000
END:STANDARD
BEGIN:DAYLIGHT
TZOFFSETFROM:-0500
TZOFFSETTO:-0400
TZNAME:EDT
DTSTART:20230312T070000
END:DAYLIGHT
BEGIN:STANDARD
TZOFFSETFROM:-0400
TZOFFSETTO:-0500
TZNAME:EST
DTSTART:20231105T060000
END:STANDARD
END:VTIMEZONE
BEGIN:VEVENT
DTSTART;TZID=America/Indiana/Indianapolis:20220613T100000
DTEND;TZID=America/Indiana/Indianapolis:20220613T110000
DTSTAMP:20260424T205949
CREATED:20220606T040000Z
LAST-MODIFIED:20220606T173128Z
UID:23837-1655114400-1655118000@www.elkhart.org
SUMMARY:ECHD Paths to Wellness Health Series
DESCRIPTION:June 13: Cobus Creek\, 10 – 11 am\, 2 – 3 pm \nJuly 12: Oxbow Park\, 10 – 11 am\, 2 – 3 pm \nAugust 4: Bonneyville Mill County Park\, 10 – 11 am\, 2 – 3 pm
URL:https://www.elkhart.org/event/echd-paths-to-wellness-health-series/2022-06-13/
LOCATION:Cobus Creek\, 30680 C.R. 8\, Elkhart\, IN\, United States
CATEGORIES:Member
END:VEVENT
END:VCALENDAR