BEGIN:VCALENDAR
VERSION:2.0
PRODID:-//Greater Elkhart Chamber of Commerce - ECPv6.15.7//NONSGML v1.0//EN
CALSCALE:GREGORIAN
METHOD:PUBLISH
X-ORIGINAL-URL:https://www.elkhart.org
X-WR-CALDESC:Events for Greater Elkhart Chamber of Commerce
REFRESH-INTERVAL;VALUE=DURATION:PT1H
X-Robots-Tag:noindex
X-PUBLISHED-TTL:PT1H
BEGIN:VTIMEZONE
TZID:America/Indiana/Indianapolis
BEGIN:DAYLIGHT
TZOFFSETFROM:-0500
TZOFFSETTO:-0400
TZNAME:EDT
DTSTART:20210314T070000
END:DAYLIGHT
BEGIN:STANDARD
TZOFFSETFROM:-0400
TZOFFSETTO:-0500
TZNAME:EST
DTSTART:20211107T060000
END:STANDARD
BEGIN:DAYLIGHT
TZOFFSETFROM:-0500
TZOFFSETTO:-0400
TZNAME:EDT
DTSTART:20220313T070000
END:DAYLIGHT
BEGIN:STANDARD
TZOFFSETFROM:-0400
TZOFFSETTO:-0500
TZNAME:EST
DTSTART:20221106T060000
END:STANDARD
BEGIN:DAYLIGHT
TZOFFSETFROM:-0500
TZOFFSETTO:-0400
TZNAME:EDT
DTSTART:20230312T070000
END:DAYLIGHT
BEGIN:STANDARD
TZOFFSETFROM:-0400
TZOFFSETTO:-0500
TZNAME:EST
DTSTART:20231105T060000
END:STANDARD
END:VTIMEZONE
BEGIN:VEVENT
DTSTART;TZID=America/Indiana/Indianapolis:20220512T121500
DTEND;TZID=America/Indiana/Indianapolis:20220512T131500
DTSTAMP:20260424T151008
CREATED:20220412T161500Z
LAST-MODIFIED:20220429T175537Z
UID:23139-1652357700-1652361300@www.elkhart.org
SUMMARY:Noon Time Talk: Brenda Tudor\, Servants in the Gilded Age
DESCRIPTION:Please join us on Thursday\, May 12\, 2022 for our Noon Time Talk at 12:15 PM. \nBrenda Tudor\, Servants in the Gilded Age During the Gilded Age\, with fortunes being made and immigration high\, about 16% of the population in New York City worked as servants. Since many of our ancestors made their start in this country as hired help\, Brenda shares stories of her relatives who worked as maids in the late 19th century as well as elaborates on the English system of service that the wealthy in America tried to emulate. \nMasks are required for all gallery talks if you have not been vaccinated. Masks are strongly recommended if you have been vaccinated. Gallery Talks or Noon Time Talks each Thursday will be limited to 50 people on a first-come-first-serve basis. Doors will be locked at 12:15. No admittance to the museum by the public will be allowed until the talk has concluded and the galleries emptied and sterilized.
URL:https://www.elkhart.org/event/noon-time-talk-brenda-tudor-servants-in-the-gilded-age/
LOCATION:Midwest Museum of American Art\, 429 S Main St\, Elkhart\, IN\, 46516\, United States
CATEGORIES:Member
END:VEVENT
END:VCALENDAR