BEGIN:VCALENDAR
VERSION:2.0
PRODID:-//Greater Elkhart Chamber of Commerce - ECPv6.15.7//NONSGML v1.0//EN
CALSCALE:GREGORIAN
METHOD:PUBLISH
X-ORIGINAL-URL:https://www.elkhart.org
X-WR-CALDESC:Events for Greater Elkhart Chamber of Commerce
REFRESH-INTERVAL;VALUE=DURATION:PT1H
X-Robots-Tag:noindex
X-PUBLISHED-TTL:PT1H
BEGIN:VTIMEZONE
TZID:America/Indiana/Indianapolis
BEGIN:DAYLIGHT
TZOFFSETFROM:-0500
TZOFFSETTO:-0400
TZNAME:EDT
DTSTART:20210314T070000
END:DAYLIGHT
BEGIN:STANDARD
TZOFFSETFROM:-0400
TZOFFSETTO:-0500
TZNAME:EST
DTSTART:20211107T060000
END:STANDARD
BEGIN:DAYLIGHT
TZOFFSETFROM:-0500
TZOFFSETTO:-0400
TZNAME:EDT
DTSTART:20220313T070000
END:DAYLIGHT
BEGIN:STANDARD
TZOFFSETFROM:-0400
TZOFFSETTO:-0500
TZNAME:EST
DTSTART:20221106T060000
END:STANDARD
BEGIN:DAYLIGHT
TZOFFSETFROM:-0500
TZOFFSETTO:-0400
TZNAME:EDT
DTSTART:20230312T070000
END:DAYLIGHT
BEGIN:STANDARD
TZOFFSETFROM:-0400
TZOFFSETTO:-0500
TZNAME:EST
DTSTART:20231105T060000
END:STANDARD
END:VTIMEZONE
BEGIN:VEVENT
DTSTART;TZID=America/Indiana/Indianapolis:20220301T133000
DTEND;TZID=America/Indiana/Indianapolis:20220301T143000
DTSTAMP:20260421T052338
CREATED:20220214T193516Z
LAST-MODIFIED:20220214T193516Z
UID:22367-1646141400-1646145000@www.elkhart.org
SUMMARY:Vibrant Vibes Workshops
DESCRIPTION:Find a Meeting That’s Right for You! We’ve scheduled seven meetings in communities around Elkhart County between Tuesday\, March 1\, and Thursday\, March 3. Each meeting will follow the same agenda so you can pick the date\, time\, and place that works for you! No RSVP required. \nVirtual Meeting Option \nWe also have an option for meeting virtually on Thursday\, February 24 at noon. If that is the best option for you\, please RSVP by clicking the ‘Register Here’ button below. \nGet Next Chapter alerts! \nAdd your voice to Vibrant Communities’ Next Chapter \nWith so many great things happening in Elkhart County\, are you ready to help write the next chapter of where we go next? Coming the first week of March\, Vibrant Vibes workshops will give you a voice to share. \nAdditional In Person meetings are listed at https://vibrantelkhartcounty.org/next-chapter/#schedule
URL:https://www.elkhart.org/event/vibrant-vibes-workshops-2/
LOCATION:Elkhart Community Schools ETI Building\, 2608 California Rd\, Elkhart\, IN\, United States
CATEGORIES:Member
END:VEVENT
BEGIN:VEVENT
DTSTART;TZID=America/Indiana/Indianapolis:20220301T160000
DTEND;TZID=America/Indiana/Indianapolis:20220301T170000
DTSTAMP:20260421T052338
CREATED:20220214T193823Z
LAST-MODIFIED:20220214T195143Z
UID:22370-1646150400-1646154000@www.elkhart.org
SUMMARY:Vibrant Vibes Workshops
DESCRIPTION:Find a Meeting That’s Right for You! We’ve scheduled seven meetings in communities around Elkhart County between Tuesday\, March 1\, and Thursday\, March 3. Each meeting will follow the same agenda so you can pick the date\, time\, and place that works for you! No RSVP required. \nVirtual Meeting Option \nWe also have an option for meeting virtually on Thursday\, February 24 at noon. If that is the best option for you\, please RSVP by clicking the ‘Register Here’ button below. \nGet Next Chapter alerts! \nAdd your voice to Vibrant Communities’ Next Chapter \nWith so many great things happening in Elkhart County\, are you ready to help write the next chapter of where we go next? Coming the first week of March\, Vibrant Vibes workshops will give you a voice to share. \nAdditional In Person meetings are listed at https://vibrantelkhartcounty.org/next-chapter/#schedule
URL:https://www.elkhart.org/event/vibrant-vibes-workshops-3/
LOCATION:Nappanee Public Library\, 157 N Main St\, Nappanee\, IN\, United States
CATEGORIES:Member
END:VEVENT
END:VCALENDAR