BEGIN:VCALENDAR
VERSION:2.0
PRODID:-//Greater Elkhart Chamber of Commerce - ECPv6.15.7//NONSGML v1.0//EN
CALSCALE:GREGORIAN
METHOD:PUBLISH
X-ORIGINAL-URL:https://www.elkhart.org
X-WR-CALDESC:Events for Greater Elkhart Chamber of Commerce
REFRESH-INTERVAL;VALUE=DURATION:PT1H
X-Robots-Tag:noindex
X-PUBLISHED-TTL:PT1H
BEGIN:VTIMEZONE
TZID:America/Indiana/Indianapolis
BEGIN:DAYLIGHT
TZOFFSETFROM:-0500
TZOFFSETTO:-0400
TZNAME:EDT
DTSTART:20200308T070000
END:DAYLIGHT
BEGIN:STANDARD
TZOFFSETFROM:-0400
TZOFFSETTO:-0500
TZNAME:EST
DTSTART:20201101T060000
END:STANDARD
BEGIN:DAYLIGHT
TZOFFSETFROM:-0500
TZOFFSETTO:-0400
TZNAME:EDT
DTSTART:20210314T070000
END:DAYLIGHT
BEGIN:STANDARD
TZOFFSETFROM:-0400
TZOFFSETTO:-0500
TZNAME:EST
DTSTART:20211107T060000
END:STANDARD
BEGIN:DAYLIGHT
TZOFFSETFROM:-0500
TZOFFSETTO:-0400
TZNAME:EDT
DTSTART:20220313T070000
END:DAYLIGHT
BEGIN:STANDARD
TZOFFSETFROM:-0400
TZOFFSETTO:-0500
TZNAME:EST
DTSTART:20221106T060000
END:STANDARD
END:VTIMEZONE
BEGIN:VEVENT
DTSTART;TZID=America/Indiana/Indianapolis:20210424T100000
DTEND;TZID=America/Indiana/Indianapolis:20211017T180000
DTSTAMP:20260425T191610
CREATED:20210424T140000Z
LAST-MODIFIED:20210524T191719Z
UID:19368-1619258400-1634493600@www.elkhart.org
SUMMARY:Origami in the Gardens
DESCRIPTION:OrigamiintheGarden2 consists of 21 unique sculptures that comprise 17 different displays sited strategically around Wellfield’s acreage. All pieces feature interpretive signage\, as well as a complimentary cell phone audio tour\, in which guests can gain additional insight about the pieces from the artists themselves.\nGeneral Admission Rates:\nMembers are FREE\nAdults (13 and over): $8\nChildren (ages 3-12): $4\nChildren under 3: Free
URL:https://www.elkhart.org/event/origami-in-the-gardens/
LOCATION:Wellfield Botanic Gardens\, 1011 North Main Street\, Elkhart\, IN\, 46514\, United States
CATEGORIES:Member
END:VEVENT
BEGIN:VEVENT
DTSTART;TZID=America/Indiana/Indianapolis:20210928T090000
DTEND;TZID=America/Indiana/Indianapolis:20210928T143000
DTSTAMP:20260425T191610
CREATED:20210902T130000Z
LAST-MODIFIED:20210903T141022Z
UID:20309-1632819600-1632839400@www.elkhart.org
SUMMARY:Youth Mental Health First Aid
DESCRIPTION:Come join us to learn about the common signs and symptoms of mental illness in this age group including anxiety\, depression\, ADHD\, and eating disorders. We will discuss ways of interacting with a child or adolescent in crisis and connecting them with help. This training is a “blended” course\, which consists of 2 hours of self-paced coursework prior to in-person attendance. The cost is $25 and lunch is included. Registration is required.
URL:https://www.elkhart.org/event/youth-mental-health-first-aid-3/
LOCATION:Elkhart County Administration Building\, 117 N 2nd Street\, Goshen\, IN\, 46526\, United States
CATEGORIES:Member
END:VEVENT
BEGIN:VEVENT
DTSTART;TZID=America/Indiana/Indianapolis:20210928T090000
DTEND;TZID=America/Indiana/Indianapolis:20210928T143000
DTSTAMP:20260425T191610
CREATED:20210903T130000Z
LAST-MODIFIED:20210903T140940Z
UID:20493-1632819600-1632839400@www.elkhart.org
SUMMARY:Youth Mental Health First Aid
DESCRIPTION:Participants who successfully complete the training will become certified in Youth Mental Health First Aid. Registration is required and lunch will be provided. \n**This course is “blended”. You will be required to complete a 2 hour self-paced training PRIOR to attending the in-person portion of the course. All necessary links and materials will be provided for you.\nYou will learn:\n-That the peak age of onset for mental illness is early adolescence.\n-The unique risk factors and warning signs of mental health problems in adolescents.\n-The importance of intervention.\n-How to help a youth who is experiencing a mental health or substance use challenge.\n-A 5-step action plan to assist an adolescent in crisis or an adolescent that is exhibiting the signs and symptoms of mental illness.\n-Resources available to help adolescents with a mental health problem.
URL:https://www.elkhart.org/event/youth-mental-health-first-aid-2/
LOCATION:Elkhart County Administration Building\, 117 N 2nd Street\, Goshen\, IN\, 46526\, United States
CATEGORIES:Member
END:VEVENT
BEGIN:VEVENT
DTSTART;TZID=America/Indiana/Indianapolis:20210928T130000
DTEND;TZID=America/Indiana/Indianapolis:20210928T140000
DTSTAMP:20260425T191610
CREATED:20210913T170000Z
LAST-MODIFIED:20210913T143045Z
UID:20670-1632834000-1632837600@www.elkhart.org
SUMMARY:INCLUSIVITY IS THE LEAD STORY Creating Inclusion with Courage and Compassion With ABC News Veteran John Quiñones
DESCRIPTION:Join PNC as we celebrate Hispanic Heritage Month with special guest John Quiñones. The ABC News veteran and creator and host of What Would You Do? will share his inspiring story\, the lessons he’s learned\, and how having difficult conversations in the workplace and in the community helps us create a more inclusive culture. \nCreating Inclusion with Courage and Compassion with John Quiñones\nTuesday\, September 28\, 2021\n1:00-2:00 PM Eastern Daylight Time
URL:https://www.elkhart.org/event/inclusivity-is-the-lead-story-creating-inclusion-with-courage-and-compassion-with-abc-news-veteran-john-quinones/
LOCATION:Virtual\, IN\, United States
CATEGORIES:Member
END:VEVENT
BEGIN:VEVENT
DTSTART;TZID=America/Indiana/Indianapolis:20210928T140000
DTEND;TZID=America/Indiana/Indianapolis:20210928T153000
DTSTAMP:20260425T191610
CREATED:20210729T150000Z
LAST-MODIFIED:20210729T145806Z
UID:20252-1632837600-1632843000@www.elkhart.org
SUMMARY:Can Science and Religious Faith Cohabit?
DESCRIPTION:Sept. 28\, 30\, Oct. 5\, 7 | 2-3:30 p.m.\nAre vaccines safe? Are the Genesis 1 and 2 accounts compatible with science? Did Darwin make religious faith unnecessary? Why are some people of Christian faith leery of\, if not hostile toward\, science and scientists? In the first session we will address the characteristics of science\, the Bible as a source of science\, and the types of evidence we bring to science/faith discussions. In session two we will explore barriers to communication and the role of bias and misinformation. In session three we will address philosophical and scientific issues that appear to cause threat to Christians. In the final session we will consider some contemporary sources of science/faith tension\, e.g. climate\, vaccines\, teaching of evolution. Duane Kauffmann is retired professor of psychology and instructor in marine biology at Goshen College. Attend either in-person or virtually. \nCost is $40 or $20 for LLI members. Register at http://life-learn.org/
URL:https://www.elkhart.org/event/can-science-and-religious-faith-cohabit/
LOCATION:Redefine Aesthetics\, 112 W. Lexington Ave\, Elkhart\, IN\, 46516\, United States
CATEGORIES:Member
END:VEVENT
END:VCALENDAR