BEGIN:VCALENDAR
VERSION:2.0
PRODID:-//Greater Elkhart Chamber of Commerce - ECPv6.15.7//NONSGML v1.0//EN
CALSCALE:GREGORIAN
METHOD:PUBLISH
X-ORIGINAL-URL:https://www.elkhart.org
X-WR-CALDESC:Events for Greater Elkhart Chamber of Commerce
REFRESH-INTERVAL;VALUE=DURATION:PT1H
X-Robots-Tag:noindex
X-PUBLISHED-TTL:PT1H
BEGIN:VTIMEZONE
TZID:America/Indiana/Indianapolis
BEGIN:DAYLIGHT
TZOFFSETFROM:-0500
TZOFFSETTO:-0400
TZNAME:EDT
DTSTART:20200308T070000
END:DAYLIGHT
BEGIN:STANDARD
TZOFFSETFROM:-0400
TZOFFSETTO:-0500
TZNAME:EST
DTSTART:20201101T060000
END:STANDARD
BEGIN:DAYLIGHT
TZOFFSETFROM:-0500
TZOFFSETTO:-0400
TZNAME:EDT
DTSTART:20210314T070000
END:DAYLIGHT
BEGIN:STANDARD
TZOFFSETFROM:-0400
TZOFFSETTO:-0500
TZNAME:EST
DTSTART:20211107T060000
END:STANDARD
BEGIN:DAYLIGHT
TZOFFSETFROM:-0500
TZOFFSETTO:-0400
TZNAME:EDT
DTSTART:20220313T070000
END:DAYLIGHT
BEGIN:STANDARD
TZOFFSETFROM:-0400
TZOFFSETTO:-0500
TZNAME:EST
DTSTART:20221106T060000
END:STANDARD
END:VTIMEZONE
BEGIN:VEVENT
DTSTART;TZID=America/Indiana/Indianapolis:20210422T121500
DTEND;TZID=America/Indiana/Indianapolis:20210422T130000
DTSTAMP:20260422T005332
CREATED:20210405T161500Z
LAST-MODIFIED:20210406T203640Z
UID:18955-1619093700-1619096400@www.elkhart.org
SUMMARY:Midwest Museum of American Art Noon Time Talk: Ralph Bower\, Goshen Woodcarver
DESCRIPTION:Please join us on Thursday\, April 22\, 2021 for our Noon Time Talk at 12:15 PM.\nBrian Byrn discusses the spotlight exhibit “Ralph Bower: Goshen Woodcarver.”\nAdmission $5. Free for MMAA Members & Donors.\nMasks are required for all gallery talks. Gallery Talks or Noon-Time-Talks each Thursday will be limited to 30 people on a first-come-first-serve basis. Doors will be locked at 12:15. No admittance to the museum by the public will be allowed until the talk has concluded and the galleries emptied and sterilized.
URL:https://www.elkhart.org/event/midwest-museum-of-american-art-noon-time-talk-ralph-bower-goshen-woodcarver/
LOCATION:Midwest Museum of American Art\, 429 S Main St\, Elkhart\, IN\, 46516\, United States
CATEGORIES:Member
END:VEVENT
BEGIN:VEVENT
DTSTART;TZID=America/Indiana/Indianapolis:20210422T123000
DTEND;TZID=America/Indiana/Indianapolis:20210422T133000
DTSTAMP:20260422T005332
CREATED:20210322T163000Z
LAST-MODIFIED:20210324T180031Z
UID:18866-1619094600-1619098200@www.elkhart.org
SUMMARY:Serving the Community Better with Solar Power
DESCRIPTION:You are invited to learn about the power and savings the sun is providing Church Community Services so we can better serve our community! An RSVP is appreciated. htessier@churchcommunityservices.org. Please share this with those you think may be interested! \nOur food pantry is powered in part by solar panels we received through SUN FOR ALL Solar Empowerment Grant Program with the Citizens Action Coalition Education Fund as its fiscal agent and administered on behalf of the AEP Mitigation Money Oversight Committee.
URL:https://www.elkhart.org/event/serving-the-community-better-with-solar-power/
LOCATION:Church Community Services\, 907 Oakland Ave\, Elkhart\, IN\, United States
CATEGORIES:Member
END:VEVENT
END:VCALENDAR