BEGIN:VCALENDAR
VERSION:2.0
PRODID:-//Greater Elkhart Chamber of Commerce - ECPv6.15.7//NONSGML v1.0//EN
CALSCALE:GREGORIAN
METHOD:PUBLISH
X-ORIGINAL-URL:https://www.elkhart.org
X-WR-CALDESC:Events for Greater Elkhart Chamber of Commerce
REFRESH-INTERVAL;VALUE=DURATION:PT1H
X-Robots-Tag:noindex
X-PUBLISHED-TTL:PT1H
BEGIN:VTIMEZONE
TZID:America/Indiana/Indianapolis
BEGIN:DAYLIGHT
TZOFFSETFROM:-0500
TZOFFSETTO:-0400
TZNAME:EDT
DTSTART:20240310T070000
END:DAYLIGHT
BEGIN:STANDARD
TZOFFSETFROM:-0400
TZOFFSETTO:-0500
TZNAME:EST
DTSTART:20241103T060000
END:STANDARD
BEGIN:DAYLIGHT
TZOFFSETFROM:-0500
TZOFFSETTO:-0400
TZNAME:EDT
DTSTART:20250309T070000
END:DAYLIGHT
BEGIN:STANDARD
TZOFFSETFROM:-0400
TZOFFSETTO:-0500
TZNAME:EST
DTSTART:20251102T060000
END:STANDARD
BEGIN:DAYLIGHT
TZOFFSETFROM:-0500
TZOFFSETTO:-0400
TZNAME:EDT
DTSTART:20260308T070000
END:DAYLIGHT
BEGIN:STANDARD
TZOFFSETFROM:-0400
TZOFFSETTO:-0500
TZNAME:EST
DTSTART:20261101T060000
END:STANDARD
BEGIN:DAYLIGHT
TZOFFSETFROM:-0500
TZOFFSETTO:-0400
TZNAME:EDT
DTSTART:20270314T070000
END:DAYLIGHT
BEGIN:STANDARD
TZOFFSETFROM:-0400
TZOFFSETTO:-0500
TZNAME:EST
DTSTART:20271107T060000
END:STANDARD
END:VTIMEZONE
BEGIN:VEVENT
DTSTART;TZID=America/Indiana/Indianapolis:20251204T121500
DTEND;TZID=America/Indiana/Indianapolis:20251204T121500
DTSTAMP:20260422T000157
CREATED:20251031T161500Z
LAST-MODIFIED:20251031T151547Z
UID:41895-1764850500-1764850500@www.elkhart.org
SUMMARY:Noon Time Talk: Stephan Jeffrey Prugh\, Elkhart\, IN
DESCRIPTION:Please join us for our Noon Time Talk on Thursday\, December 4.\nWe will be joined by Elkhart-based artist Stephan Jeffrey Prugh\, whose award-winning artwork “Indeterminate Agency” is featured in the 47th Elkhart Juried Regional. \nFree to MMAA Members. Regular Admission Fees apply for Non-Members. \nGallery Talks or Noon Time Talks each Thursday will be limited to 75 people on a first-come-first-serve basis. Program begins at 12:15. No admittance after the program begins until the conclusion of the program at 1:15 pm.
URL:https://www.elkhart.org/event/noon-time-talk-stephan-jeffrey-prugh-elkhart-in/
LOCATION:Midwest Museum of American Art\, 429 S Main St\, Elkhart\, IN\, 46516\, United States
CATEGORIES:Member
END:VEVENT
BEGIN:VEVENT
DTSTART;TZID=America/Indiana/Indianapolis:20251204T150000
DTEND;TZID=America/Indiana/Indianapolis:20251204T170000
DTSTAMP:20260422T000157
CREATED:20251120T200000Z
LAST-MODIFIED:20251124T143736Z
UID:42255-1764860400-1764867600@www.elkhart.org
SUMMARY:Brentwood at Elkhart Independent living 25th Anniversary Celebration!
DESCRIPTION:Brentwood at Elkhart Independent Living’s 25th Anniversary Celebration \nJoin us at 3600 E. Bristol St\, Elkhart\, IN\, from 3-5 p.m. as we celebrate 25 years of serving our seniors. \nRefreshments will be served
URL:https://www.elkhart.org/event/brentwood-at-elkhart-independent-living-25th-anniversary-celebration/
LOCATION:Brentwood at Elkhart\, 3109 E Bristol St\, Elkhart\, IN\, United States
CATEGORIES:Member
END:VEVENT
BEGIN:VEVENT
DTSTART;TZID=America/Indiana/Indianapolis:20251205T180000
DTEND;TZID=America/Indiana/Indianapolis:20251205T210000
DTSTAMP:20260422T000157
CREATED:20251120T230000Z
LAST-MODIFIED:20251124T144007Z
UID:42261-1764957600-1764968400@www.elkhart.org
SUMMARY:14th Annual Bears in the Air Kick-Off Party
DESCRIPTION:Celebrate the 14th Annual Bears in the Air Kick-Off Party with us! Gather family\, friends\, and colleagues to join us for an evening of celebration while we raise funds to provide newly purchased teddy bears to children in area hospitals. These bears provide smiles and comfort to children when there is little reason to smile.\nThe Bears in the Air program also supports our community’s most vulnerable Veterans who have served our country and are now in need of support. Funds raised also provide financial assistance to the Robert L. Miller Sr. Veteran’s Center.\nIn the last thirteen years\, more than 22\,000 teddy bears have been provided to children along with $106\,600 to Veterans!\nThis event is open to adults 21+. $35 Admission at the Door or Reserve a table of 10 seats in advance for $450. Contact Julie Curtis at jcurtis@sbnair.com or 574.800.3230. Based on Availability. Payment must be received by November 21.\nSmall bites and cash bar (complimentary first beverages) and fabulous door prizes (must be present to win).\nIf you are unable to make the party\, donations can be made at: givegrove.com/bearsintheair2025
URL:https://www.elkhart.org/event/14th-annual-bears-in-the-air-kick-off-party/
LOCATION:South Bend International Airport
CATEGORIES:Member
END:VEVENT
BEGIN:VEVENT
DTSTART;TZID=America/Indiana/Indianapolis:20251206T140000
DTEND;TZID=America/Indiana/Indianapolis:20251206T140100
DTSTAMP:20260422T000157
CREATED:20251030T180000Z
LAST-MODIFIED:20251031T151206Z
UID:41834-1765029600-1765029660@www.elkhart.org
SUMMARY:Epic HoliDaze!
DESCRIPTION:Black Friday shopping\, office parties\, and baking with grandparents; the holiday season brings joy\, peace and a special kind of crazy to us all. Join Epic Dance Studios as it explores the chaos of the season\, in its production of Epic HoliDaze! Enjoy a spirited afternoon performance of jazz\, ballet\, hip hop\, tap and contemporary dance\, featuring the music of Duke Ellington’s “Harlem Nutcracker.” \nJoin us for Elkhart’s Winterfest! \nIn addition to this exciting performance\, guests are encouraged to enjoy Winterfest in downtown Elkhart\, taking place throughout the day. This festive celebration features Breakfast with Santa\, kids’ activities\, holiday shopping\, the annual tree lighting\, and a magical lighted parade to cap off the evening. It’s the perfect way for families to celebrate the season together in the heart of Elkhart!
URL:https://www.elkhart.org/event/epic-holidaze/
LOCATION:Lerner Theatre\, 410 S Main St\, Elkhart\, IN\, 46516\, United States
CATEGORIES:Member
END:VEVENT
BEGIN:VEVENT
DTSTART;TZID=America/Indiana/Indianapolis:20251208T183000
DTEND;TZID=America/Indiana/Indianapolis:20251208T193000
DTSTAMP:20260422T000157
CREATED:20251008T223000Z
LAST-MODIFIED:20251031T151346Z
UID:40004-1765218600-1765222200@www.elkhart.org
SUMMARY:Everence - Medicare Monday
DESCRIPTION:Join our webinar about Medicare led by a local Everence Financial Consultant. \nWe’ll cover the following:\nEnrollment details and deadlines.\nBudgeting for health care and income in retirement.\nWhat are your options if you continue to work?\nSocial Security – when do I start?\nPrescription drug coverage.\nPlans that supplement Medicare.\nWe are eager to discuss any additional questions you have. You can submit questions when you register or by using the Q&A feature during the webinar. \nPlease invite friends or family members who would also benefit from this information.\nRegister by Dec. 2. \nAfter you register\, we will email you a Zoom link that you will use to access the webinar.
URL:https://www.elkhart.org/event/everence-medicare-monday-15/
LOCATION:Virtual\, IN\, United States
CATEGORIES:Member
END:VEVENT
BEGIN:VEVENT
DTSTART;TZID=America/Indiana/Indianapolis:20251211T121500
DTEND;TZID=America/Indiana/Indianapolis:20251211T131500
DTSTAMP:20260422T000157
CREATED:20251031T161500Z
LAST-MODIFIED:20251031T150846Z
UID:41896-1765455300-1765458900@www.elkhart.org
SUMMARY:Noon Time Talk: J.J. Weinberg\, LaPorte\, IN.
DESCRIPTION:Please join us for our Noon Time Talk on Thursday\, December 4.\nWe will be joined by LaPorte artist J.J. Weinberg whose artwork is featured in the 47th Elkhart Juried Regional. \nFree to MMAA Members. Regular Admission Fees apply for Non-Members. \nGallery Talks or Noon Time Talks each Thursday will be limited to 75 people on a first-come-first-serve basis. Program begins at 12:15. No admittance after the program begins until the conclusion of the program at 1:15 pm.
URL:https://www.elkhart.org/event/noon-time-talk-j-j-weinberg-laporte-in/
LOCATION:Midwest Museum of American Art\, 429 S Main St\, Elkhart\, IN\, 46516\, United States
CATEGORIES:Member
END:VEVENT
BEGIN:VEVENT
DTSTART;TZID=America/Indiana/Indianapolis:20251213T100000
DTEND;TZID=America/Indiana/Indianapolis:20251213T140000
DTSTAMP:20260422T000157
CREATED:20250413T140000Z
LAST-MODIFIED:20251031T150544Z
UID:38497-1765620000-1765634400@www.elkhart.org
SUMMARY:Rex Martin NIBCO Interactive Museum Public Tours
DESCRIPTION:The Rex Martin NIBCO Interactive Museum is open to the public for tours. Learn about NIBCO’s rich 120-year history in Elkhart\, its impact on the community and the plumbing industry\, and beyond. Experience the behind-the-wall Plumbing Discovery House and other interactive exhibits.
URL:https://www.elkhart.org/event/rex-martin-nibco-interactive-museum-public-tours-6/
LOCATION:Rex Martin NIBCO Interactive Museum\, 1516 Middlebury Street\, Elkhart
CATEGORIES:Member
END:VEVENT
BEGIN:VEVENT
DTSTART;TZID=America/Indiana/Indianapolis:20251217T163000
DTEND;TZID=America/Indiana/Indianapolis:20251217T183000
DTSTAMP:20260422T000157
CREATED:20251215T140944Z
LAST-MODIFIED:20251215T140944Z
UID:42938-1765989000-1765996200@www.elkhart.org
SUMMARY:Member Celebration - Church Community Services
DESCRIPTION:Church Community Services is celebrating  the generous donation and acquisition of the former Jimtown Historical Museum property. To mark this milestone\, CCS will host a ribbon cutting ceremony and open house  on Wednesday\, December 17 at 4:30 p.m. at 59710 County Road 3\, Elkhart. The Acres at Jamestown will serve as a new hub of community impact\, marking the start of a new chapter for CCS and all of Elkhart County. \nAn Open House will follow the ceremony. Community members are invited to mingle\, tour inside the home\, and celebrate with Christmas treats\, a warm cup of cocoa or cider\, then stay for the annual lighting of the house. The event will conclude at 6:30 p.m.
URL:https://www.elkhart.org/event/member-celebration-church-community-services/
LOCATION:The Acres at Jamestown\, 59710 CR 3\, Elkhart\, IN
CATEGORIES:Chamber,Member
END:VEVENT
BEGIN:VEVENT
DTSTART;TZID=America/Indiana/Indianapolis:20251218T121500
DTEND;TZID=America/Indiana/Indianapolis:20251218T131500
DTSTAMP:20260422T000157
CREATED:20251018T161500Z
LAST-MODIFIED:20251031T150451Z
UID:41897-1766060100-1766063700@www.elkhart.org
SUMMARY:Noon Time Talk: Heidi Bailey\, Warsaw\, IN
DESCRIPTION:Please join us for our Noon Time Talk on Thursday\, December 18\nWe will be joined by Warsaw-based artist\, Heidi Bailey\, whose artwork received the Best Sculpture Award in the 47th Elkhart Juried Regional.\nFree to MMAA Members. Regular Admission Fees apply for Non-Members. \nGallery Talks or Noon Time Talks each Thursday will be limited to 75 people on a first-come-first-serve basis. Program begins at 12:15. No admittance after the program begins until the conclusion of the program at 1:15 pm.
URL:https://www.elkhart.org/event/noon-time-talk-heidi-bailey-warsaw-in/
LOCATION:Midwest Museum of American Art\, 429 S Main St\, Elkhart\, IN\, 46516\, United States
CATEGORIES:Member
END:VEVENT
BEGIN:VEVENT
DTSTART;TZID=America/Indiana/Indianapolis:20251218T140000
DTEND;TZID=America/Indiana/Indianapolis:20251218T160000
DTSTAMP:20260422T000157
CREATED:20251205T190000Z
LAST-MODIFIED:20251208T134938Z
UID:42831-1766066400-1766073600@www.elkhart.org
SUMMARY:Holiday Ornament Painting Party
DESCRIPTION:The Council on Aging and Hunny Pot Pottery Studio are teaming up to host a festive Holiday Ornament Painting Party—and you’re invited! \nThis event is a wonderful opportunity for older adults to relax\, get creative\, and enjoy a warm holiday gathering with friends – old and new. Invite a friend\, a neighbor\, or a family member and enjoy a creative holiday afternoon.
URL:https://www.elkhart.org/event/holiday-ornament-painting-party/
LOCATION:The Hunny Pot Studio\, 421 S 2nd St\, Ste B\, Elkhart\, IN\, United States
CATEGORIES:Member
END:VEVENT
BEGIN:VEVENT
DTSTART;TZID=America/Indiana/Indianapolis:20251231T200000
DTEND;TZID=America/Indiana/Indianapolis:20260101T010000
DTSTAMP:20260422T000157
CREATED:20251225T010000Z
LAST-MODIFIED:20251224T203610Z
UID:43006-1767211200-1767229200@www.elkhart.org
SUMMARY:A Roaring 20's New Years Eve at Hotel Elkhart
DESCRIPTION:A Roaring 20’s New Years Eve Celebration at Hotel Elkhart \n📅 Date: December 31\, 2025 \n🕔 Time: 8:00 PM – 1:00 AM \n📍 Location: Aria Ballroom\, Hotel Elkhart \n👉 Includes:\nDeluxe overnight accommodations for two\nDinner buffet for two\nTwo drink tickets per person\nLive Entertainment by Bradley Sinclair\nLate-night snacks & a midnight champagne toast\nNew Year’s Day Hangover Brunch Buffet for two\nLate 2PM check-out & complimentary parking\nClassic Package: $399 Suite Package: $475\nDetails:\nCash Bar for alcoholic beverages\nNote: Tickets are non-refundable!\nFor more information\, contact us at:\n📞 574-891-2049\n📧 salesadmin@hotelelkhart.com\nGrab your tickets now and join us for a night of great food\, drinks\, and entertainment in a glamourous setting. Let’s make this New Years Eve one to remember! ✨
URL:https://www.elkhart.org/event/a-roaring-20s-new-years-eve-at-hotel-elkhart/
LOCATION:The Aria Ballroom at Hotel Elkhart\, 500 S Main St\, Elkhart\, 46516\, United States
CATEGORIES:Member
END:VEVENT
END:VCALENDAR