BEGIN:VCALENDAR
VERSION:2.0
PRODID:-//Greater Elkhart Chamber of Commerce - ECPv6.15.7//NONSGML v1.0//EN
CALSCALE:GREGORIAN
METHOD:PUBLISH
X-ORIGINAL-URL:https://www.elkhart.org
X-WR-CALDESC:Events for Greater Elkhart Chamber of Commerce
REFRESH-INTERVAL;VALUE=DURATION:PT1H
X-Robots-Tag:noindex
X-PUBLISHED-TTL:PT1H
BEGIN:VTIMEZONE
TZID:America/Indiana/Indianapolis
BEGIN:DAYLIGHT
TZOFFSETFROM:-0500
TZOFFSETTO:-0400
TZNAME:EDT
DTSTART:20240310T070000
END:DAYLIGHT
BEGIN:STANDARD
TZOFFSETFROM:-0400
TZOFFSETTO:-0500
TZNAME:EST
DTSTART:20241103T060000
END:STANDARD
BEGIN:DAYLIGHT
TZOFFSETFROM:-0500
TZOFFSETTO:-0400
TZNAME:EDT
DTSTART:20250309T070000
END:DAYLIGHT
BEGIN:STANDARD
TZOFFSETFROM:-0400
TZOFFSETTO:-0500
TZNAME:EST
DTSTART:20251102T060000
END:STANDARD
BEGIN:DAYLIGHT
TZOFFSETFROM:-0500
TZOFFSETTO:-0400
TZNAME:EDT
DTSTART:20260308T070000
END:DAYLIGHT
BEGIN:STANDARD
TZOFFSETFROM:-0400
TZOFFSETTO:-0500
TZNAME:EST
DTSTART:20261101T060000
END:STANDARD
END:VTIMEZONE
BEGIN:VEVENT
DTSTART;TZID=America/Indiana/Indianapolis:20251101T100000
DTEND;TZID=America/Indiana/Indianapolis:20251101T160000
DTSTAMP:20260422T000145
CREATED:20250925T140000Z
LAST-MODIFIED:20250926T164618Z
UID:41523-1761991200-1762012800@www.elkhart.org
SUMMARY:Science Spooktacular
DESCRIPTION:UNLEASH THE THRILLS OF SCIENCE & FUN AT THE 2025 SCIENCE SPOOKTACULAR! Step into a world where imagination meets innovation! Experience the Amazon John Animal Show\, journey through the STEAM Museum and StarLab\, and put your skills to the test in the Escape Room and CSI Challenge. Kids can explore the Inflatable Fire House\, create at the Craft Station\, or get hands-on at the Chemistry Lab. That’s not all—enjoy face painting\, meet heroes from the Mandalorian\, check out the Stay Indiana Aircraft and local 4-H Clubs\, and so much more. This is an exciting family event.
URL:https://www.elkhart.org/event/science-spooktacular-3/
LOCATION:Elkhart County 4H Fairgrounds\, 17746 CR 34\, Goshen\, IN\, United States
CATEGORIES:Member
END:VEVENT
BEGIN:VEVENT
DTSTART;TZID=America/Indiana/Indianapolis:20251107T190000
DTEND;TZID=America/Indiana/Indianapolis:20251107T220000
DTSTAMP:20260422T000145
CREATED:20251007T230000Z
LAST-MODIFIED:20251031T150301Z
UID:40337-1762542000-1762552800@www.elkhart.org
SUMMARY:Dusty Slay: The Night Shift Tour
DESCRIPTION:Long hair\, tobacco\, over-sized glasses and a trucker hat\, Dusty Slay is the self-effacing bourbon-voiced Southern comedian next door with a knack for observational\, blue-collar humor and the nerve to say what everyone else is thinking. He grew up the son of a single mom in an Alabama trailer park and evokes laughs about everything from Cracker Barrel to his aversion to soap. The 40-year-old Nashville native is a mainstay on the country music scene\, making his Grand Ole Opry debut in 2019 – the youngest at the time\, and adding dozens of appearances in the historic Circle ever since. He has also appeared on The Tonight Show with Jimmy Fallon and Jimmy Kimmel Live\, has a Comedy Central special to his credit and just released his first hour-long Netflix special “Workin’ Man” that he filmed about three hours from home\, at the Bijou theater in Knoxville\, Tennessee. With almost 20 years of eliciting guffaws through his laidback observations\, comedic cadence and conversational style\, Dusty is just getting started bringing his brand of relatable working-class comedy to audiences coast to coast. Slay recently announced his 35-show “The Night Shift Tour” in support of the new special. See below for tour routing and more details can be found at DustySlay.com. \nThis event has been designated as a No-Weapons event*\n*with exception for law enforcement
URL:https://www.elkhart.org/event/dusty-slay-the-night-shift-tour/
LOCATION:The Lerner Theatre
CATEGORIES:Member
END:VEVENT
BEGIN:VEVENT
DTSTART;TZID=America/Indiana/Indianapolis:20251113T121500
DTEND;TZID=America/Indiana/Indianapolis:20251113T131500
DTSTAMP:20260422T000145
CREATED:20251031T161500Z
LAST-MODIFIED:20251031T145828Z
UID:41894-1763036100-1763039700@www.elkhart.org
SUMMARY:Noon Time Talk: Kerri Mommer\, Munster\, IN
DESCRIPTION:Please join us for our Noon Time Talk on Thursday\, November 13.\nWe will be joined by Munster-based artist Kerri Mommer\, whose artwork is featured in the 47th Elkhart Juried Regional receiving a purchase award from Jim & Janet Rieckhoff. \nFree to MMAA Members. Regular Admission Fees apply for Non-Members. \nGallery Talks or Noon Time Talks each Thursday will be limited to 75 people on a first-come-first-serve basis. Program begins at 12:15. No admittance after the program begins until the conclusion of the program at 1:15 pm.
URL:https://www.elkhart.org/event/noon-time-talk-kerri-mommer-munster-in/
LOCATION:IN
CATEGORIES:Member
END:VEVENT
BEGIN:VEVENT
DTSTART;TZID=America/Indiana/Indianapolis:20251114T190000
DTEND;TZID=America/Indiana/Indianapolis:20251114T220000
DTSTAMP:20260422T000145
CREATED:20251014T230000Z
LAST-MODIFIED:20251031T151817Z
UID:41398-1763146800-1763157600@www.elkhart.org
SUMMARY:Mutts Gone Nuts: Unleashed!
DESCRIPTION:Mutts Gone Nuts – Unleashed! \nCome see a dozen of the world’s most talented four-legged performers\, in an uproariously funny\, comedy dog spectacular that is leaving audiences everywhere howling for more! The all-star lineup includes a Guinness World Record holder\, and an America’s Got Talent fan favorite\, and a host of amazing rescue dogs that will dance\, prance\, flip\, and skip their way right into your heart. \nDeemed “A must see” by The Washington Post\, Mutts Gone Nuts Unleashed is sure to win Best in Show!
URL:https://www.elkhart.org/event/mutts-gone-nuts-unleashed/
LOCATION:The Lerner Theatre
CATEGORIES:Member
END:VEVENT
BEGIN:VEVENT
DTSTART;TZID=America/Indiana/Indianapolis:20251115T200000
DTEND;TZID=America/Indiana/Indianapolis:20251115T230000
DTSTAMP:20260422T000145
CREATED:20251016T000000Z
LAST-MODIFIED:20251031T150137Z
UID:40338-1763236800-1763247600@www.elkhart.org
SUMMARY:The Lerner 100 Year Grand Event: Midland
DESCRIPTION:GRAMMY® nominees Midland have sought to reintroduce the Western plains\, Laurel Canyon-cum-Bakersfield and Lone Star honky tonks to Country music since coming together at a friend’s wedding over common influences and the need for a return to this sort of post-Urban Cowboy Country. For lead singer Mark Wystrach\, bassist/vocalist Cameron Duddy and guitarist/vocalist Jess Carson\, the five-times platinum hit “Drinkin’ Problem” set the stage for their critically acclaimed On The Rocks and No. 1 Billboard Top Country Albums debut Let It Roll to unite classic country fans\, hipsters and media including Entertainment Weekly\, GQ\, The Washington Post\, Vogue\, Esquire\, Variety\, Rolling Stone and NPR. Based in Dripping Springs\, Texas\, the trio of songwriters who developed their sound at Tornillo\, Texas’ storied Sonic Ranch have been building a following that’s sold-out the Houston Rodeo and Livestock Show\, packed a multiple-night stand at Ft. Worth’s iconic Billy Bob’s and re-opened North Hollywood’s legendary Palomino Club for one night only. Bringing listeners a resurgence of their thick harmonies\, sad melodies\, tart lyrics and steel guitar with their critically-acclaimed Dave Cobb-produced album Barely Blue (Big Machine Records)\, the retro-Nuevo trio has grown from bar band to an in-demand headliner. For more on Midland and tour updates\, visit MidlandOfficial.com. \nVIP PACKAGE IS AVAILABLE!* – All-In Price: $319.50 \nVIP Package includes one reserved seat ticket\, access to the pre-show acoustic performance and Q&A\, priority early entry\, Midland merchandise item – exclusive to VIP packages\, official Midland VIP laminate + lanyard and crowd free merchandise shopping opportunity. *Limited availability. \nMADE POSSIBLE BY: City of Elkhart\, Elkhart County CVB\, and Friends of the Lerner
URL:https://www.elkhart.org/event/the-lerner-100-year-grand-event-midland/
LOCATION:The Lerner Theatre
CATEGORIES:Member
END:VEVENT
BEGIN:VEVENT
DTSTART;TZID=America/Indiana/Indianapolis:20251116T160000
DTEND;TZID=America/Indiana/Indianapolis:20251116T180000
DTSTAMP:20260422T000145
CREATED:20251016T200000Z
LAST-MODIFIED:20251031T151647Z
UID:40339-1763308800-1763316000@www.elkhart.org
SUMMARY:Grand Kyiv Ballet: Snow Queen
DESCRIPTION:The Grand Kyiv Ballet’s new winter ballet “The Snow Queen” is based on the world-famous fairy tale by Hans Christian Andersen. This fascinating romantic story set to the music of Edvard Grieg\, Jules Massenet\, Mozart\, and Vivaldi\, will give unforgettable bright emotions of happiness for adults and children. \nHandsome Kai\, robbers\, forest fairies\, funny Snowman\, fabulous trolls\, and\, of course\, brave beautiful Gerda who will pass all difficulties on her way. \nKai and Gerda are sitting in their garden among roses when a shard of a witch’s mirror gets into Kai’s eye. His heart becomes hard and cold. One winter day a whirlwind of snow rises around him and he disappears. He is taken by the Snow Queen who lives in a world of ice and snow. \nGerda goes in search of Kai. There are many challenges ahead but love helps her get through them and free Kai from the spell of the Snow Queen.
URL:https://www.elkhart.org/event/grand-kyiv-ballet-snow-queen/
LOCATION:The Lerner Theatre
CATEGORIES:Member
END:VEVENT
BEGIN:VEVENT
DTSTART;TZID=America/Indiana/Indianapolis:20251119T110000
DTEND;TZID=America/Indiana/Indianapolis:20251119T140000
DTSTAMP:20260422T000145
CREATED:20250919T150000Z
LAST-MODIFIED:20251014T133520Z
UID:40988-1763550000-1763560800@www.elkhart.org
SUMMARY:Good Life Awards
DESCRIPTION:Each November\, the GreatNews.Life team comes together to celebrate the people who create good in our world. The Good Life Awards honor six extraordinary individuals who embody positivity\, compassion\, and a deep commitment to making Northern Indiana a better place for everyone.\nThese honorees are our neighbors\, leaders\, and quiet champions. They are the ones who lift others up\, create change\, and lead with kindness. Their stories remind us of the impact one person can have on an entire community.\nJoin us for an inspiring afternoon filled with uplifting stories\, great food\, and the energy of a community united around the power of good.\nWhen you attend or sponsor the Good Life Awards\, you are helping shine a spotlight on the best of humanity and fueling our mission to share positive stories year-round.\nSponsorship Opportunities:\nYour sponsorship helps us celebrate these remarkable honorees and extend their stories to a wider audience. Sponsors receive valuable brand visibility for more than 11 weeks leading up to the event\, recognition in all event materials\, and the opportunity to align with Indiana’s premier positive media celebration.\nFor sponsorship details\, contact Kami Tupiak at Kami@GreatNews.Life or (219) 707-5023.\nLet’s come together\, celebrate what’s good\, and keep the good growing.
URL:https://www.elkhart.org/event/good-life-awards-2/
LOCATION:Uptown Social\, 907 Franklin St\, Michigan City\, IN\, United States
CATEGORIES:Member
END:VEVENT
BEGIN:VEVENT
DTSTART;TZID=America/Indiana/Indianapolis:20251123T160000
DTEND;TZID=America/Indiana/Indianapolis:20251123T180000
DTSTAMP:20260422T000145
CREATED:20251023T200000Z
LAST-MODIFIED:20251031T150941Z
UID:41588-1763913600-1763920800@www.elkhart.org
SUMMARY:Girl Named Tom: A Classical Christmas
DESCRIPTION:The Elkhart County Symphony\, with special guest Girl Named Tom\, performs Nov. 23 at The Lerner Theatre for a special holiday concert presented in partnership with the City of Elkhart and The Lerner 100 Year Anniversary and sponsored by the Elkhart County Convention and Visitors Bureau. \nThe concert features a monumental holiday performance by the Elkhart County Symphony\, and a collaboration with Girl Named Tom. \nThis is a free event\, but guests will need to reserve tickets ahead of time at The Lerner Theatre Box Office starting November 1st.
URL:https://www.elkhart.org/event/girl-named-tom-a-classical-christmas/
LOCATION:Lerner Theatre\, 410 S Main St\, Elkhart\, IN\, 46516\, United States
CATEGORIES:Member
END:VEVENT
BEGIN:VEVENT
DTSTART;TZID=America/Indiana/Indianapolis:20251127T083000
DTEND;TZID=America/Indiana/Indianapolis:20251127T103000
DTSTAMP:20260422T000145
CREATED:20251031T123000Z
LAST-MODIFIED:20251031T150357Z
UID:42157-1764232200-1764239400@www.elkhart.org
SUMMARY:2025 Faith Mission Turkey Stampede presented by Adams Remco
DESCRIPTION:Michiana’s Thanksgiving Tradition is a community event to be shared with loved ones – family & friends. Thanksgiving is such a wonderful time to spend together – a time of gratitude for all we have! \nAn event on Thanksgiving morning? What? It’s a great way to get some fresh air\, “earn your pie” 🥧\, and do something for others at the same time. Every dime raised through your entry fees goes right to Faith Mission of Michiana to help feed and house those in need! (Sponsors cover fixed cost of the event) \nBe sure to ask around your work\, friends\, and people in your neighborhood – do they have something to do on Thanksgiving? Invite them to join you! \nThis is not intended to be an all morning activity\, just a great way to get some fresh air\, and be with others for this community fundraiser. \nPacket Pick up & Registration\nPick up your race packet before race day – avoid the line – you have double the packet pickup options this year so that can sleep in on race day. \nSOUTH BEND – Sunday\, November 23 from 4:00 pm – 7:00 pm at TBD\nGOSHEN – Monday\, November 24 from 4:00pm – 7:00 pm at Goshen Brewing Company\, 315 W Washington\nMISHAWAKA – Tuesday\, November 25 from 4:00pm – 7:00 pm at Fleet Feet Mishawaka\, 3522 Grape Road\nELKHART – Wednesday\, November 26 from 12:00 pm – 6:00 pm at Elkhart Health & Aquatics\, 200 East Jackson\nRace Day- Thursday\, November 27 from 6:30 am – 8:15 am at Elkhart Health & Aquatics\, 200 East Jackson\nConvenient locations in South Bend\, Mishawaka\, Goshen\, and Elkhart – plan on picking up your packet before race day at a location near you. \n*Shirts will be ordered on 3 November 2025. After the event\, if we have any extra shirts – you can exchange sizes and or purchase one\, first come first serve – $15 each. \nGroup Registration- If you have three or mor people in your party\, you can create a group name and pick up all the packets in one fell swoop. We will pull them and put them together under your group name. Note: To be a “group”\, You have to create a group name! Just because you have 10 people\, doesn’t mean you’re a group in our system\, the group name must be attached to everyone. Then\, at Packet Pick up\, go to the Group Pick up station! \nRace Day\nJoin your community for Michiana’s Thanksgiving Tradition – bring your dog\, your friends\, and your family to do something good for others. Fresh air and exercise help you earn your second slice of pie! \nGo directly to your starting corral by 8:00am on race day. Corrals are based on the event you’re participating in – see below. \n⌚ FIND your corral by 8:00am on race day \nParking\nSharing your giving thanks story in the ride over brings us closer together; friends and loved ones picking each other up and riding in together is the kind of community the Turkey Stampede presented by Adams Remco is all about. \nPlease note parking lots adjacent to your starting corral – plan on parking in one of these lots:\n(interactive parking map – includes corrals\, race routes\, parking\, mile markers\, and start-finish line) \n10k Runners\nFifth Third Bank (400 N Main St\, Elkhart\, IN 46516)\nSalvation Army (300 N Main St\, Elkhart\, IN 46516)\nKeyBank (101 S Main St Fl 2nd\, Elkhart\, IN 46516)\nCentier Bank (100 S Main St\, Elkhart\, IN 46516)\nThe Vine (214 S Main St\, Elkhart\, IN 46516)\nFirst State Bank (200 Nibco Pkwy\, Elkhart\, IN 46516)\n5k Runners\nPublic Parking (200 N Clark Street)\nBrass Elk (333 Nibco Parkway)\n5k Walkers\nINOVA (358 S Elkhart Avenue)\nPrinciple Roofing (521 E Lexington Avenue)\nExclusive Customs (126 S Elkhart Avenue)\n1-Mile Walkers\nPrinciple Roofing (318 S Elkhart Ave\, Elkhart\, IN 46516)\nVolcano Pizza (126 Easy Shopping Pl\, Elkhart\, IN 46516)\nHacienda (186 Easy Shopping Pl\, Elkhart\, IN 46516)\nVictory Construction (150 Easy Shopping Pl\, Elkhart\, IN 46516)\nProgram one of these parking lot addresses into your GPS for race day.\nGo directly to your parking lot\, and go directly to your corral. \n⌚ FIND your corral by 8:00 am on race day \nCorrals\nCorrals are designated starting area for your race group. This helps avoid tripping hazards at the start line and on the course\, and alleviates potential congestion within that first mile. It spreads out runners to make the start as safe and smooth as possible\, and helps avoid confusion on race day. \nFor the best race day experience for everyone\, please follow these instructions! \nWhere each corral area assembles: \n10k runners start at Nibco Parkway\n5k runners assemble at Clark Street\n5k walkers assemble at Pacific Street\n1-Mile walkers assemble near Elkhart Avenue \n⌚ FIND your corral by 8:00am on race day \nRace Day Schedule- subject to adjustment\n6:30am Doors open to Elkhart Health & Aquatics Center for packet pickup\n8:00am Gather in your corral along Jackson\n8:10am 10k lines up in 1st corral on Jackson\n8:10am 5k runners line up in 2nd corral on Jackson\n8:10am 5k walkers line up in 3rd corral on Jackson\n8:10am 1-Mile lines up in 4th corral on Jackson\n8:20am Welcome and Prayer\n8:22am Course Comments and Instructions\n8:30am 10k Starts (Watch Monster Message for race countdown)\n8:34am Turkey Rabbit is released with a 45 second head start\n8:35am 5k Runners (Watch Monster Message for race countdown)\n8:40am 5k Walkers (Watch Monster Message for race countdown)\n8:45am 1-Mile Walk lead by Gobbles the Turkey (Watch Monster Message for race countdown)\nPort-a-johns are available near each starting corral to make it more convenient for you to go directly to your corral and cut down on wait times. \nWater and refreshments will be served at the finish line of the event. \nFinisher medal – everyone receives a finisher medal – medals will be on display for pickup at the finish of the race. \nAwards ceremony – there is no official awards ceremony\, we know people want to leave and get back to their holiday asap. \nWe do offer the coveted turkey awards for the top three overall men and women that finish the 5K and 10K. Come to the wagon up by the timing trailer by the start finish line\, and we will take care of you! \nAdditionally\, we offer $25 cash to the first male and female to “Catch the Turkey! “(Not a real turkey\, Francis Desari is dressed up as a turkey–honor system here- so first female and male to pass him win). \nResults will be on the Monster Message Jumbotron and posted immediately online at Runsignup.com\, EpicRaceTiming.com and later on Stone Soup Promotions. We are continuing the tradition of the coveted gravy boat awards to the top 3 MF in both the 5K and 10K in addition to gift cards and free entries into 2026 race. ⌚ FIND your corral by 8:00am on race day \nGroups\nWe LOVE groups! \nGroups of people – 3 or more – can register all at once.\nCreate a group name.\nOne person can pick up the entire package of bibs/shirts/ etc.\nRegister by Tuesday\, November 18\, 2025 so that we have time to put the group bundles together.\nNOTE: Give your group a name in order for our system to pull your people together. Our system doesn’t recognize you as a group when you just sign up multiple people.\n⌚ FIND your corral by 8:00am on race day \nFAQ\nCostumes – we encourage costumes\, hats\, and celebratory elements at the event.\nStrollers – strollers are allowed on the course. Be aware of those around you.\nPlease start with people at your pace\nDogs – We love dogs! Dogs are allowed on the course\, collars and leash are required.\nPick up after your dog – we all thank you!!\nUp-to-date on their shots\nTrained dogs who are comfortable in crowds (not a puppy training event)\nLead lines need to not impede other runners\nHelp us follow these guidelines so that we can continue to allow dogs at the event\nLet’s have fun!! 🦮🐶
URL:https://www.elkhart.org/event/2025-faith-mission-turkey-stampede-presented-by-adams-remco/
LOCATION:WeImpact\, 240 E Jackson Blvd\, Ste 401\, Elkhart\, IN\, 46516\, United States
CATEGORIES:Member
END:VEVENT
BEGIN:VEVENT
DTSTART;TZID=America/Indiana/Indianapolis:20251128T170000
DTEND;TZID=America/Indiana/Indianapolis:20251130T210000
DTSTAMP:20260422T000145
CREATED:20251106T220000Z
LAST-MODIFIED:20251110T141849Z
UID:42208-1764349200-1764536400@www.elkhart.org
SUMMARY:Gift of Lights
DESCRIPTION:The Gift of Lights is open Fridays\, Saturdays\, 5-9 pm\, and Sundays 5-8 pm\, November 28-December 28. \nVisit the Zoo for this beautiful holiday lights celebration\, a wonderful opportunity to spend time with family and friends. Enjoy twinkling lights\, visit Santa\, sip hot chocolate\, and so much more during The Gift of Lights. \nA full\, seasonal menu of food\, hot drinks\, and adult beverages is available in The Lodge café. Visitors can also ride the Zoo train (weather permitting) and feed the giraffes inside the giraffe barn visitor center. \nEnjoy a wonderland of seasonal activities\, and make memories that will last a lifetime! \nAdmission \nGeneral Admission (adults ages 15+): $14\nGA Child (children ages 3-14): $12\nZoo Member Admission (adults ages 18+): $10\nZoo Member Child (children ages 2-17): $8\nBabies 2 and under: Free
URL:https://www.elkhart.org/event/gift-of-lights/
LOCATION:Potawatomi Zoo\, 500 S Greenlawn Ave\, South Bend\, IN
CATEGORIES:Member
END:VEVENT
END:VCALENDAR