BEGIN:VCALENDAR
VERSION:2.0
PRODID:-//Greater Elkhart Chamber of Commerce - ECPv6.15.7//NONSGML v1.0//EN
CALSCALE:GREGORIAN
METHOD:PUBLISH
X-WR-CALNAME:Greater Elkhart Chamber of Commerce
X-ORIGINAL-URL:https://www.elkhart.org
X-WR-CALDESC:Events for Greater Elkhart Chamber of Commerce
REFRESH-INTERVAL;VALUE=DURATION:PT1H
X-Robots-Tag:noindex
X-PUBLISHED-TTL:PT1H
BEGIN:VTIMEZONE
TZID:America/Indiana/Indianapolis
BEGIN:DAYLIGHT
TZOFFSETFROM:-0500
TZOFFSETTO:-0400
TZNAME:EDT
DTSTART:20210314T070000
END:DAYLIGHT
BEGIN:STANDARD
TZOFFSETFROM:-0400
TZOFFSETTO:-0500
TZNAME:EST
DTSTART:20211107T060000
END:STANDARD
BEGIN:DAYLIGHT
TZOFFSETFROM:-0500
TZOFFSETTO:-0400
TZNAME:EDT
DTSTART:20220313T070000
END:DAYLIGHT
BEGIN:STANDARD
TZOFFSETFROM:-0400
TZOFFSETTO:-0500
TZNAME:EST
DTSTART:20221106T060000
END:STANDARD
BEGIN:DAYLIGHT
TZOFFSETFROM:-0500
TZOFFSETTO:-0400
TZNAME:EDT
DTSTART:20230312T070000
END:DAYLIGHT
BEGIN:STANDARD
TZOFFSETFROM:-0400
TZOFFSETTO:-0500
TZNAME:EST
DTSTART:20231105T060000
END:STANDARD
END:VTIMEZONE
BEGIN:VEVENT
DTSTART;TZID=America/Indiana/Indianapolis:20220401T170000
DTEND;TZID=America/Indiana/Indianapolis:20220401T210000
DTSTAMP:20260424T120026
CREATED:20220316T210000Z
LAST-MODIFIED:20220322T135722Z
UID:22893-1648832400-1648846800@www.elkhart.org
SUMMARY:April First Friday: Spring Into Action
DESCRIPTION:Downtown Goshen springs into action by supporting community charities\, with participating stores selecting their favorite local nonprofits to receive 10 percent of sales throughout the day on Friday. \nShoppers can also learn more about how their purchases benefit the larger community at various locations where charities have been invited to set up.
URL:https://www.elkhart.org/event/april-first-friday-spring-into-action/
LOCATION:Downtown Goshen\, IN\, United States
CATEGORIES:Member
END:VEVENT
BEGIN:VEVENT
DTSTART;TZID=America/Indiana/Indianapolis:20220404T100000
DTEND;TZID=America/Indiana/Indianapolis:20220404T113000
DTSTAMP:20260424T120026
CREATED:20220304T150000Z
LAST-MODIFIED:20220322T135813Z
UID:22667-1649066400-1649071800@www.elkhart.org
SUMMARY:Our Amazing Bodies and How They Work…or Don’t
DESCRIPTION:Did you know that you have bugs in your eyelashes? Do you know how your skin repairs itself? Are heart attacks all the same? How does the body protect itself from outside invasion? These and many other questions will be answered as anatomist Jep Hostetler introduces us to the wonders of the human body. We’ll use informative and instructive visuals and do interactive work as we investigate the five senses and the twelve cranial nerves. Come and wonder as we wander through the body. We know Dr. Hostetler as a humorist and a magician\, and he combines that with his 30 years of teaching human anatomy at The Ohio State University\, College of Medicine. \nApril 4\, 6\, 11\, 13 | 10 – 11:30 a.m. also offered via Zoom
URL:https://www.elkhart.org/event/our-amazing-bodies-and-how-they-workor-dont/
LOCATION:Greencroft Goshen Community Center
CATEGORIES:Member
END:VEVENT
BEGIN:VEVENT
DTSTART;TZID=America/Indiana/Indianapolis:20220405T110000
DTEND;TZID=America/Indiana/Indianapolis:20220405T140000
DTSTAMP:20260424T120026
CREATED:20220317T150000Z
LAST-MODIFIED:20220322T140058Z
UID:22950-1649156400-1649167200@www.elkhart.org
SUMMARY:Elkhart Community Job Fair
DESCRIPTION:Community Job Fair with more than 20 employers to attend and over 400 different positions available.
URL:https://www.elkhart.org/event/elkhart-community-job-fair/
LOCATION:Elkhart Area Career Center (ETI Building)\, 2510 California Road\, Elkhart\, IN\, United States
CATEGORIES:Member
END:VEVENT
BEGIN:VEVENT
DTSTART;TZID=America/Indiana/Indianapolis:20220412T160000
DTEND;TZID=America/Indiana/Indianapolis:20220412T173000
DTSTAMP:20260424T120026
CREATED:20220328T170000Z
LAST-MODIFIED:20220328T174259Z
UID:23069-1649779200-1649784600@www.elkhart.org
SUMMARY:Bird Walks
DESCRIPTION:Whether you’re an avid birder or curious first-timer exploring a new hobby\, Wellfield is an ideal location to walk and easily observe a broad diversity of species\, due to Wellfield’s various themed gardens and habitat types that attract a wide range of wildlife.\nBird Walks are included with Membership or Standard Admission ($10 adults/$5 children ages 3-12). Reciprocal privileges honored for up to the two adults named on your participating garden’s membership card (please register in person at our Visitors Cottage). Please RSVP for upcoming walks (walk-in registrations are accepted).
URL:https://www.elkhart.org/event/bird-walks/2022-04-12/
LOCATION:Wellfield Botanic Gardens\, 1011 North Main Street\, Elkhart\, IN\, 46514\, United States
CATEGORIES:Member
END:VEVENT
BEGIN:VEVENT
DTSTART;TZID=America/Indiana/Indianapolis:20220413T120000
DTEND;TZID=America/Indiana/Indianapolis:20220413T130000
DTSTAMP:20260424T120026
CREATED:20220324T040000Z
LAST-MODIFIED:20220328T132131Z
UID:23019-1649851200-1649854800@www.elkhart.org
SUMMARY:ActionCOACH ONE Delivering Business Promises
DESCRIPTION:Most Business Owners we meet are working 60\, 70\, even 80+ hours a week in their business\, just to be sure to have food on the table for their families and the families of their employees. They have team members who are leaving faster than they can be hired\, and customers are not returning as quickly as you’d like. Planning and financial issues are challenges\, too. Sound familiar?\nYou’re not alone\, and Business Ownership doesn’t have to be this way. You started a business because you knew you could be successful. You can\, and the ActionCOACH team is going to present a simple guide to having that success you’ve always dreamed of.\nIn this LIVE\, INTERACTIVE seminar\, participants will walk away with tools to grow their business right away. The only failure in this webinar is the failure to PARTICIPATE.
URL:https://www.elkhart.org/event/delivering-business-promises/
LOCATION:Greater Elkhart Chamber of Commerce\, 418 S. Main St\, Elkhart\, IN\, 46516\, United States
CATEGORIES:Member
END:VEVENT
BEGIN:VEVENT
DTSTART;TZID=America/Indiana/Indianapolis:20220419T113000
DTEND;TZID=America/Indiana/Indianapolis:20220419T130000
DTSTAMP:20260424T120026
CREATED:20220319T153000Z
LAST-MODIFIED:20220322T140517Z
UID:22276-1650367800-1650373200@www.elkhart.org
SUMMARY:26th Annual REAL Services Age of Excellence Luncheon
DESCRIPTION:REAL Services is celebrating our 26th annual Age of Excellence Luncheon! This Luncheon is an opportunity to honor caregivers\, individuals\, and businesses who dedicate their lives to serve older adults throughout our five-county service area. We are excited to welcome Anne Thompson\, national journalist from NBC\, as our keynote speaker! Tickets are $50.00 per person or you may purchase a table of 8 for $400.00. \nCommunity members are welcome to nominate someone for an award here: https://realservices.formstack.com/forms/2022_age_of_excellence_nomination_2022 \nCompanies are still welcome to sponsor. Contact Madelyn at madelyn@realservices.org to learn more about sponsoring.
URL:https://www.elkhart.org/event/26th-annual-real-services-age-of-excellence-luncheon/
LOCATION:Century Center
CATEGORIES:Member
END:VEVENT
BEGIN:VEVENT
DTSTART;TZID=America/Indiana/Indianapolis:20220421T121500
DTEND;TZID=America/Indiana/Indianapolis:20220421T131500
DTSTAMP:20260424T120026
CREATED:20220331T161500Z
LAST-MODIFIED:20220413T122652Z
UID:23136-1650543300-1650546900@www.elkhart.org
SUMMARY:Noon Time Talk: Recycle\, Repurpose\, Re-imagine
DESCRIPTION:Please join us on Thursday\, April 21\, 2022 for our Noon Time Talk at 12:15 PM. \nDirector Brian Byrn discusses his ideas behind this benchmark exhibit featuring the work of ten living artists along with selections he included from the MMAA permanent collection. \nMasks are required for all gallery talks if you have not been vaccinated. Masks are strongly recommended if you have been vaccinated. Gallery Talks or Noon Time Talks each Thursday will be limited to 50 people on a first-come-first-serve basis. Doors will be locked at 12:15. No admittance to the museum by the public will be allowed until the talk has concluded and the galleries emptied and sterilized.
URL:https://www.elkhart.org/event/noon-time-talk-recycle-repurpose-re-imagine/
LOCATION:Midwest Museum of American Art\, 429 S Main St\, Elkhart\, IN\, 46516\, United States
CATEGORIES:Member
END:VEVENT
BEGIN:VEVENT
DTSTART;TZID=America/Indiana/Indianapolis:20220426T130000
DTEND;TZID=America/Indiana/Indianapolis:20220426T160000
DTSTAMP:20260424T120026
CREATED:20220321T170000Z
LAST-MODIFIED:20220322T140712Z
UID:22668-1650978000-1650988800@www.elkhart.org
SUMMARY:Wildflowers
DESCRIPTION:John and Joann Smith have been identifying\, photographing\, and keeping inventories of native wildflowers in local parks and nature preserves the past 20 years. The first session will be an overview of local wildflowers\, followed by a short hike. The remaining three sessions will be interpretive hikes to local natural areas. The longest hikes will be approximately 1½ hours of slow walking over easy to moderate terrain. Carpools will allow all to participate. John is Professor Emeritus of education at Goshen College\, and Joann is a retired French teacher at West Noble High. \nThis class is limited to 20 participants. \nApril 26 | 1 – 4 p.m. Meet in the Koinonia Room\, College Mennonite Church\nApril 28\, May 3\, 5 | 1 – 4 p.m. Meet at Greencroft Community Center\, south entrance
URL:https://www.elkhart.org/event/wildflowers/
LOCATION:Goshen College\, Union Bldg. 1700 South Main St.\, Goshen\, IN\, United States
CATEGORIES:Member
END:VEVENT
BEGIN:VEVENT
DTSTART;TZID=America/Indiana/Indianapolis:20220428T100000
DTEND;TZID=America/Indiana/Indianapolis:20220428T120000
DTSTAMP:20260424T120026
CREATED:20220321T140000Z
LAST-MODIFIED:20220322T140803Z
UID:22669-1651140000-1651147200@www.elkhart.org
SUMMARY:Awash with Spring!
DESCRIPTION:Experience the joy of watercolor painting in the midst of the glorious colors and forms of Spring! Learn the basics as a beginner or expand your current skills as a more experienced painter. We will focus on color mixing and color relationships\, drawing\, paint application and compositional skills while referencing the work of expert painters. All are welcome. Basic materials are provided. John Blosser is Professor Emeritus of Art at both Goshen and Hesston Colleges. \nClass is limited to 15 participants.\nApril 28\, May 5\, 12 & 19 | 10 a.m. – noon Goshen College Cabin\nSupplies fee is $40.
URL:https://www.elkhart.org/event/awash-with-spring/
LOCATION:Goshen College\, Union Bldg. 1700 South Main St.\, Goshen\, IN\, United States
CATEGORIES:Member
END:VEVENT
BEGIN:VEVENT
DTSTART;TZID=America/Indiana/Indianapolis:20220428T121500
DTEND;TZID=America/Indiana/Indianapolis:20220428T131500
DTSTAMP:20260424T120026
CREATED:20220331T161500Z
LAST-MODIFIED:20220413T122822Z
UID:23137-1651148100-1651151700@www.elkhart.org
SUMMARY:Noon Time Talk: Kathy Zienty\, Goshen\, IN
DESCRIPTION:Please join us on Thursday\, April 28\, 2022 for our Noon Time Talk at 12:15 PM. \nA renowned artist known for her reclaimed wire and metal sculpture. \nMasks are required for all gallery talks if you have not been vaccinated. Masks are strongly recommended if you have been vaccinated. Gallery Talks or Noon Time Talks each Thursday will be limited to 50 people on a first-come-first-serve basis. Doors will be locked at 12:15. No admittance to the museum by the public will be allowed until the talk has concluded and the galleries emptied and sterilized.
URL:https://www.elkhart.org/event/noon-time-talk-kathy-zienty-goshen-in/
LOCATION:Midwest Museum of American Art\, 429 S Main St\, Elkhart\, IN\, 46516\, United States
CATEGORIES:Member
END:VEVENT
BEGIN:VEVENT
DTSTART;TZID=America/Indiana/Indianapolis:20220428T170000
DTEND;TZID=America/Indiana/Indianapolis:20220428T200000
DTSTAMP:20260424T120026
CREATED:20220405T210000Z
LAST-MODIFIED:20220413T122947Z
UID:23166-1651165200-1651176000@www.elkhart.org
SUMMARY:ArtWalk - Art is my Superpower
DESCRIPTION:Art is my Superpower – Superhero Costume Contest\, Comic Book Art Display\, Costumed Characters\, Family Art Project
URL:https://www.elkhart.org/event/artwalk-art-is-my-superpower/
LOCATION:Downtown Elkhart
CATEGORIES:Member
END:VEVENT
BEGIN:VEVENT
DTSTART;TZID=America/Indiana/Indianapolis:20220430T100000
DTEND;TZID=America/Indiana/Indianapolis:20220430T130000
DTSTAMP:20260424T120026
CREATED:20220322T140000Z
LAST-MODIFIED:20220322T144859Z
UID:22713-1651312800-1651323600@www.elkhart.org
SUMMARY:Earth Day
DESCRIPTION:Join us for another free\, family-friendly Earth Day celebration!\nCome enjoy:\nFREE NATIVE TREE Giveaway\nSpring Seeds & Starters Exchange\nNative Tree Planting Activity\nLIVE FISH DEMO at City Aquatics Booth\nKids Activities\n…and more!\nFind more information at www.elkhartindiana.org/EarthDay\, email EECMail@coei.org or call 574-293-5070\nLocated at 1717 E. Lusher Ave. in Elkhart!\nTo volunteer for the event\, sign up here: https://signup.com/go/OKLcMTJ\nVolunteers get first pick of trees (limit one per household; must pick up before event) and lunch and snacks provided.
URL:https://www.elkhart.org/event/earth-day/
LOCATION:Elkhart Environmental Center\, 1717 E Lusher Ave\, Elkhart\, IN\, United States
CATEGORIES:Member
END:VEVENT
END:VCALENDAR