BEGIN:VCALENDAR
VERSION:2.0
PRODID:-//Greater Elkhart Chamber of Commerce - ECPv6.15.7//NONSGML v1.0//EN
CALSCALE:GREGORIAN
METHOD:PUBLISH
X-ORIGINAL-URL:https://www.elkhart.org
X-WR-CALDESC:Events for Greater Elkhart Chamber of Commerce
REFRESH-INTERVAL;VALUE=DURATION:PT1H
X-Robots-Tag:noindex
X-PUBLISHED-TTL:PT1H
BEGIN:VTIMEZONE
TZID:America/Indiana/Indianapolis
BEGIN:DAYLIGHT
TZOFFSETFROM:-0500
TZOFFSETTO:-0400
TZNAME:EDT
DTSTART:20250309T070000
END:DAYLIGHT
BEGIN:STANDARD
TZOFFSETFROM:-0400
TZOFFSETTO:-0500
TZNAME:EST
DTSTART:20251102T060000
END:STANDARD
BEGIN:DAYLIGHT
TZOFFSETFROM:-0500
TZOFFSETTO:-0400
TZNAME:EDT
DTSTART:20260308T070000
END:DAYLIGHT
BEGIN:STANDARD
TZOFFSETFROM:-0400
TZOFFSETTO:-0500
TZNAME:EST
DTSTART:20261101T060000
END:STANDARD
BEGIN:DAYLIGHT
TZOFFSETFROM:-0500
TZOFFSETTO:-0400
TZNAME:EDT
DTSTART:20270314T070000
END:DAYLIGHT
BEGIN:STANDARD
TZOFFSETFROM:-0400
TZOFFSETTO:-0500
TZNAME:EST
DTSTART:20271107T060000
END:STANDARD
END:VTIMEZONE
BEGIN:VEVENT
DTSTART;TZID=America/Indiana/Indianapolis:20260917T113000
DTEND;TZID=America/Indiana/Indianapolis:20260917T130000
DTSTAMP:20260425T103907
CREATED:20260224T184631Z
LAST-MODIFIED:20260224T185345Z
UID:44229-1789644600-1789650000@www.elkhart.org
SUMMARY:Women's Council Luncheon - Boss Women
DESCRIPTION:Panelists: Hayley Boling\, Boling Vision Center; Ashley Martin\, NIBCO; and Melanie Birky\, Coaching with Melanie \nPresenting Sponsor \n \nEvent Sponsors\n     \nRegistration Deadline is September 14. All cancellations must be received four (4) days prior to the event for a full refund.\nTo reserve tickets\, you must either click on the + sign or enter a quantity before clicking “Get Tickets”. \nPlease list any dietary restrictions in the notes section of your registration
URL:https://www.elkhart.org/event/womens-council-luncheon-9-17-26/
LOCATION:Ivy Tech Community College\, 22531 CR 18\, Goshen\, IN\, United States
CATEGORIES:Chamber,Featured
END:VEVENT
END:VCALENDAR