BEGIN:VCALENDAR
VERSION:2.0
PRODID:-//Greater Elkhart Chamber of Commerce - ECPv6.15.7//NONSGML v1.0//EN
CALSCALE:GREGORIAN
METHOD:PUBLISH
X-WR-CALNAME:Greater Elkhart Chamber of Commerce
X-ORIGINAL-URL:https://www.elkhart.org
X-WR-CALDESC:Events for Greater Elkhart Chamber of Commerce
REFRESH-INTERVAL;VALUE=DURATION:PT1H
X-Robots-Tag:noindex
X-PUBLISHED-TTL:PT1H
BEGIN:VTIMEZONE
TZID:UTC
BEGIN:STANDARD
TZOFFSETFROM:+0000
TZOFFSETTO:+0000
TZNAME:UTC
DTSTART:20220101T000000
END:STANDARD
END:VTIMEZONE
BEGIN:VTIMEZONE
TZID:America/Indiana/Indianapolis
BEGIN:DAYLIGHT
TZOFFSETFROM:-0500
TZOFFSETTO:-0400
TZNAME:EDT
DTSTART:20220313T070000
END:DAYLIGHT
BEGIN:STANDARD
TZOFFSETFROM:-0400
TZOFFSETTO:-0500
TZNAME:EST
DTSTART:20221106T060000
END:STANDARD
BEGIN:DAYLIGHT
TZOFFSETFROM:-0500
TZOFFSETTO:-0400
TZNAME:EDT
DTSTART:20230312T070000
END:DAYLIGHT
BEGIN:STANDARD
TZOFFSETFROM:-0400
TZOFFSETTO:-0500
TZNAME:EST
DTSTART:20231105T060000
END:STANDARD
BEGIN:DAYLIGHT
TZOFFSETFROM:-0500
TZOFFSETTO:-0400
TZNAME:EDT
DTSTART:20240310T070000
END:DAYLIGHT
BEGIN:STANDARD
TZOFFSETFROM:-0400
TZOFFSETTO:-0500
TZNAME:EST
DTSTART:20241103T060000
END:STANDARD
END:VTIMEZONE
BEGIN:VEVENT
DTSTART;TZID=UTC:20230920T073000
DTEND;TZID=UTC:20230920T090000
DTSTAMP:20260419T152810
CREATED:20230803T130745Z
LAST-MODIFIED:20230803T131231Z
UID:29186-1695195000-1695200400@www.elkhart.org
SUMMARY:OSHA Council Breakfast - Building Effective Safety Committees
DESCRIPTION:Transforming Your Safety Committee To An Active Safety Team \nSafety Committees are an essential part of any safety program but are often a challenge to develop and sustain. When used effectively\, Safety Committees are integral to providing input on numerous health and safety objectives and opportunities in your facility. During this presentation\, we will look at traditional safety committees and how they operate\, pitfalls that are experienced\, and methods to improve employee involvement.  Fundamentally\, we will discuss how to move from the typical conference room “committee meeting” and structure to an active\, engaged Safety Team! \nSpeaker: Jason Demeter\, CIH\, CSP\, VP of Safety Services\, Industrial Safety and Environmental Services \nBreakfast begins at 7:30 am; Program begins at 8 am \n\n\n\n\nAnnual Sponsors:\n\n \n\n\n\n\n\n\n\n\n\n  \nThis event is open to all Greater Elkhart Chamber Members. Cancellations must be received at least 4 days prior to the meeting. Registration Deadline is Friday\, September 15 at noon.\nTo reserve tickets\, you must either click on the + sign or enter a quantity before clicking “Get Tickets”
URL:https://www.elkhart.org/event/osha-council-breakfast-building-effective-safety-committees/
LOCATION:Matterhorn Conference Center\, 2041 Cassopolis St\, Elkhart\, IN\, 46516\, United States
CATEGORIES:Chamber,Featured
END:VEVENT
BEGIN:VEVENT
DTSTART;TZID=America/Indiana/Indianapolis:20230921T083000
DTEND;TZID=America/Indiana/Indianapolis:20230921T123000
DTSTAMP:20260419T152810
CREATED:20230905T170515Z
LAST-MODIFIED:20231003T210819Z
UID:29655-1695285000-1695299400@www.elkhart.org
SUMMARY:Front Line Leadership Training Series 2023
DESCRIPTION:Front Line Leadership Training Series \nThe Front-Line Leader Workshops are geared for managers\, supervisors and group leaders.  The sessions are highly interactive\, taking participants through foundational leadership skills while introducing them to higher level continuous improvement tools and leadership practices. \nThe series of workshops build upon each other and address performance management\, problem solving\, leadership communication\, change leadership\, conflict management and motivation of employees.  Participants will also complete an Everything DiSC Catalyst Workplace Profile assessment to gain understanding on how their workplace style can best interact and positively impact their team and peers. \nThe Facilitators\, Bil Murray and Merritt Dilts\, have deep practical leadership and continuous improvement knowledge and a variety of industry experience. \nThe first session “What is Front Line Leadership and how to Strive for Excellence” kicks off on September 21\, 2023. \nYou can attend the whole series (recommended) or choose those topics most pertinent to your needs. \nWorkshop Schedule and Topics: \nSession   Date    Topic\n1         9/21     What is Front Line Leadership and how to Strive for Excellence\n2         9/27     The Communication of Leaders\n3         10/12   Embracing Your Leadership Style (Everything DiSC Workplace Assessment)\n4         10/17   Performance Management\n5         10/26   Leading Continuous Improvements\n6         11/2     Problem Solving for Leaders\n7         11/7     How to Build Strong Teams\n8         11/29   Success through Team Work\n9         12/5     Leading Through Change\n10        12/12   Putting it All Together \nCost: The full series of 10 Workshops is $1\,400 ($1\,350 for Greater Elkhart Chamber Members). \nIndividual Courses are $150 ($140 with the Chamber Member Discount). \nThe workshop price includes the cost for the Everything DiSC Catalyst Workplace Profile Assessment. \nThere are also potential scholarships opportunities for Non-Profit Organizations. For information on scholarships\, please email mdilts@elkhart.org. \nTimes: 8:30 AM to 12:30 PM except on 10/12 and 10/17; these sessions will run 10 AM until 2 PM and will include lunch. \nLocation: Nearly all sessions will be held at the Greater Elkhart Chamber of Commerce\, 418 S Main St\, Elkhart.  Some may be held in other locations near downtown Elkhart.  Locations will be confirmed prior to each session. \nCancellations must be received 4 days prior to the first workshop. To reserve tickets\, you must either click on the + sign or enter a quantity before clicking “Get Tickets”
URL:https://www.elkhart.org/event/front-line-leadership-training-series-2023-2/
LOCATION:Greater Elkhart Chamber of Commerce\, 418 S. Main St\, Elkhart\, IN\, 46516\, United States
CATEGORIES:Chamber,Featured
END:VEVENT
BEGIN:VEVENT
DTSTART;TZID=UTC:20230921T113000
DTEND;TZID=UTC:20230921T130000
DTSTAMP:20260419T152810
CREATED:20230725T155112Z
LAST-MODIFIED:20230920T173003Z
UID:29092-1695295800-1695301200@www.elkhart.org
SUMMARY:Styling for Success - Women's Council Luncheon
DESCRIPTION:“You Never Get a Second Chance to Make a Good First Impression”\nPreparation\, wardrobing\, presentation\, and posture/body language are just a few topics that will be covered in this very entertaining\, informative\, and motivating presentation! \nPresenter: Kendra Cross\,National Sales Director\, Mary Kay Inc. \n  \nSponsored by\n \nAll cancellations must be received four (4) days prior to the event for a full refund.\nTo reserve tickets\, you must either click on the + sign or enter a quantity before clicking “Get Tickets”. \nPlease list any dietary restrictions in the notes section of your registration
URL:https://www.elkhart.org/event/styling-for-success-womens-council-luncheon/
LOCATION:Hubbard Hill Living Wisdom Center\, 28070 CR 24\, Elkhart\, IN\, United States
CATEGORIES:Chamber,Featured
END:VEVENT
END:VCALENDAR