BEGIN:VCALENDAR
VERSION:2.0
PRODID:-//Greater Elkhart Chamber of Commerce - ECPv6.15.7//NONSGML v1.0//EN
CALSCALE:GREGORIAN
METHOD:PUBLISH
X-ORIGINAL-URL:https://www.elkhart.org
X-WR-CALDESC:Events for Greater Elkhart Chamber of Commerce
REFRESH-INTERVAL;VALUE=DURATION:PT1H
X-Robots-Tag:noindex
X-PUBLISHED-TTL:PT1H
BEGIN:VTIMEZONE
TZID:America/Indiana/Indianapolis
BEGIN:DAYLIGHT
TZOFFSETFROM:-0500
TZOFFSETTO:-0400
TZNAME:EDT
DTSTART:20250309T070000
END:DAYLIGHT
BEGIN:STANDARD
TZOFFSETFROM:-0400
TZOFFSETTO:-0500
TZNAME:EST
DTSTART:20251102T060000
END:STANDARD
BEGIN:DAYLIGHT
TZOFFSETFROM:-0500
TZOFFSETTO:-0400
TZNAME:EDT
DTSTART:20260308T070000
END:DAYLIGHT
BEGIN:STANDARD
TZOFFSETFROM:-0400
TZOFFSETTO:-0500
TZNAME:EST
DTSTART:20261101T060000
END:STANDARD
BEGIN:DAYLIGHT
TZOFFSETFROM:-0500
TZOFFSETTO:-0400
TZNAME:EDT
DTSTART:20270314T070000
END:DAYLIGHT
BEGIN:STANDARD
TZOFFSETFROM:-0400
TZOFFSETTO:-0500
TZNAME:EST
DTSTART:20271107T060000
END:STANDARD
END:VTIMEZONE
BEGIN:VEVENT
DTSTART;TZID=America/Indiana/Indianapolis:20260820T080000
DTEND;TZID=America/Indiana/Indianapolis:20260820T120000
DTSTAMP:20260423T035222
CREATED:20260224T183859Z
LAST-MODIFIED:20260224T183859Z
UID:44226-1787212800-1787227200@www.elkhart.org
SUMMARY:Women’s Council Planning Retreat 2026
DESCRIPTION:Be part of the planning and help make things happen! Come share your ideas/topics for planning the 2027 calendar. \n8 – 8:30 a.m. – Welcome and Continental Breakfast\n8:30 a.m. to 12 p.m. – Planning Session and Box Lunch \nContact kcardwell@elkhart.org for retreat details. Registration is required (limited space) \nPresenting Sponsor \n \nRegistration Deadline is August 17 All cancellations must be received four (4) days prior to the event for a full refund.\nTo reserve tickets\, you must either click on the + sign or enter a quantity before clicking “Get Tickets”. \nPlease list any dietary restrictions in the notes section of your registration
URL:https://www.elkhart.org/event/womens-council-planning-retreat-2026/
LOCATION:Ancon Construction Corporate Office\, 2121 West Wilden Avenue\, Goshen\, United States
CATEGORIES:Chamber,Featured
END:VEVENT
END:VCALENDAR