BEGIN:VCALENDAR
VERSION:2.0
PRODID:-//Greater Elkhart Chamber of Commerce - ECPv6.15.7//NONSGML v1.0//EN
CALSCALE:GREGORIAN
METHOD:PUBLISH
X-WR-CALNAME:Greater Elkhart Chamber of Commerce
X-ORIGINAL-URL:https://www.elkhart.org
X-WR-CALDESC:Events for Greater Elkhart Chamber of Commerce
REFRESH-INTERVAL;VALUE=DURATION:PT1H
X-Robots-Tag:noindex
X-PUBLISHED-TTL:PT1H
BEGIN:VTIMEZONE
TZID:America/Indiana/Indianapolis
BEGIN:DAYLIGHT
TZOFFSETFROM:-0500
TZOFFSETTO:-0400
TZNAME:EDT
DTSTART:20250309T070000
END:DAYLIGHT
BEGIN:STANDARD
TZOFFSETFROM:-0400
TZOFFSETTO:-0500
TZNAME:EST
DTSTART:20251102T060000
END:STANDARD
BEGIN:DAYLIGHT
TZOFFSETFROM:-0500
TZOFFSETTO:-0400
TZNAME:EDT
DTSTART:20260308T070000
END:DAYLIGHT
BEGIN:STANDARD
TZOFFSETFROM:-0400
TZOFFSETTO:-0500
TZNAME:EST
DTSTART:20261101T060000
END:STANDARD
BEGIN:DAYLIGHT
TZOFFSETFROM:-0500
TZOFFSETTO:-0400
TZNAME:EDT
DTSTART:20270314T070000
END:DAYLIGHT
BEGIN:STANDARD
TZOFFSETFROM:-0400
TZOFFSETTO:-0500
TZNAME:EST
DTSTART:20271107T060000
END:STANDARD
END:VTIMEZONE
BEGIN:VEVENT
DTSTART;TZID=America/Indiana/Indianapolis:20260622T083000
DTEND;TZID=America/Indiana/Indianapolis:20260622T190000
DTSTAMP:20260423T001300
CREATED:20250624T141047Z
LAST-MODIFIED:20260420T192733Z
UID:40245-1782117000-1782154800@www.elkhart.org
SUMMARY:Golf Outing 2026
DESCRIPTION:Save the date! Join us at beautiful Elcona Country Club for Elkhart County’s premier golf outing! \nFoursomes will go on sale Wednesday\, April 1 at 8 am. \nAM Tee Time: 8:30 am SOLD OUT! To be placed on the waiting list\, please call 574-293-1531\nPM Tee Time: 2:15 pm \nHole Sponsorships available. \nPresenting Sponsor: \n \nTo purchase a foursome or hole sponsorship\, your company/organization must be a current member of the Greater Elkhart Chamber of Commerce.
URL:https://www.elkhart.org/event/golf-outing-2026/
LOCATION:Elcona Country Club\, 56784 Co Rd 21\, Bristol\, IN\, 46507\, United States
CATEGORIES:Chamber,Featured
END:VEVENT
END:VCALENDAR