BEGIN:VCALENDAR
VERSION:2.0
PRODID:-//Greater Elkhart Chamber of Commerce - ECPv6.15.7//NONSGML v1.0//EN
CALSCALE:GREGORIAN
METHOD:PUBLISH
X-WR-CALNAME:Greater Elkhart Chamber of Commerce
X-ORIGINAL-URL:https://www.elkhart.org
X-WR-CALDESC:Events for Greater Elkhart Chamber of Commerce
REFRESH-INTERVAL;VALUE=DURATION:PT1H
X-Robots-Tag:noindex
X-PUBLISHED-TTL:PT1H
BEGIN:VTIMEZONE
TZID:America/Indiana/Indianapolis
BEGIN:DAYLIGHT
TZOFFSETFROM:-0500
TZOFFSETTO:-0400
TZNAME:EDT
DTSTART:20250309T070000
END:DAYLIGHT
BEGIN:STANDARD
TZOFFSETFROM:-0400
TZOFFSETTO:-0500
TZNAME:EST
DTSTART:20251102T060000
END:STANDARD
BEGIN:DAYLIGHT
TZOFFSETFROM:-0500
TZOFFSETTO:-0400
TZNAME:EDT
DTSTART:20260308T070000
END:DAYLIGHT
BEGIN:STANDARD
TZOFFSETFROM:-0400
TZOFFSETTO:-0500
TZNAME:EST
DTSTART:20261101T060000
END:STANDARD
BEGIN:DAYLIGHT
TZOFFSETFROM:-0500
TZOFFSETTO:-0400
TZNAME:EDT
DTSTART:20270314T070000
END:DAYLIGHT
BEGIN:STANDARD
TZOFFSETFROM:-0400
TZOFFSETTO:-0500
TZNAME:EST
DTSTART:20271107T060000
END:STANDARD
END:VTIMEZONE
BEGIN:VEVENT
DTSTART;TZID=America/Indiana/Indianapolis:20260521T113000
DTEND;TZID=America/Indiana/Indianapolis:20260521T130000
DTSTAMP:20260424T071335
CREATED:20260224T181320Z
LAST-MODIFIED:20260310T173933Z
UID:44223-1779363000-1779368400@www.elkhart.org
SUMMARY:Women's Council Luncheon - Communicate with Courage
DESCRIPTION:Presenter: Michelle Gladieux\, Gladieux Consulting \nThe first 50 registrants will receive a copy of the presenter’s book: “Communicate with Courage.” \nJoin us to overcome obstacles that hold you back from your potential as a communicator. When we become braver and more skilled at communication\, we make a more positive difference in our own and others’ lives – at work and at home. \nIn this keynote based on Michelle’s award-winning book “Communicate with Courage: Taking Risks to Overcome the Four Hidden Challenges”\, we’ll learn to more fully connect with others\, and love and challenge ourselves more fully as we overcome \n\nHiding—Fear of exposing our actual or supposed weaknesses\nDefining—Putting too much stock into our assumptions\nRationalizing—Using “being realistic” to shield us from scary but rewarding actions\nSettling—Stopping at “good enough” instead of something better in everyday interactions\n\nPresenting Sponsor \n \nEvent Sponsor\n \nRegistration Deadline is May 18. All cancellations must be received four (4) days prior to the event for a full refund.\nTo reserve tickets\, you must either click on the + sign or enter a quantity before clicking “Get Tickets”. \nPlease list any dietary restrictions in the notes section of your registration
URL:https://www.elkhart.org/event/womens-council-luncheon-communicate-with-courage/
LOCATION:Ivy Tech Community College\, 22531 CR 18\, Goshen\, IN\, United States
CATEGORIES:Chamber,Featured
END:VEVENT
END:VCALENDAR