BEGIN:VCALENDAR
VERSION:2.0
PRODID:-//Greater Elkhart Chamber of Commerce - ECPv6.15.7//NONSGML v1.0//EN
CALSCALE:GREGORIAN
METHOD:PUBLISH
X-WR-CALNAME:Greater Elkhart Chamber of Commerce
X-ORIGINAL-URL:https://www.elkhart.org
X-WR-CALDESC:Events for Greater Elkhart Chamber of Commerce
REFRESH-INTERVAL;VALUE=DURATION:PT1H
X-Robots-Tag:noindex
X-PUBLISHED-TTL:PT1H
BEGIN:VTIMEZONE
TZID:America/Indiana/Indianapolis
BEGIN:DAYLIGHT
TZOFFSETFROM:-0500
TZOFFSETTO:-0400
TZNAME:EDT
DTSTART:20240310T070000
END:DAYLIGHT
BEGIN:STANDARD
TZOFFSETFROM:-0400
TZOFFSETTO:-0500
TZNAME:EST
DTSTART:20241103T060000
END:STANDARD
BEGIN:DAYLIGHT
TZOFFSETFROM:-0500
TZOFFSETTO:-0400
TZNAME:EDT
DTSTART:20250309T070000
END:DAYLIGHT
BEGIN:STANDARD
TZOFFSETFROM:-0400
TZOFFSETTO:-0500
TZNAME:EST
DTSTART:20251102T060000
END:STANDARD
BEGIN:DAYLIGHT
TZOFFSETFROM:-0500
TZOFFSETTO:-0400
TZNAME:EDT
DTSTART:20260308T070000
END:DAYLIGHT
BEGIN:STANDARD
TZOFFSETFROM:-0400
TZOFFSETTO:-0500
TZNAME:EST
DTSTART:20261101T060000
END:STANDARD
END:VTIMEZONE
BEGIN:VEVENT
DTSTART;TZID=America/Indiana/Indianapolis:20251124T173000
DTEND;TZID=America/Indiana/Indianapolis:20251124T200000
DTSTAMP:20260424T210438
CREATED:20251110T142346Z
LAST-MODIFIED:20251110T142346Z
UID:42642-1764005400-1764014400@www.elkhart.org
SUMMARY:Member Celebration - The Lenox
DESCRIPTION:Please join us to celebrate a Ribbon Cutting at The Lenox! The ribbon cutting will take place at 5:30p at 101 North Main in Elkhart. Immediately following the ribbon cutting\, there will be an open house with passing appetizers from one of their in-house caterers\, beer\, wine and guided tours of the event space. The open house will conclude at 8pm. \nStep into a realm of timeless elegance where every corner exudes grace and refinement. The Lenox boasts versatile spaces that can be tailored to suit a variety of events\, whether an intimate gathering\, a grand celebration\, or a corporate affair. Their professional and experienced team is dedicated to an all-inclusive event\, ensuring every detail is executed flawlessly\, leaving you free to savor the celebration. \nLenoxevents.com
URL:https://www.elkhart.org/event/member-celebration-the-lenox/
LOCATION:The Lenox\, 101 N Main St\, Elkhart\, IN
CATEGORIES:Chamber
END:VEVENT
END:VCALENDAR