BEGIN:VCALENDAR
VERSION:2.0
PRODID:-//Greater Elkhart Chamber of Commerce - ECPv6.15.7//NONSGML v1.0//EN
CALSCALE:GREGORIAN
METHOD:PUBLISH
X-WR-CALNAME:Greater Elkhart Chamber of Commerce
X-ORIGINAL-URL:https://www.elkhart.org
X-WR-CALDESC:Events for Greater Elkhart Chamber of Commerce
REFRESH-INTERVAL;VALUE=DURATION:PT1H
X-Robots-Tag:noindex
X-PUBLISHED-TTL:PT1H
BEGIN:VTIMEZONE
TZID:America/Indiana/Indianapolis
BEGIN:DAYLIGHT
TZOFFSETFROM:-0500
TZOFFSETTO:-0400
TZNAME:EDT
DTSTART:20240310T070000
END:DAYLIGHT
BEGIN:STANDARD
TZOFFSETFROM:-0400
TZOFFSETTO:-0500
TZNAME:EST
DTSTART:20241103T060000
END:STANDARD
BEGIN:DAYLIGHT
TZOFFSETFROM:-0500
TZOFFSETTO:-0400
TZNAME:EDT
DTSTART:20250309T070000
END:DAYLIGHT
BEGIN:STANDARD
TZOFFSETFROM:-0400
TZOFFSETTO:-0500
TZNAME:EST
DTSTART:20251102T060000
END:STANDARD
BEGIN:DAYLIGHT
TZOFFSETFROM:-0500
TZOFFSETTO:-0400
TZNAME:EDT
DTSTART:20260308T070000
END:DAYLIGHT
BEGIN:STANDARD
TZOFFSETFROM:-0400
TZOFFSETTO:-0500
TZNAME:EST
DTSTART:20261101T060000
END:STANDARD
END:VTIMEZONE
BEGIN:VEVENT
DTSTART;TZID=America/Indiana/Indianapolis:20251015T073000
DTEND;TZID=America/Indiana/Indianapolis:20251015T090000
DTSTAMP:20260419T085620
CREATED:20250715T160627Z
LAST-MODIFIED:20250918T164609Z
UID:40446-1760513400-1760518800@www.elkhart.org
SUMMARY:OSHA Breakfast - Introduction to Industrial Hygiene
DESCRIPTION:More details to come! \nWednesday\, October 15 at 7:30 am at the Matterhorn Conference Center. Breakfast begins at 7:30 am; Program begins at 8 am \nPre-registration is required. \n \nThis event is open to all Greater Elkhart Chamber Members. Cancellations must be received at least 4 days prior to the meeting. Registration Deadline is Friday\, October 10 at noon. \nTo reserve tickets\, you must either click on the + sign or enter a quantity before clicking “Get Tickets
URL:https://www.elkhart.org/event/osha-breakfast-10-15-2025/
LOCATION:Matterhorn Conference Center\, 2041 Cassopolis St\, Elkhart\, IN\, 46516\, United States
CATEGORIES:Chamber,Featured
END:VEVENT
BEGIN:VEVENT
DTSTART;TZID=America/Indiana/Indianapolis:20251017T113000
DTEND;TZID=America/Indiana/Indianapolis:20251017T173000
DTSTAMP:20260419T085620
CREATED:20250811T134045Z
LAST-MODIFIED:20251014T125313Z
UID:40803-1760700600-1760722200@www.elkhart.org
SUMMARY:Wine Taste and Tour 2025
DESCRIPTION:Join us for a great day including a box lunch on bus\, goodie bag\, door prizes and wine tastings! This year we will be at Solasta Winery in Sawyer\, MI & Dablon Vineyards & Winery in Baroda\, MI \nHosted by the Women’s Council \n \n  \nBus departs from Greater Elkhart Chamber – PROMPTLY at 11:45 a.m.\n \nSome 24hr public parking is available across the street from the Chamber and there is parking behind the Chamber in the public lot next to IUSB parking lot and the garage behind Hotel Elkhart. \nLimited seating available. All cancellations must be received four (4) days prior to the event for a full refund.\nTo reserve tickets\, you must either click on the + sign or enter a quantity before clicking “Get Tickets”
URL:https://www.elkhart.org/event/wine-taste-and-tour-2025/
LOCATION:Solasta Winery in Sawyer\, MI & Dablon Vineyards & Winery in Baroda\, MI\, MI
CATEGORIES:Chamber,Featured
END:VEVENT
END:VCALENDAR