BEGIN:VCALENDAR
VERSION:2.0
PRODID:-//Greater Elkhart Chamber of Commerce - ECPv6.15.7//NONSGML v1.0//EN
CALSCALE:GREGORIAN
METHOD:PUBLISH
X-ORIGINAL-URL:https://www.elkhart.org
X-WR-CALDESC:Events for Greater Elkhart Chamber of Commerce
REFRESH-INTERVAL;VALUE=DURATION:PT1H
X-Robots-Tag:noindex
X-PUBLISHED-TTL:PT1H
BEGIN:VTIMEZONE
TZID:America/Indiana/Indianapolis
BEGIN:DAYLIGHT
TZOFFSETFROM:-0500
TZOFFSETTO:-0400
TZNAME:EDT
DTSTART:20240310T070000
END:DAYLIGHT
BEGIN:STANDARD
TZOFFSETFROM:-0400
TZOFFSETTO:-0500
TZNAME:EST
DTSTART:20241103T060000
END:STANDARD
BEGIN:DAYLIGHT
TZOFFSETFROM:-0500
TZOFFSETTO:-0400
TZNAME:EDT
DTSTART:20250309T070000
END:DAYLIGHT
BEGIN:STANDARD
TZOFFSETFROM:-0400
TZOFFSETTO:-0500
TZNAME:EST
DTSTART:20251102T060000
END:STANDARD
BEGIN:DAYLIGHT
TZOFFSETFROM:-0500
TZOFFSETTO:-0400
TZNAME:EDT
DTSTART:20260308T070000
END:DAYLIGHT
BEGIN:STANDARD
TZOFFSETFROM:-0400
TZOFFSETTO:-0500
TZNAME:EST
DTSTART:20261101T060000
END:STANDARD
END:VTIMEZONE
BEGIN:VEVENT
DTSTART;TZID=America/Indiana/Indianapolis:20250502T083000
DTEND;TZID=America/Indiana/Indianapolis:20250502T093000
DTSTAMP:20260419T114410
CREATED:20250108T192354Z
LAST-MODIFIED:20250108T192503Z
UID:37219-1746174600-1746178200@www.elkhart.org
SUMMARY:New Member Welcome 5-2-25
DESCRIPTION:Welcome\, New Members! At this morning event you will learn more about your Chamber\, connect with people\, and enjoy breakfast in the Board Room at the Greater Elkhart Chamber\, 418 S. Main St. \nFree to attend\, but please register. See you at 8:30! \nPresenting Sponsor: \n \nTo reserve tickets\, you must either click on the + sign or enter a quantity before clicking “Get Tickets”
URL:https://www.elkhart.org/event/new-member-welcome-5-2-25/
LOCATION:Greater Elkhart Chamber of Commerce\, 418 S. Main St\, Elkhart\, IN\, 46516\, United States
CATEGORIES:Chamber,Featured
END:VEVENT
BEGIN:VEVENT
DTSTART;TZID=America/Indiana/Indianapolis:20250503T120000
DTEND;TZID=America/Indiana/Indianapolis:20250503T220000
DTSTAMP:20260419T114410
CREATED:20250429T212215Z
LAST-MODIFIED:20250429T212215Z
UID:39575-1746273600-1746309600@www.elkhart.org
SUMMARY:Elkhart’s Cinco de Mayo Festival Ribbon Cutting
DESCRIPTION:Elkhart’s Cinco de Mayo Festival is collaborating with the Greater Elkhart Chamber of Commerce to kick festivities off with a ribbon cutting! The ribbon cutting will take place on Saturday May 3 at noon and will be held at Elkhart Civic Plaza (101 E High St\, Elkhart). The festival will start immediately following the ribbon cutting and will be held until 10pm that night. There will be food\, vendors\, presentations\, crafts\, live music\, live dancers and more! Please come and join for an event celebrating our beautiful community!
URL:https://www.elkhart.org/event/elkharts-cinco-de-mayo-festival-ribbon-cutting/
LOCATION:Civic Plaza\, Downtown Elkhart
CATEGORIES:Chamber
END:VEVENT
END:VCALENDAR