BEGIN:VCALENDAR
VERSION:2.0
PRODID:-//Greater Elkhart Chamber of Commerce - ECPv6.15.7//NONSGML v1.0//EN
CALSCALE:GREGORIAN
METHOD:PUBLISH
X-ORIGINAL-URL:https://www.elkhart.org
X-WR-CALDESC:Events for Greater Elkhart Chamber of Commerce
REFRESH-INTERVAL;VALUE=DURATION:PT1H
X-Robots-Tag:noindex
X-PUBLISHED-TTL:PT1H
BEGIN:VTIMEZONE
TZID:America/Indiana/Indianapolis
BEGIN:DAYLIGHT
TZOFFSETFROM:-0500
TZOFFSETTO:-0400
TZNAME:EDT
DTSTART:20240310T070000
END:DAYLIGHT
BEGIN:STANDARD
TZOFFSETFROM:-0400
TZOFFSETTO:-0500
TZNAME:EST
DTSTART:20241103T060000
END:STANDARD
BEGIN:DAYLIGHT
TZOFFSETFROM:-0500
TZOFFSETTO:-0400
TZNAME:EDT
DTSTART:20250309T070000
END:DAYLIGHT
BEGIN:STANDARD
TZOFFSETFROM:-0400
TZOFFSETTO:-0500
TZNAME:EST
DTSTART:20251102T060000
END:STANDARD
BEGIN:DAYLIGHT
TZOFFSETFROM:-0500
TZOFFSETTO:-0400
TZNAME:EDT
DTSTART:20260308T070000
END:DAYLIGHT
BEGIN:STANDARD
TZOFFSETFROM:-0400
TZOFFSETTO:-0500
TZNAME:EST
DTSTART:20261101T060000
END:STANDARD
END:VTIMEZONE
BEGIN:VTIMEZONE
TZID:UTC
BEGIN:STANDARD
TZOFFSETFROM:+0000
TZOFFSETTO:+0000
TZNAME:UTC
DTSTART:20240101T000000
END:STANDARD
END:VTIMEZONE
BEGIN:VEVENT
DTSTART;TZID=America/Indiana/Indianapolis:20250326T103000
DTEND;TZID=America/Indiana/Indianapolis:20250326T104500
DTSTAMP:20260425T115527
CREATED:20250318T123902Z
LAST-MODIFIED:20250318T123902Z
UID:38674-1742985000-1742985900@www.elkhart.org
SUMMARY:Member Celebration - Afuri Ramen and Boba Tea Grand Opening
DESCRIPTION:Afuri Ramen and Boba Tea is celebrating their Grand Opening!  The ribbon cutting will happen at 10:30a and the restaurant will open for lunch following the ceremony.
URL:https://www.elkhart.org/event/member-celebration-afuri-ramen-and-boba-tea-grand-opening/
LOCATION:Afuri Ramen and Boba Tea\, 129 S Main St\, Elkhart\, United States
CATEGORIES:Chamber
END:VEVENT
BEGIN:VEVENT
DTSTART;TZID=UTC:20250327T113000
DTEND;TZID=UTC:20250327T130000
DTSTAMP:20260425T115527
CREATED:20250108T155056Z
LAST-MODIFIED:20250314T192212Z
UID:37185-1743075000-1743080400@www.elkhart.org
SUMMARY:YP Lunch with the Mayor
DESCRIPTION:Join us at Hotel Elkhart on Thursday\, March 27 for our annual Lunch with the Mayor hosted by the Young Professionals Council. Elkhart’s Mayor Rod Roberson will speak on the highlights from 2024\, give an overview of the ASPIRE plan\, and a preview of 2025 projects. After the presentation\, Mayor Rod will take questions from the audience. \nPresenting Sponsors: \n       \nEvent Sponsors: \n \nRegistration Deadline is March 20. All cancellations must be received four (4) days prior to the event for a full refund.\nTo reserve tickets\, you must either click on the + sign or enter a quantity before clicking “Get Tickets”.\nPlease list any dietary restrictions in the notes section of your registration
URL:https://www.elkhart.org/event/yp-lunch-3-27-25/
LOCATION:The Aria Ballroom at Hotel Elkhart\, 500 S Main St\, Elkhart\, 46516\, United States
CATEGORIES:Chamber,Featured
END:VEVENT
BEGIN:VEVENT
DTSTART;TZID=UTC:20250328T120000
DTEND;TZID=UTC:20250328T133000
DTSTAMP:20260425T115527
CREATED:20241203T193124Z
LAST-MODIFIED:20250224T213408Z
UID:36776-1743163200-1743168600@www.elkhart.org
SUMMARY:Third House Meeting – 3/28/25
DESCRIPTION:Discuss issues affecting you\, business\, and industry with State Legislators at the Third House Meeting on Friday\, March 28 from 12 – 1:30 pm. \nHear updates from legislators about the agenda of the current legislative session and where those items are in the process. Following updates\, the floor is open for your questions. Engaging with our elected officials ensures that the voices of Elkhart County are being echoed in the Statehouse during legislative sessions. Third House Meetings give legislators and residents of the community a chance to communicate in an open forum. \nAdvocacy on behalf of members is at the core of the work the Chamber does daily. Being able to host our state lawmakers so they can meet face-to-face with constituents is a privilege. \nIndiana legislators invited to the Third House Meetings include Rep. David Abbott\, Rep. Joanna King\, Rep. Doug Miller\, Rep. Timothy Wesco\, Sen. Blake Doriot\, and Sen. Linda Rogers. \nThese meetings are free to attend\, in-person or virtual. To reserve tickets\, you must either click on the + sign or enter a quantity before clicking “Get Tickets” \nZoom link: https://us02web.zoom.us/j/89986952243?pwd=Kk5l352F0XaWyoBGyf6DdXuMybpQXD.1\nMeeting ID: 899 8695 2243     Passcode: 634243 \nThird House Meetings are sponsored by
URL:https://www.elkhart.org/event/third-house-meeting-3-28-25/
LOCATION:Greater Elkhart Chamber of Commerce\, 418 S. Main St\, Elkhart\, IN\, 46516\, United States
CATEGORIES:Chamber,Featured
END:VEVENT
END:VCALENDAR