BEGIN:VCALENDAR
VERSION:2.0
PRODID:-//Greater Elkhart Chamber of Commerce - ECPv6.15.7//NONSGML v1.0//EN
CALSCALE:GREGORIAN
METHOD:PUBLISH
X-ORIGINAL-URL:https://www.elkhart.org
X-WR-CALDESC:Events for Greater Elkhart Chamber of Commerce
REFRESH-INTERVAL;VALUE=DURATION:PT1H
X-Robots-Tag:noindex
X-PUBLISHED-TTL:PT1H
BEGIN:VTIMEZONE
TZID:UTC
BEGIN:STANDARD
TZOFFSETFROM:+0000
TZOFFSETTO:+0000
TZNAME:UTC
DTSTART:20220101T000000
END:STANDARD
END:VTIMEZONE
BEGIN:VEVENT
DTSTART;TZID=UTC:20230912T170000
DTEND;TZID=UTC:20230912T190000
DTSTAMP:20260425T071424
CREATED:20230712T122757Z
LAST-MODIFIED:20230717T190107Z
UID:28937-1694538000-1694545200@www.elkhart.org
SUMMARY:After Hours hosted by Elkhart County Board of Realtors
DESCRIPTION:Save the date for After Hours hosted by the Elkhart County Board of Realtors (ECBOR) presented by the Greater Elkhart and Goshen Chambers of Commerce.  Come together to celebrate the work of the ECBOR and connect! \nEnjoy light bites\, refreshments\, and great company. Drop in your business card for prize drawings. \nAfter Hours at Elkhart County Board of Realtors on Tuesday\, September 12 from 5 – 7 p.m. at 57225 Alpha Drive\, Goshen. \nFree to attend\, but please register. To reserve tickets\, you must either click on the + sign or enter a quantity before clicking “Get Tickets”
URL:https://www.elkhart.org/event/after-hours-hosted-by-elkhart-county-board-of-realtors/
LOCATION:Elkhart County Board of Realtors\, 57225 Alpha Drive\, Goshen\, IN\, United States
CATEGORIES:Chamber,Featured
END:VEVENT
BEGIN:VEVENT
DTSTART;TZID=UTC:20230914T080000
DTEND;TZID=UTC:20230914T093000
DTSTAMP:20260425T071424
CREATED:20230725T151941Z
LAST-MODIFIED:20230725T151941Z
UID:29086-1694678400-1694683800@www.elkhart.org
SUMMARY:Breakfast with the Superintendents 2023
DESCRIPTION:Updates on our local schools featuring Mark Mow\, Elkhart Community Schools; Byron Sanders\, Baugo Community Schools; and Dan Funston\, Concord Community Schools \nHosted by the Education/Career Development Council. \nAll cancellations must be received four (4) days prior to the event for a full refund.\nTo reserve tickets\, you must either click on the + sign or enter a quantity before clicking “Get Tickets”
URL:https://www.elkhart.org/event/breakfast-with-the-superintendents-2023/
LOCATION:Matterhorn Conference Center\, 2041 Cassopolis St\, Elkhart\, IN\, 46516\, United States
CATEGORIES:Chamber,Featured
END:VEVENT
BEGIN:VEVENT
DTSTART;TZID=UTC:20230915T110000
DTEND;TZID=UTC:20230915T110000
DTSTAMP:20260425T071424
CREATED:20230905T122044Z
LAST-MODIFIED:20230905T122044Z
UID:29649-1694775600-1694775600@www.elkhart.org
SUMMARY:Member Celebration - All Things Snacks
DESCRIPTION:The Greater Elkhart Chamber of Commerce will host a ribbon cutting ceremony on Friday\, September 15 at 11:00 a.m. to celebrate the grand opening of All Things Snacks\, located at 524 S. Main St\, Elkhart!
URL:https://www.elkhart.org/event/member-celebration-all-things-snacks/
LOCATION:All Things Snacks\, 524 S Main St\, Elkhart
CATEGORIES:Chamber
END:VEVENT
END:VCALENDAR